Back to Multiple platform build/check report for BioC 3.15
AB[C]DEFGHIJKLMNOPQRSTUVWXYZ

This page was generated on 2022-05-16 11:05:57 -0400 (Mon, 16 May 2022).

HostnameOSArch (*)R versionInstalled pkgs
nebbiolo1Linux (Ubuntu 20.04.4 LTS)x86_644.2.0 (2022-04-22) -- "Vigorous Calisthenics" 4379
palomino3Windows Server 2022 Datacenterx644.2.0 (2022-04-22 ucrt) -- "Vigorous Calisthenics" 4153
merida1macOS 10.14.6 Mojavex86_644.2.0 (2022-04-22) -- "Vigorous Calisthenics" 4220
Click on any hostname to see more info about the system (e.g. compilers)      (*) as reported by 'uname -p', except on Windows and Mac OS X

CHECK results for ChIPseqR on palomino3


To the developers/maintainers of the ChIPseqR package:
- Please allow up to 24 hours (and sometimes 48 hours) for your latest push to git@git.bioconductor.org:packages/ChIPseqR.git to
reflect on this report. See How and When does the builder pull? When will my changes propagate? for more information.
- Make sure to use the following settings in order to reproduce any error or warning you see on this page.

raw results

Package 314/2140HostnameOS / ArchINSTALLBUILDCHECKBUILD BIN
ChIPseqR 1.50.0  (landing page)
Peter Humburg
Snapshot Date: 2022-05-15 13:55:12 -0400 (Sun, 15 May 2022)
git_url: https://git.bioconductor.org/packages/ChIPseqR
git_branch: RELEASE_3_15
git_last_commit: fed1a68
git_last_commit_date: 2022-04-26 11:03:49 -0400 (Tue, 26 Apr 2022)
nebbiolo1Linux (Ubuntu 20.04.4 LTS) / x86_64  OK    OK    OK  UNNEEDED, same version is already published
palomino3Windows Server 2022 Datacenter / x64  OK    OK    OK    OK  UNNEEDED, same version is already published
merida1macOS 10.14.6 Mojave / x86_64  OK    OK    OK    OK  UNNEEDED, same version is already published

Summary

Package: ChIPseqR
Version: 1.50.0
Command: F:\biocbuild\bbs-3.15-bioc\R\bin\R.exe CMD check --no-multiarch --install=check:ChIPseqR.install-out.txt --library=F:\biocbuild\bbs-3.15-bioc\R\library --no-vignettes --timings ChIPseqR_1.50.0.tar.gz
StartedAt: 2022-05-15 22:29:21 -0400 (Sun, 15 May 2022)
EndedAt: 2022-05-15 22:33:18 -0400 (Sun, 15 May 2022)
EllapsedTime: 237.0 seconds
RetCode: 0
Status:   OK  
CheckDir: ChIPseqR.Rcheck
Warnings: 0

Command output

##############################################################################
##############################################################################
###
### Running command:
###
###   F:\biocbuild\bbs-3.15-bioc\R\bin\R.exe CMD check --no-multiarch --install=check:ChIPseqR.install-out.txt --library=F:\biocbuild\bbs-3.15-bioc\R\library --no-vignettes --timings ChIPseqR_1.50.0.tar.gz
###
##############################################################################
##############################################################################


* using log directory 'F:/biocbuild/bbs-3.15-bioc/meat/ChIPseqR.Rcheck'
* using R version 4.2.0 (2022-04-22 ucrt)
* using platform: x86_64-w64-mingw32 (64-bit)
* using session charset: UTF-8
* using option '--no-vignettes'
* checking for file 'ChIPseqR/DESCRIPTION' ... OK
* checking extension type ... Package
* this is package 'ChIPseqR' version '1.50.0'
* checking package namespace information ... OK
* checking package dependencies ... OK
* checking if this is a source package ... OK
* checking if there is a namespace ... OK
* checking for hidden files and directories ... OK
* checking for portable file names ... OK
* checking whether package 'ChIPseqR' can be installed ... OK
* checking installed package size ... OK
* checking package directory ... OK
* checking 'build' directory ... OK
* checking DESCRIPTION meta-information ... OK
* checking top-level files ... OK
* checking for left-over files ... OK
* checking index information ... OK
* checking package subdirectories ... OK
* checking R files for non-ASCII characters ... OK
* checking R files for syntax errors ... OK
* checking whether the package can be loaded ... OK
* checking whether the package can be loaded with stated dependencies ... OK
* checking whether the package can be unloaded cleanly ... OK
* checking whether the namespace can be loaded with stated dependencies ... OK
* checking whether the namespace can be unloaded cleanly ... OK
* checking dependencies in R code ... OK
* checking S3 generic/method consistency ... OK
* checking replacement functions ... OK
* checking foreign function calls ... OK
* checking R code for possible problems ... NOTE
.fixCounts: no visible global function definition for 'runLength'
.fixCounts: no visible global function definition for 'runValue'
getBindLen: no visible global function definition for 'window'
pickPeak: no visible global function definition for 'start'
pickPeak: no visible global function definition for 'runLength'
pickPeak : <anonymous>: no visible global function definition for
  'window'
[[,BindScore-ANY-numeric: no visible global function definition for
  'window'
decompress,Rle: no visible global function definition for 'runValue'
decompress,RleList : <anonymous>: no visible global function definition
  for 'runValue'
initialize,RLEBindScore : <anonymous>: no visible global function
  definition for 'Rle'
initialize,RLEBindScore : <anonymous>: no visible global function
  definition for 'runValue'
initialize,RLEBindScore : <anonymous>: no visible global function
  definition for 'runValue<-'
plot,RLEReadCounts-missing : <anonymous>: no visible global function
  definition for 'window'
Undefined global functions or variables:
  Rle runLength runValue runValue<- start window
Consider adding
  importFrom("stats", "start", "window")
to your NAMESPACE file.
* checking Rd files ... OK
* checking Rd metadata ... OK
* checking Rd cross-references ... OK
* checking for missing documentation entries ... OK
* checking for code/documentation mismatches ... OK
* checking Rd \usage sections ... OK
* checking Rd contents ... OK
* checking for unstated dependencies in examples ... OK
* checking line endings in C/C++/Fortran sources/headers ... OK
* checking compiled code ... NOTE
Note: information on .o files for x64 is not available
File 'F:/biocbuild/bbs-3.15-bioc/R/library/ChIPseqR/libs/x64/ChIPseqR.dll':
  Found 'abort', possibly from 'abort' (C), 'runtime' (Fortran)

Compiled code should not call entry points which might terminate R nor
write to stdout/stderr instead of to the console, nor use Fortran I/O
nor system RNGs. The detected symbols are linked into the code but
might come from libraries and not actually be called.

See 'Writing portable packages' in the 'Writing R Extensions' manual.
* checking sizes of PDF files under 'inst/doc' ... OK
* checking files in 'vignettes' ... OK
* checking examples ... OK
Examples with CPU (user + system) or elapsed time > 5s
                   user system elapsed
alignFeature       9.04   1.00   10.05
BindScore          6.91   0.10    7.00
RLEBindScore-class 6.09   0.15    6.25
callBindingSites   5.71   0.10    5.79
simpleNucCall      4.87   0.17    5.05
* checking for unstated dependencies in vignettes ... OK
* checking package vignettes in 'inst/doc' ... OK
* checking running R code from vignettes ... SKIPPED
* checking re-building of vignette outputs ... SKIPPED
* checking PDF version of manual ... OK
* DONE

Status: 2 NOTEs
See
  'F:/biocbuild/bbs-3.15-bioc/meat/ChIPseqR.Rcheck/00check.log'
for details.



Installation output

ChIPseqR.Rcheck/00install.out

##############################################################################
##############################################################################
###
### Running command:
###
###   F:\biocbuild\bbs-3.15-bioc\R\bin\R.exe CMD INSTALL ChIPseqR
###
##############################################################################
##############################################################################


* installing to library 'F:/biocbuild/bbs-3.15-bioc/R/library'
* installing *source* package 'ChIPseqR' ...
** using staged installation
** libs
gcc  -I"F:/biocbuild/bbs-3.15-bioc/R/include" -DNDEBUG     -I"C:/rtools42/x86_64-w64-mingw32.static.posix/include"     -O2 -Wall  -std=gnu99 -mfpmath=sse -msse2 -mstackrealign  -c startScore.c -o startScore.o
startScore.c: In function '_ratioStat_pois':
startScore.c:66:15: warning: unused variable 'tmp_stat' [-Wunused-variable]
   66 |  double stat, tmp_stat;
      |               ^~~~~~~~
gcc -shared -s -static-libgcc -o ChIPseqR.dll tmp.def startScore.o -LC:/rtools42/x86_64-w64-mingw32.static.posix/lib/x64 -LC:/rtools42/x86_64-w64-mingw32.static.posix/lib -LF:/biocbuild/bbs-3.15-bioc/R/bin/x64 -lR
installing to F:/biocbuild/bbs-3.15-bioc/R/library/00LOCK-ChIPseqR/00new/ChIPseqR/libs/x64
** R
** inst
** byte-compile and prepare package for lazy loading
** help
*** installing help indices
** building package indices
** installing vignettes
** testing if installed package can be loaded from temporary location
** testing if installed package can be loaded from final location
** testing if installed package keeps a record of temporary installation path
* DONE (ChIPseqR)

Tests output


Example timings

ChIPseqR.Rcheck/ChIPseqR-Ex.timings

nameusersystemelapsed
BindScore6.910.107.00
ChIPseqR-package000
RLEBindScore-class6.090.156.25
RLEReadCounts-class0.030.000.03
ReadCounts0.050.000.05
alignFeature 9.04 1.0010.05
callBindingSites5.710.105.79
pos2gff000
simpleNucCall4.870.175.05
strandPileup0.020.000.02
windowCounts0.150.000.15