Back to Multiple platform build/check report for BioC 3.15
AB[C]DEFGHIJKLMNOPQRSTUVWXYZ

This page was generated on 2022-05-23 12:07:38 -0400 (Mon, 23 May 2022).

HostnameOSArch (*)R versionInstalled pkgs
nebbiolo1Linux (Ubuntu 20.04.4 LTS)x86_644.2.0 (2022-04-22) -- "Vigorous Calisthenics" 4380
palomino3Windows Server 2022 Datacenterx644.2.0 (2022-04-22 ucrt) -- "Vigorous Calisthenics" 4155
merida1macOS 10.14.6 Mojavex86_644.2.0 (2022-04-22) -- "Vigorous Calisthenics" 4221
Click on any hostname to see more info about the system (e.g. compilers)      (*) as reported by 'uname -p', except on Windows and Mac OS X

BUILD BIN results for compartmap on merida1


To the developers/maintainers of the compartmap package:
- Please allow up to 24 hours (and sometimes 48 hours) for your latest push to git@git.bioconductor.org:packages/compartmap.git to
reflect on this report. See How and When does the builder pull? When will my changes propagate? for more information.
- Make sure to use the following settings in order to reproduce any error or warning you see on this page.

raw results

Package 388/2140HostnameOS / ArchINSTALLBUILDCHECKBUILD BIN
compartmap 1.14.0  (landing page)
Benjamin Johnson
Snapshot Date: 2022-05-22 13:55:15 -0400 (Sun, 22 May 2022)
git_url: https://git.bioconductor.org/packages/compartmap
git_branch: RELEASE_3_15
git_last_commit: e33c33b
git_last_commit_date: 2022-04-26 11:52:08 -0400 (Tue, 26 Apr 2022)
nebbiolo1Linux (Ubuntu 20.04.4 LTS) / x86_64  OK    OK    OK  UNNEEDED, same version is already published
palomino3Windows Server 2022 Datacenter / x64  OK    OK    OK    OK  UNNEEDED, same version is already published
merida1macOS 10.14.6 Mojave / x86_64  OK    OK    OK    OK  UNNEEDED, same version is already published

Summary

Package: compartmap
Version: 1.14.0
Command: rm -rf compartmap.buildbin-libdir && mkdir compartmap.buildbin-libdir && /Users/biocbuild/BBS/utils/build-universal.sh compartmap_1.14.0.tar.gz /Library/Frameworks/R.framework/Resources/bin/R compartmap.buildbin-libdir
StartedAt: 2022-05-23 09:56:26 -0400 (Mon, 23 May 2022)
EndedAt: 2022-05-23 09:57:28 -0400 (Mon, 23 May 2022)
EllapsedTime: 62.0 seconds
RetCode: 0
Status:   OK  
PackageFile: compartmap_1.14.0.tgz
PackageFileSize: 3.833 MiB

Command output

##############################################################################
##############################################################################
###
### Running command:
###
###   rm -rf compartmap.buildbin-libdir && mkdir compartmap.buildbin-libdir && /Users/biocbuild/BBS/utils/build-universal.sh compartmap_1.14.0.tar.gz /Library/Frameworks/R.framework/Resources/bin/R compartmap.buildbin-libdir
###
##############################################################################
##############################################################################


>>>>>>> 
>>>>>>> INSTALLATION WITH 'R CMD INSTALL --preclean --no-multiarch --library=compartmap.buildbin-libdir compartmap_1.14.0.tar.gz'
>>>>>>> 

* installing *source* package ‘compartmap’ ...
** using staged installation
** R
** data
** inst
** byte-compile and prepare package for lazy loading
** help
*** installing help indices
*** copying figures
** building package indices
** installing vignettes
** testing if installed package can be loaded from temporary location
** testing if installed package can be loaded from final location
** testing if installed package keeps a record of temporary installation path
* DONE (compartmap)