Back to Multiple platform build/check report for BioC 3.15
ABCDEFGHIJKL[M]NOPQRSTUVWXYZ

This page was generated on 2022-08-03 13:21:51 -0400 (Wed, 03 Aug 2022).

HostnameOSArch (*)R versionInstalled pkgs
nebbiolo1Linux (Ubuntu 20.04.4 LTS)x86_644.2.1 (2022-06-23) -- "Funny-Looking Kid" 4361
palomino3Windows Server 2022 Datacenterx644.2.1 (2022-06-23 ucrt) -- "Funny-Looking Kid" 4114
merida1macOS 10.14.6 Mojavex86_644.2.1 (2022-06-23) -- "Funny-Looking Kid" 4179
Click on any hostname to see more info about the system (e.g. compilers)      (*) as reported by 'uname -p', except on Windows and Mac OS X

CHECK results for maser on palomino3


To the developers/maintainers of the maser package:
- Please allow up to 24 hours (and sometimes 48 hours) for your latest push to git@git.bioconductor.org:packages/maser.git to
reflect on this report. See How and When does the builder pull? When will my changes propagate? for more information.
- Make sure to use the following settings in order to reproduce any error or warning you see on this page.

raw results

Package 1076/2140HostnameOS / ArchINSTALLBUILDCHECKBUILD BIN
maser 1.14.0  (landing page)
Diogo F.T. Veiga
Snapshot Date: 2022-08-02 13:55:13 -0400 (Tue, 02 Aug 2022)
git_url: https://git.bioconductor.org/packages/maser
git_branch: RELEASE_3_15
git_last_commit: c6e1d3b
git_last_commit_date: 2022-04-26 11:49:25 -0400 (Tue, 26 Apr 2022)
nebbiolo1Linux (Ubuntu 20.04.4 LTS) / x86_64  OK    OK    OK  UNNEEDED, same version is already published
palomino3Windows Server 2022 Datacenter / x64  OK    OK    OK    OK  UNNEEDED, same version is already published
merida1macOS 10.14.6 Mojave / x86_64  OK    OK    OK    OK  UNNEEDED, same version is already published

Summary

Package: maser
Version: 1.14.0
Command: F:\biocbuild\bbs-3.15-bioc\R\bin\R.exe CMD check --no-multiarch --install=check:maser.install-out.txt --library=F:\biocbuild\bbs-3.15-bioc\R\library --no-vignettes --timings maser_1.14.0.tar.gz
StartedAt: 2022-08-03 02:38:14 -0400 (Wed, 03 Aug 2022)
EndedAt: 2022-08-03 02:44:23 -0400 (Wed, 03 Aug 2022)
EllapsedTime: 368.9 seconds
RetCode: 0
Status:   OK  
CheckDir: maser.Rcheck
Warnings: 0

Command output

##############################################################################
##############################################################################
###
### Running command:
###
###   F:\biocbuild\bbs-3.15-bioc\R\bin\R.exe CMD check --no-multiarch --install=check:maser.install-out.txt --library=F:\biocbuild\bbs-3.15-bioc\R\library --no-vignettes --timings maser_1.14.0.tar.gz
###
##############################################################################
##############################################################################


* using log directory 'F:/biocbuild/bbs-3.15-bioc/meat/maser.Rcheck'
* using R version 4.2.1 (2022-06-23 ucrt)
* using platform: x86_64-w64-mingw32 (64-bit)
* using session charset: UTF-8
* using option '--no-vignettes'
* checking for file 'maser/DESCRIPTION' ... OK
* checking extension type ... Package
* this is package 'maser' version '1.14.0'
* package encoding: UTF-8
* checking package namespace information ... OK
* checking package dependencies ... OK
* checking if this is a source package ... OK
* checking if there is a namespace ... OK
* checking for hidden files and directories ... OK
* checking for portable file names ... OK
* checking whether package 'maser' can be installed ... OK
* checking installed package size ... OK
* checking package directory ... OK
* checking 'build' directory ... OK
* checking DESCRIPTION meta-information ... OK
* checking top-level files ... OK
* checking for left-over files ... OK
* checking index information ... OK
* checking package subdirectories ... OK
* checking R files for non-ASCII characters ... OK
* checking R files for syntax errors ... OK
* checking whether the package can be loaded ... OK
* checking whether the package can be loaded with stated dependencies ... OK
* checking whether the package can be unloaded cleanly ... OK
* checking whether the namespace can be loaded with stated dependencies ... OK
* checking whether the namespace can be unloaded cleanly ... OK
* checking dependencies in R code ... OK
* checking S3 generic/method consistency ... OK
* checking replacement functions ... OK
* checking foreign function calls ... OK
* checking R code for possible problems ... NOTE
availableFeaturesUniprotKB: no visible global function definition for
  'read.csv'
availableFeaturesUniprotKB: no visible binding for global variable
  'Category'
availableFeaturesUniprotKB: no visible binding for global variable
  'Name'
filterByIds: no visible binding for global variable 'ID'
mapTranscriptsA3SSevent: no visible global function definition for
  'subjectHits'
mapTranscriptsA5SSevent: no visible global function definition for
  'subjectHits'
mapTranscriptsMXEevent: no visible global function definition for
  'subjectHits'
mapTranscriptsRIevent: no visible global function definition for
  'subjectHits'
mapTranscriptsSEevent: no visible global function definition for
  'subjectHits'
overlappingFeatures: no visible global function definition for
  'subjectHits'
urlTracksUniprotKB: no visible global function definition for
  'read.csv'
Undefined global functions or variables:
  Category ID Name read.csv subjectHits
Consider adding
  importFrom("utils", "read.csv")
to your NAMESPACE file.
* checking Rd files ... OK
* checking Rd metadata ... OK
* checking Rd cross-references ... OK
* checking for missing documentation entries ... OK
* checking for code/documentation mismatches ... OK
* checking Rd \usage sections ... OK
* checking Rd contents ... OK
* checking for unstated dependencies in examples ... OK
* checking R/sysdata.rda ... OK
* checking files in 'vignettes' ... OK
* checking examples ... OK
Examples with CPU (user + system) or elapsed time > 5s
                           user system elapsed
plotTranscripts            8.45   0.04    8.50
plotUniprotKBFeatures      6.38   0.10    6.74
mapProteinFeaturesToEvents 5.63   0.11    6.11
* checking for unstated dependencies in vignettes ... OK
* checking package vignettes in 'inst/doc' ... OK
* checking running R code from vignettes ... SKIPPED
* checking re-building of vignette outputs ... SKIPPED
* checking PDF version of manual ... OK
* DONE

Status: 1 NOTE
See
  'F:/biocbuild/bbs-3.15-bioc/meat/maser.Rcheck/00check.log'
for details.



Installation output

maser.Rcheck/00install.out

##############################################################################
##############################################################################
###
### Running command:
###
###   F:\biocbuild\bbs-3.15-bioc\R\bin\R.exe CMD INSTALL maser
###
##############################################################################
##############################################################################


* installing to library 'F:/biocbuild/bbs-3.15-bioc/R/library'
* installing *source* package 'maser' ...
** using staged installation
** R
** inst
** byte-compile and prepare package for lazy loading
** help
*** installing help indices
** building package indices
** installing vignettes
** testing if installed package can be loaded from temporary location
** testing if installed package can be loaded from final location
** testing if installed package keeps a record of temporary installation path
* DONE (maser)

Tests output


Example timings

maser.Rcheck/maser-Ex.timings

nameusersystemelapsed
PSI-Maser-character-method0.940.041.54
PSI0.620.010.65
annotation-Maser-method0.800.050.84
availableFeaturesUniprotKB0.040.010.16
boxplot_PSI_levels3.110.053.16
counts-Maser-method0.780.060.85
display2.130.152.78
dotplot1.170.001.17
filterByCoverage0.840.040.87
filterByEventId0.970.010.99
geneEvents1.220.021.23
granges-Maser-method0.920.030.96
mapProteinFeaturesToEvents5.630.116.11
mapTranscriptsToEvents2.370.032.42
maser0.670.030.70
pca1.150.001.14
plotGenePSI1.840.021.86
plotTranscripts8.450.048.50
plotUniprotKBFeatures6.380.106.74
splicingDistribution1.330.011.34
summary-Maser-method101
topEvents1.230.001.23
volcano1.550.051.60