Back to Build/check report for BioC 3.15
ABCDEF[G]HIJKLMNOPQRSTUVWXYZ

This page was generated on 2022-06-27 11:09:41 -0400 (Mon, 27 Jun 2022).

HostnameOSArch (*)R versionInstalled pkgs
nebbiolo1Linux (Ubuntu 20.04.4 LTS)x86_644.2.0 (2022-04-22) -- "Vigorous Calisthenics" 4380
Click on any hostname to see more info about the system (e.g. compilers)      (*) as reported by 'uname -p', except on Windows and Mac OS X

All results for package Gviz


To the developers/maintainers of the Gviz package:
- Please allow up to 24 hours (and sometimes 48 hours) for your latest push to git@git.bioconductor.org:packages/Gviz.git to
reflect on this report. See How and When does the builder pull? When will my changes propagate? for more information.
- Make sure to use the following settings in order to reproduce any error or warning you see on this page.

raw results

Package 868/2140HostnameOS / ArchINSTALLBUILDCHECKBUILD BIN
Gviz 1.40.1  (landing page)
Robert Ivanek
Snapshot Date: 2022-06-26 13:55:11 -0400 (Sun, 26 Jun 2022)
git_url: https://git.bioconductor.org/packages/Gviz
git_branch: RELEASE_3_15
git_last_commit: d218437
git_last_commit_date: 2022-05-03 13:45:39 -0400 (Tue, 03 May 2022)
nebbiolo1Linux (Ubuntu 20.04.4 LTS) / x86_64  OK    OK    OK  UNNEEDED, same version is already published

Results for Bioconductor software packages that depend directly on package Gviz

QUICK STATSOS / ArchINSTALLBUILDCHECKBUILD BIN
nebbiolo1Linux (Ubuntu 20.04.4 LTS) / x86_64
0036
0036
00828
Package 1/36HostnameOS / ArchINSTALLBUILDCHECKBUILD BIN
AllelicImbalance 1.34.0  (landing page)
Jesper R Gadin
git_last_commit: 290708c
git_last_commit_date: 2022-04-26 11:16:30 -0400
nebbiolo1Linux (Ubuntu 20.04.4 LTS) / x86_64  OK    OK    OK  UNNEEDED, same version is already published
Package 2/36HostnameOS / ArchINSTALLBUILDCHECKBUILD BIN
ASpediaFI 1.10.0  (landing page)
Doyeong Yu
git_last_commit: d50ff1c
git_last_commit_date: 2022-04-26 12:00:28 -0400
nebbiolo1Linux (Ubuntu 20.04.4 LTS) / x86_64  OK    OK    OK  UNNEEDED, same version is already published
Package 3/36HostnameOS / ArchINSTALLBUILDCHECKBUILD BIN
ASpli 2.6.0  (landing page)
Estefania Mancini
git_last_commit: 4e2d897
git_last_commit_date: 2022-04-26 11:34:17 -0400
nebbiolo1Linux (Ubuntu 20.04.4 LTS) / x86_64  OK    OK    OK  UNNEEDED, same version is already published
Package 4/36HostnameOS / ArchINSTALLBUILDCHECKBUILD BIN
biomvRCNS 1.36.0  (landing page)
Yang Du
git_last_commit: 0e9de50
git_last_commit_date: 2022-04-26 11:13:39 -0400
nebbiolo1Linux (Ubuntu 20.04.4 LTS) / x86_64  OK    OK    OK  UNNEEDED, same version is already published
Package 5/36HostnameOS / ArchINSTALLBUILDCHECKBUILD BIN
CAGEfightR 1.16.0  (landing page)
Malte Thodberg
git_last_commit: 86ba129
git_last_commit_date: 2022-04-26 11:49:10 -0400
nebbiolo1Linux (Ubuntu 20.04.4 LTS) / x86_64  OK    OK    OK  UNNEEDED, same version is already published
Package 6/36HostnameOS / ArchINSTALLBUILDCHECKBUILD BIN
chimeraviz 1.22.0  (landing page)
Stian Lågstad
git_last_commit: 6426ef0
git_last_commit_date: 2022-04-26 11:37:53 -0400
nebbiolo1Linux (Ubuntu 20.04.4 LTS) / x86_64  OK    OK    OK  UNNEEDED, same version is already published
Package 7/36HostnameOS / ArchINSTALLBUILDCHECKBUILD BIN
cicero 1.14.0  (landing page)
Hannah Pliner
git_last_commit: 40708f7
git_last_commit_date: 2022-04-26 11:51:19 -0400
nebbiolo1Linux (Ubuntu 20.04.4 LTS) / x86_64  OK    OK    OK  UNNEEDED, same version is already published
Package 8/36HostnameOS / ArchINSTALLBUILDCHECKBUILD BIN
comapr 1.0.0  (landing page)
Ruqian Lyu
git_last_commit: 5a6fa5e
git_last_commit_date: 2022-04-26 12:20:40 -0400
nebbiolo1Linux (Ubuntu 20.04.4 LTS) / x86_64  OK    OK    OK  UNNEEDED, same version is already published
Package 9/36HostnameOS / ArchINSTALLBUILDCHECKBUILD BIN
coMET 1.28.0  (landing page)
Tiphaine Martin
git_last_commit: ea0bb8d
git_last_commit_date: 2022-04-26 11:23:19 -0400
nebbiolo1Linux (Ubuntu 20.04.4 LTS) / x86_64  OK    OK    OK  UNNEEDED, same version is already published
Package 10/36HostnameOS / ArchINSTALLBUILDCHECKBUILD BIN
cummeRbund 2.38.0  (landing page)
Loyal A. Goff
git_last_commit: 4e6044b
git_last_commit_date: 2022-04-26 11:09:10 -0400
nebbiolo1Linux (Ubuntu 20.04.4 LTS) / x86_64  OK    OK    WARNINGS  UNNEEDED, same version is already published
Package 11/36HostnameOS / ArchINSTALLBUILDCHECKBUILD BIN
DMRcate 2.10.0  (landing page)
Tim Peters
git_last_commit: 81e8370
git_last_commit_date: 2022-04-26 11:18:02 -0400
nebbiolo1Linux (Ubuntu 20.04.4 LTS) / x86_64  OK    OK    OK  UNNEEDED, same version is already published
Package 12/36HostnameOS / ArchINSTALLBUILDCHECKBUILD BIN
DMRforPairs 1.32.0  (landing page)
Martin Rijlaarsdam
git_last_commit: 4033198
git_last_commit_date: 2022-04-26 11:19:22 -0400
nebbiolo1Linux (Ubuntu 20.04.4 LTS) / x86_64  OK    OK    OK  UNNEEDED, same version is already published
Package 13/36HostnameOS / ArchINSTALLBUILDCHECKBUILD BIN
ELMER 2.20.0  (landing page)
Tiago Chedraoui Silva
git_last_commit: 414ba02
git_last_commit_date: 2022-04-26 11:25:44 -0400
nebbiolo1Linux (Ubuntu 20.04.4 LTS) / x86_64  OK    OK    WARNINGS  UNNEEDED, same version is already published
Package 14/36HostnameOS / ArchINSTALLBUILDCHECKBUILD BIN
extraChIPs 1.0.1  (landing page)
Stephen Pederson
git_last_commit: aef4dfe
git_last_commit_date: 2022-05-31 11:22:39 -0400
nebbiolo1Linux (Ubuntu 20.04.4 LTS) / x86_64  OK    OK    OK  UNNEEDED, same version is already published
Package 15/36HostnameOS / ArchINSTALLBUILDCHECKBUILD BIN
GeneStructureTools 1.16.0  (landing page)
Beth Signal
git_last_commit: 25bbb44
git_last_commit_date: 2022-04-26 11:47:45 -0400
nebbiolo1Linux (Ubuntu 20.04.4 LTS) / x86_64  OK    OK    OK  UNNEEDED, same version is already published
Package 16/36HostnameOS / ArchINSTALLBUILDCHECKBUILD BIN
GenomicInteractions 1.30.0  (landing page)
Liz Ing-Simmons
git_last_commit: cc79eb1
git_last_commit_date: 2022-04-26 11:21:41 -0400
nebbiolo1Linux (Ubuntu 20.04.4 LTS) / x86_64  OK    OK    OK  UNNEEDED, same version is already published
Package 17/36HostnameOS / ArchINSTALLBUILDCHECKBUILD BIN
maser 1.14.0  (landing page)
Diogo F.T. Veiga
git_last_commit: c6e1d3b
git_last_commit_date: 2022-04-26 11:49:25 -0400
nebbiolo1Linux (Ubuntu 20.04.4 LTS) / x86_64  OK    OK    OK  UNNEEDED, same version is already published
Package 18/36HostnameOS / ArchINSTALLBUILDCHECKBUILD BIN
mCSEA 1.16.0  (landing page)
Jordi Martorell-Marugán
git_last_commit: a472086
git_last_commit_date: 2022-04-26 11:46:27 -0400
nebbiolo1Linux (Ubuntu 20.04.4 LTS) / x86_64  OK    OK    OK  UNNEEDED, same version is already published
Package 19/36HostnameOS / ArchINSTALLBUILDCHECKBUILD BIN
MEAL 1.26.0  (landing page)
Xavier Escribà Montagut
git_last_commit: bac7355
git_last_commit_date: 2022-04-26 11:27:39 -0400
nebbiolo1Linux (Ubuntu 20.04.4 LTS) / x86_64  OK    OK    WARNINGS  UNNEEDED, same version is already published
Package 20/36HostnameOS / ArchINSTALLBUILDCHECKBUILD BIN
methylPipe 1.30.0  (landing page)
Kamal Kishore
git_last_commit: 2a0b33e
git_last_commit_date: 2022-04-26 11:21:13 -0400
nebbiolo1Linux (Ubuntu 20.04.4 LTS) / x86_64  OK    OK    WARNINGS  UNNEEDED, same version is already published
Package 21/36HostnameOS / ArchINSTALLBUILDCHECKBUILD BIN
motifbreakR 2.10.0  (landing page)
Simon Gert Coetzee
git_last_commit: 26aa0e4
git_last_commit_date: 2022-04-26 11:27:11 -0400
nebbiolo1Linux (Ubuntu 20.04.4 LTS) / x86_64  OK    OK    OK  UNNEEDED, same version is already published
Package 22/36HostnameOS / ArchINSTALLBUILDCHECKBUILD BIN
OGRE 1.0.0  (landing page)
Sven Berres
git_last_commit: 5f9a0d1
git_last_commit_date: 2022-04-26 12:20:43 -0400
nebbiolo1Linux (Ubuntu 20.04.4 LTS) / x86_64  OK    OK    OK  UNNEEDED, same version is already published
Package 23/36HostnameOS / ArchINSTALLBUILDCHECKBUILD BIN
PING 2.40.0  (landing page)
Renan Sauteraud
git_last_commit: 29b5fa4
git_last_commit_date: 2022-04-26 11:10:24 -0400
nebbiolo1Linux (Ubuntu 20.04.4 LTS) / x86_64  OK    OK    WARNINGS  UNNEEDED, same version is already published
Package 24/36HostnameOS / ArchINSTALLBUILDCHECKBUILD BIN
primirTSS 1.14.0  (landing page)
Pumin Li
git_last_commit: 9d8ddfa
git_last_commit_date: 2022-04-26 11:50:49 -0400
nebbiolo1Linux (Ubuntu 20.04.4 LTS) / x86_64  OK    OK    WARNINGS  UNNEEDED, same version is already published
Package 25/36HostnameOS / ArchINSTALLBUILDCHECKBUILD BIN
Pviz 1.30.0  (landing page)
Renan Sauteraud
git_last_commit: 805b735
git_last_commit_date: 2022-04-26 11:20:26 -0400
nebbiolo1Linux (Ubuntu 20.04.4 LTS) / x86_64  OK    OK    WARNINGS  UNNEEDED, same version is already published
Package 26/36HostnameOS / ArchINSTALLBUILDCHECKBUILD BIN
regutools 1.8.0  (landing page)
Joselyn Chavez
git_last_commit: 65b3988
git_last_commit_date: 2022-04-26 12:05:06 -0400
nebbiolo1Linux (Ubuntu 20.04.4 LTS) / x86_64  OK    OK    OK  UNNEEDED, same version is already published
Package 27/36HostnameOS / ArchINSTALLBUILDCHECKBUILD BIN
RNAmodR 1.10.0  (landing page)
Felix G.M. Ernst
git_last_commit: ad86538
git_last_commit_date: 2022-04-26 11:56:38 -0400
nebbiolo1Linux (Ubuntu 20.04.4 LTS) / x86_64  OK    OK    OK  UNNEEDED, same version is already published
Package 28/36HostnameOS / ArchINSTALLBUILDCHECKBUILD BIN
RNAmodR.AlkAnilineSeq 1.10.0  (landing page)
Felix G.M. Ernst
git_last_commit: fedd3c5
git_last_commit_date: 2022-04-26 11:56:47 -0400
nebbiolo1Linux (Ubuntu 20.04.4 LTS) / x86_64  OK    OK    OK  UNNEEDED, same version is already published
Package 29/36HostnameOS / ArchINSTALLBUILDCHECKBUILD BIN
RNAmodR.RiboMethSeq 1.10.0  (landing page)
Felix G.M. Ernst
git_last_commit: 22e1cca
git_last_commit_date: 2022-04-26 11:56:43 -0400
nebbiolo1Linux (Ubuntu 20.04.4 LTS) / x86_64  OK    OK    OK  UNNEEDED, same version is already published
Package 30/36HostnameOS / ArchINSTALLBUILDCHECKBUILD BIN
SPLINTER 1.22.0  (landing page)
Diana Low
git_last_commit: b0553c0
git_last_commit_date: 2022-04-26 11:35:57 -0400
nebbiolo1Linux (Ubuntu 20.04.4 LTS) / x86_64  OK    OK    OK  UNNEEDED, same version is already published
Package 31/36HostnameOS / ArchINSTALLBUILDCHECKBUILD BIN
srnadiff 1.16.0  (landing page)
Zytnicki Matthias
git_last_commit: bbc1f73
git_last_commit_date: 2022-04-26 11:46:44 -0400
nebbiolo1Linux (Ubuntu 20.04.4 LTS) / x86_64  OK    OK    WARNINGS  UNNEEDED, same version is already published
Package 32/36HostnameOS / ArchINSTALLBUILDCHECKBUILD BIN
STAN 2.24.0  (landing page)
Rafael Campos-Martin
git_last_commit: bbd31d4
git_last_commit_date: 2022-04-26 11:20:44 -0400
nebbiolo1Linux (Ubuntu 20.04.4 LTS) / x86_64  OK    OK    OK  UNNEEDED, same version is already published
Package 33/36HostnameOS / ArchINSTALLBUILDCHECKBUILD BIN
trackViewer 1.32.1  (landing page)
Jianhong Ou
git_last_commit: 7878202
git_last_commit_date: 2022-05-04 16:37:29 -0400
nebbiolo1Linux (Ubuntu 20.04.4 LTS) / x86_64  OK    OK    OK  UNNEEDED, same version is already published
Package 34/36HostnameOS / ArchINSTALLBUILDCHECKBUILD BIN
TVTB 1.22.0  (landing page)
Kevin Rue-Albrecht
git_last_commit: 19e4f04
git_last_commit_date: 2022-04-26 11:37:05 -0400
nebbiolo1Linux (Ubuntu 20.04.4 LTS) / x86_64  OK    OK    OK  UNNEEDED, same version is already published
Package 35/36HostnameOS / ArchINSTALLBUILDCHECKBUILD BIN
uncoverappLib 1.6.0  (landing page)
Emanuela Iovino
git_last_commit: 500443a
git_last_commit_date: 2022-04-26 12:07:14 -0400
nebbiolo1Linux (Ubuntu 20.04.4 LTS) / x86_64  OK    OK    OK  UNNEEDED, same version is already published
Package 36/36HostnameOS / ArchINSTALLBUILDCHECKBUILD BIN
VariantFiltering 1.32.0  (landing page)
Robert Castelo
git_last_commit: e5baf3d
git_last_commit_date: 2022-04-26 11:19:20 -0400
nebbiolo1Linux (Ubuntu 20.04.4 LTS) / x86_64  OK    OK    OK  UNNEEDED, same version is already published