Back to Multiple platform build/check report for BioC 3.15
ABCDEF[G]HIJKLMNOPQRSTUVWXYZ

This page was generated on 2022-08-08 13:19:32 -0400 (Mon, 08 Aug 2022).

HostnameOSArch (*)R versionInstalled pkgs
nebbiolo1Linux (Ubuntu 20.04.4 LTS)x86_644.2.1 (2022-06-23) -- "Funny-Looking Kid" 4362
merida1macOS 10.14.6 Mojavex86_644.2.1 (2022-06-23) -- "Funny-Looking Kid" 4180
Click on any hostname to see more info about the system (e.g. compilers)      (*) as reported by 'uname -p', except on Windows and Mac OS X

INSTALL results for GenomicFeatures on nebbiolo1


To the developers/maintainers of the GenomicFeatures package:
- Please allow up to 24 hours (and sometimes 48 hours) for your latest push to git@git.bioconductor.org:packages/GenomicFeatures.git to
reflect on this report. See How and When does the builder pull? When will my changes propagate? for more information.
- Make sure to use the following settings in order to reproduce any error or warning you see on this page.

raw results

Package 772/2140HostnameOS / ArchINSTALLBUILDCHECKBUILD BIN
GenomicFeatures 1.48.3  (landing page)
Bioconductor Package Maintainer
Snapshot Date: 2022-08-07 13:55:12 -0400 (Sun, 07 Aug 2022)
git_url: https://git.bioconductor.org/packages/GenomicFeatures
git_branch: RELEASE_3_15
git_last_commit: b0ddea0
git_last_commit_date: 2022-05-31 12:25:31 -0400 (Tue, 31 May 2022)
nebbiolo1Linux (Ubuntu 20.04.4 LTS) / x86_64  OK    OK    ERROR  
merida1macOS 10.14.6 Mojave / x86_64  OK    OK    ERROR    OK  

Summary

Package: GenomicFeatures
Version: 1.48.3
Command: /home/biocbuild/bbs-3.15-bioc/R/bin/R CMD INSTALL GenomicFeatures
StartedAt: 2022-08-07 15:37:52 -0400 (Sun, 07 Aug 2022)
EndedAt: 2022-08-07 15:38:32 -0400 (Sun, 07 Aug 2022)
EllapsedTime: 40.0 seconds
RetCode: 0
Status:   OK  

Command output

##############################################################################
##############################################################################
###
### Running command:
###
###   /home/biocbuild/bbs-3.15-bioc/R/bin/R CMD INSTALL GenomicFeatures
###
##############################################################################
##############################################################################


* installing to library ‘/home/biocbuild/bbs-3.15-bioc/R/library’
* installing *source* package ‘GenomicFeatures’ ...
** using staged installation
** R
** inst
** byte-compile and prepare package for lazy loading
** help
*** installing help indices
** building package indices
** installing vignettes
** testing if installed package can be loaded from temporary location
** testing if installed package can be loaded from final location
** testing if installed package keeps a record of temporary installation path
* DONE (GenomicFeatures)