Back to Multiple platform build/check report for BioC 3.15
ABCDEFGHIJKL[M]NOPQRSTUVWXYZ

This page was generated on 2022-05-23 12:04:34 -0400 (Mon, 23 May 2022).

HostnameOSArch (*)R versionInstalled pkgs
nebbiolo1Linux (Ubuntu 20.04.4 LTS)x86_644.2.0 (2022-04-22) -- "Vigorous Calisthenics" 4380
palomino3Windows Server 2022 Datacenterx644.2.0 (2022-04-22 ucrt) -- "Vigorous Calisthenics" 4155
merida1macOS 10.14.6 Mojavex86_644.2.0 (2022-04-22) -- "Vigorous Calisthenics" 4221
Click on any hostname to see more info about the system (e.g. compilers)      (*) as reported by 'uname -p', except on Windows and Mac OS X

All results for package methylumi


To the developers/maintainers of the methylumi package:
- Please allow up to 24 hours (and sometimes 48 hours) for your latest push to git@git.bioconductor.org:packages/methylumi.git to
reflect on this report. See How and When does the builder pull? When will my changes propagate? for more information.
- Make sure to use the following settings in order to reproduce any error or warning you see on this page.

raw results

Package 1159/2140HostnameOS / ArchINSTALLBUILDCHECKBUILD BIN
methylumi 2.42.0  (landing page)
Sean Davis
Snapshot Date: 2022-05-22 13:55:15 -0400 (Sun, 22 May 2022)
git_url: https://git.bioconductor.org/packages/methylumi
git_branch: RELEASE_3_15
git_last_commit: 73e9c7f
git_last_commit_date: 2022-04-26 11:03:01 -0400 (Tue, 26 Apr 2022)
nebbiolo1Linux (Ubuntu 20.04.4 LTS) / x86_64  OK    OK    OK  UNNEEDED, same version is already published
palomino3Windows Server 2022 Datacenter / x64  OK    OK    OK    OK  UNNEEDED, same version is already published
merida1macOS 10.14.6 Mojave / x86_64  OK    OK    OK    OK  UNNEEDED, same version is already published

Results for Bioconductor software packages that depend directly on package methylumi

QUICK STATSOS / ArchINSTALLBUILDCHECKBUILD BIN
nebbiolo1Linux (Ubuntu 20.04.4 LTS) / x86_64
007
007
0025
palomino3Windows Server 2022 Datacenter / x64
007
007
0025
007
merida1macOS 10.14.6 Mojave / x86_64
007
007
0025
007
Package 1/7HostnameOS / ArchINSTALLBUILDCHECKBUILD BIN
bigmelon 1.22.0  (landing page)
Tyler J. Gorrie-Stone
git_last_commit: 94e8b0f
git_last_commit_date: 2022-04-26 11:35:38 -0400
nebbiolo1Linux (Ubuntu 20.04.4 LTS) / x86_64  OK    OK    WARNINGS  UNNEEDED, same version is already published
palomino3Windows Server 2022 Datacenter / x64  OK    OK    WARNINGS    OK  UNNEEDED, same version is already published
merida1macOS 10.14.6 Mojave / x86_64  OK    OK    WARNINGS    OK  UNNEEDED, same version is already published
Package 2/7HostnameOS / ArchINSTALLBUILDCHECKBUILD BIN
ffpe 1.40.0  (landing page)
Levi Waldron
git_last_commit: 647a8ff
git_last_commit_date: 2022-04-26 11:10:29 -0400
nebbiolo1Linux (Ubuntu 20.04.4 LTS) / x86_64  OK    OK    OK  UNNEEDED, same version is already published
palomino3Windows Server 2022 Datacenter / x64  OK    OK    OK    OK  UNNEEDED, same version is already published
merida1macOS 10.14.6 Mojave / x86_64  OK    OK    OK    OK  UNNEEDED, same version is already published
Package 3/7HostnameOS / ArchINSTALLBUILDCHECKBUILD BIN
lumi 2.48.0  (landing page)
Lei Huang
git_last_commit: 1f988ff
git_last_commit_date: 2022-04-26 10:59:08 -0400
nebbiolo1Linux (Ubuntu 20.04.4 LTS) / x86_64  OK    OK    WARNINGS  UNNEEDED, same version is already published
palomino3Windows Server 2022 Datacenter / x64  OK    OK    WARNINGS    OK  UNNEEDED, same version is already published
merida1macOS 10.14.6 Mojave / x86_64  OK    OK    WARNINGS    OK  UNNEEDED, same version is already published
Package 4/7HostnameOS / ArchINSTALLBUILDCHECKBUILD BIN
missMethyl 1.30.0  (landing page)
Belinda Phipson
git_last_commit: 7348466
git_last_commit_date: 2022-04-26 11:20:40 -0400
nebbiolo1Linux (Ubuntu 20.04.4 LTS) / x86_64  OK    OK    OK  UNNEEDED, same version is already published
palomino3Windows Server 2022 Datacenter / x64  OK    OK    OK    OK  UNNEEDED, same version is already published
merida1macOS 10.14.6 Mojave / x86_64  OK    OK    OK    OK  UNNEEDED, same version is already published
Package 5/7HostnameOS / ArchINSTALLBUILDCHECKBUILD BIN
RnBeads 2.14.0  (landing page)
Fabian Mueller
git_last_commit: 2543e25
git_last_commit_date: 2022-04-26 11:25:19 -0400
nebbiolo1Linux (Ubuntu 20.04.4 LTS) / x86_64  OK    OK    OK  UNNEEDED, same version is already published
palomino3Windows Server 2022 Datacenter / x64  OK    OK    OK    OK  UNNEEDED, same version is already published
merida1macOS 10.14.6 Mojave / x86_64  OK    OK    OK    OK  UNNEEDED, same version is already published
Package 6/7HostnameOS / ArchINSTALLBUILDCHECKBUILD BIN
skewr 1.28.0  (landing page)
Ryan Putney
git_last_commit: fd2672c
git_last_commit_date: 2022-04-26 11:23:56 -0400
nebbiolo1Linux (Ubuntu 20.04.4 LTS) / x86_64  OK    OK    OK  UNNEEDED, same version is already published
palomino3Windows Server 2022 Datacenter / x64  OK    OK    OK    OK  UNNEEDED, same version is already published
merida1macOS 10.14.6 Mojave / x86_64  OK    OK    OK    OK  UNNEEDED, same version is already published
Package 7/7HostnameOS / ArchINSTALLBUILDCHECKBUILD BIN
wateRmelon 2.2.0  (landing page)
Leo C Schalkwyk
git_last_commit: 6ec49ef
git_last_commit_date: 2022-04-26 11:12:59 -0400
nebbiolo1Linux (Ubuntu 20.04.4 LTS) / x86_64  OK    OK    OK  UNNEEDED, same version is already published
palomino3Windows Server 2022 Datacenter / x64  OK    OK    OK    OK  UNNEEDED, same version is already published
merida1macOS 10.14.6 Mojave / x86_64  OK    OK    OK    OK  UNNEEDED, same version is already published