Back to Multiple platform build/check report for BioC 3.15
A[B]CDEFGHIJKLMNOPQRSTUVWXYZ

This page was generated on 2022-05-27 12:06:14 -0400 (Fri, 27 May 2022).

HostnameOSArch (*)R versionInstalled pkgs
nebbiolo1Linux (Ubuntu 20.04.4 LTS)x86_644.2.0 (2022-04-22) -- "Vigorous Calisthenics" 4380
palomino3Windows Server 2022 Datacenterx644.2.0 (2022-04-22 ucrt) -- "Vigorous Calisthenics" 4156
merida1macOS 10.14.6 Mojavex86_644.2.0 (2022-04-22) -- "Vigorous Calisthenics" 4221
Click on any hostname to see more info about the system (e.g. compilers)      (*) as reported by 'uname -p', except on Windows and Mac OS X

CHECK results for BiSeq on palomino3


To the developers/maintainers of the BiSeq package:
- Please allow up to 24 hours (and sometimes 48 hours) for your latest push to git@git.bioconductor.org:packages/BiSeq.git to
reflect on this report. See How and When does the builder pull? When will my changes propagate? for more information.
- Make sure to use the following settings in order to reproduce any error or warning you see on this page.

raw results

Package 204/2140HostnameOS / ArchINSTALLBUILDCHECKBUILD BIN
BiSeq 1.36.0  (landing page)
Katja Hebestreit
Snapshot Date: 2022-05-26 13:55:15 -0400 (Thu, 26 May 2022)
git_url: https://git.bioconductor.org/packages/BiSeq
git_branch: RELEASE_3_15
git_last_commit: b5cd494
git_last_commit_date: 2022-04-26 11:14:44 -0400 (Tue, 26 Apr 2022)
nebbiolo1Linux (Ubuntu 20.04.4 LTS) / x86_64  OK    OK    OK  UNNEEDED, same version is already published
palomino3Windows Server 2022 Datacenter / x64  OK    OK    OK    OK  UNNEEDED, same version is already published
merida1macOS 10.14.6 Mojave / x86_64  OK    OK    OK    OK  UNNEEDED, same version is already published

Summary

Package: BiSeq
Version: 1.36.0
Command: F:\biocbuild\bbs-3.15-bioc\R\bin\R.exe CMD check --no-multiarch --install=check:BiSeq.install-out.txt --library=F:\biocbuild\bbs-3.15-bioc\R\library --no-vignettes --timings BiSeq_1.36.0.tar.gz
StartedAt: 2022-05-26 22:09:14 -0400 (Thu, 26 May 2022)
EndedAt: 2022-05-26 22:14:51 -0400 (Thu, 26 May 2022)
EllapsedTime: 337.3 seconds
RetCode: 0
Status:   OK  
CheckDir: BiSeq.Rcheck
Warnings: 0

Command output

##############################################################################
##############################################################################
###
### Running command:
###
###   F:\biocbuild\bbs-3.15-bioc\R\bin\R.exe CMD check --no-multiarch --install=check:BiSeq.install-out.txt --library=F:\biocbuild\bbs-3.15-bioc\R\library --no-vignettes --timings BiSeq_1.36.0.tar.gz
###
##############################################################################
##############################################################################


* using log directory 'F:/biocbuild/bbs-3.15-bioc/meat/BiSeq.Rcheck'
* using R version 4.2.0 (2022-04-22 ucrt)
* using platform: x86_64-w64-mingw32 (64-bit)
* using session charset: UTF-8
* using option '--no-vignettes'
* checking for file 'BiSeq/DESCRIPTION' ... OK
* checking extension type ... Package
* this is package 'BiSeq' version '1.36.0'
* checking package namespace information ... OK
* checking package dependencies ... OK
* checking if this is a source package ... OK
* checking if there is a namespace ... OK
* checking for hidden files and directories ... OK
* checking for portable file names ... OK
* checking whether package 'BiSeq' can be installed ... OK
* checking installed package size ... OK
* checking package directory ... OK
* checking 'build' directory ... OK
* checking DESCRIPTION meta-information ... NOTE
Packages listed in more than one of Depends, Imports, Suggests, Enhances:
  'methods' 'S4Vectors' 'IRanges' 'GenomicRanges' 'SummarizedExperiment' 'Formula'
A package should be listed in only one of these fields.
* checking top-level files ... OK
* checking for left-over files ... OK
* checking index information ... OK
* checking package subdirectories ... OK
* checking R files for non-ASCII characters ... OK
* checking R files for syntax errors ... OK
* checking whether the package can be loaded ... OK
* checking whether the package can be loaded with stated dependencies ... OK
* checking whether the package can be unloaded cleanly ... OK
* checking whether the namespace can be loaded with stated dependencies ... OK
* checking whether the namespace can be unloaded cleanly ... OK
* checking dependencies in R code ... NOTE
Namespace in Imports field not imported from: 'Formula'
  All declared Imports should be used.
Package in Depends field not imported from: 'Formula'
  These packages need to be imported from (in the NAMESPACE file)
  for when this namespace is loaded but not attached.
* checking S3 generic/method consistency ... OK
* checking replacement functions ... OK
* checking foreign function calls ... OK
* checking R code for possible problems ... NOTE
.betaRegression : inv.link: no visible global function definition for
  'pnorm'
.betaRegression : beta.regr: no visible global function definition for
  'as.formula'
.categorialColors: no visible global function definition for 'colors'
.estLocCor: no visible global function definition for 'combn'
.logisticRegression : inv.link: no visible global function definition
  for 'pnorm'
.logisticRegression : logistic.regr: no visible global function
  definition for 'lm'
.logisticRegression : logistic.regr: no visible global function
  definition for 'as.formula'
.makeVariogram: no visible global function definition for 'qnorm'
.plotBindingSites: no visible global function definition for
  'txtProgressBar'
.plotBindingSites: no visible global function definition for
  'setTxtProgressBar'
.plotBindingSites : <anonymous>: no visible global function definition
  for 'ksmooth'
.plotBindingSites: no visible global function definition for 'rainbow'
.plotBindingSites: no visible global function definition for 'lines'
.plotBindingSites: no visible global function definition for 'rgb'
.plotBindingSites: no visible global function definition for 'col2rgb'
.plotMeth: no visible global function definition for 'col2rgb'
.plotMeth: no visible global function definition for 'rgb'
.plotMeth: no visible global function definition for 'lines'
.plotMeth: no visible global function definition for 'legend'
.plotMethMap: no visible global function definition for
  'colorRampPalette'
.plotMethMap: no visible binding for global variable 'heatmap'
.plotSmoothMeth: no visible global function definition for 'rainbow'
.plotSmoothMeth: no visible global function definition for 'lines'
.predictMeth: no visible global function definition for
  'txtProgressBar'
.predictMeth: no visible global function definition for
  'setTxtProgressBar'
.testClusters: no visible global function definition for 'pnorm'
.trimClusters : integrand: no visible global function definition for
  'pnorm'
.trimClusters : integrand: no visible global function definition for
  'qnorm'
.trimClusters : integrand: no visible global function definition for
  'dnorm'
.trimClusters: no visible global function definition for 'integrate'
.trimClusters: no visible global function definition for 'pnorm'
.trimClusters: no visible global function definition for 'qnorm'
.variogram: no visible global function definition for 'dist'
.variogram: no visible global function definition for 'txtProgressBar'
.variogram: no visible global function definition for
  'setTxtProgressBar'
.writeBED_BSraw: no visible global function definition for 'colorRamp'
.writeBED_BSraw: no visible global function definition for 'rgb'
.writeBED_BSrel: no visible global function definition for 'colorRamp'
.writeBED_BSrel: no visible global function definition for 'rgb'
betaRegression,formula-character-BSrel-numeric : inv.link: no visible
  global function definition for 'pnorm'
betaRegression,formula-character-BSrel-numeric : beta.regr: no visible
  global function definition for 'as.formula'
estLocCor,list: no visible global function definition for 'combn'
logisticRegression,formula-character-BSrel-numeric : inv.link: no
  visible global function definition for 'pnorm'
logisticRegression,formula-character-BSrel-numeric : logistic.regr: no
  visible global function definition for 'lm'
logisticRegression,formula-character-BSrel-numeric : logistic.regr: no
  visible global function definition for 'as.formula'
makeVariogram,data.frame-logical-numeric-numeric: no visible global
  function definition for 'qnorm'
plotMethMap,BSrel-GRanges-factor-logical: no visible global function
  definition for 'colorRampPalette'
plotMethMap,BSrel-GRanges-factor-logical: no visible binding for global
  variable 'heatmap'
plotMethMap,BSrel-GRanges-factor-missing: no visible global function
  definition for 'colorRampPalette'
plotMethMap,BSrel-GRanges-factor-missing: no visible binding for global
  variable 'heatmap'
plotMethMap,BSrel-GRanges-missing-logical: no visible global function
  definition for 'colorRampPalette'
plotMethMap,BSrel-GRanges-missing-logical: no visible binding for
  global variable 'heatmap'
plotMethMap,BSrel-GRanges-missing-missing: no visible global function
  definition for 'colorRampPalette'
plotMethMap,BSrel-GRanges-missing-missing: no visible binding for
  global variable 'heatmap'
predictMeth,BSraw-numeric-numeric-numeric: no visible global function
  definition for 'txtProgressBar'
predictMeth,BSraw-numeric-numeric-numeric: no visible global function
  definition for 'setTxtProgressBar'
testClusters,list-numeric: no visible global function definition for
  'pnorm'
trimClusters,list-numeric : integrand: no visible global function
  definition for 'pnorm'
trimClusters,list-numeric : integrand: no visible global function
  definition for 'qnorm'
trimClusters,list-numeric : integrand: no visible global function
  definition for 'dnorm'
trimClusters,list-numeric: no visible global function definition for
  'integrate'
trimClusters,list-numeric: no visible global function definition for
  'pnorm'
trimClusters,list-numeric: no visible global function definition for
  'qnorm'
writeBED,BSraw-character-character: no visible global function
  definition for 'colorRamp'
writeBED,BSraw-character-character: no visible global function
  definition for 'rgb'
writeBED,BSrel-character-character: no visible global function
  definition for 'colorRamp'
writeBED,BSrel-character-character: no visible global function
  definition for 'rgb'
Undefined global functions or variables:
  as.formula col2rgb colorRamp colorRampPalette colors combn dist dnorm
  heatmap integrate ksmooth legend lines lm pnorm qnorm rainbow rgb
  setTxtProgressBar txtProgressBar
Consider adding
  importFrom("grDevices", "col2rgb", "colorRamp", "colorRampPalette",
             "colors", "rainbow", "rgb")
  importFrom("graphics", "legend", "lines")
  importFrom("stats", "as.formula", "dist", "dnorm", "heatmap",
             "integrate", "ksmooth", "lm", "pnorm", "qnorm")
  importFrom("utils", "combn", "setTxtProgressBar", "txtProgressBar")
to your NAMESPACE file.
* checking Rd files ... OK
* checking Rd metadata ... OK
* checking Rd cross-references ... OK
* checking for missing documentation entries ... OK
* checking for code/documentation mismatches ... OK
* checking Rd \usage sections ... OK
* checking Rd contents ... OK
* checking for unstated dependencies in examples ... OK
* checking contents of 'data' directory ... OK
* checking data for non-ASCII characters ... OK
* checking data for ASCII and uncompressed saves ... OK
* checking sizes of PDF files under 'inst/doc' ... OK
* checking files in 'vignettes' ... OK
* checking examples ... OK
Examples with CPU (user + system) or elapsed time > 5s
                user system elapsed
betaRegression 21.22   0.39   21.63
globalTest     19.97   0.29   20.25
estLocCor       6.86   0.31    7.17
makeVariogram   6.23   0.05    6.28
* checking for unstated dependencies in vignettes ... OK
* checking package vignettes in 'inst/doc' ... OK
* checking running R code from vignettes ... SKIPPED
* checking re-building of vignette outputs ... SKIPPED
* checking PDF version of manual ... OK
* DONE

Status: 3 NOTEs
See
  'F:/biocbuild/bbs-3.15-bioc/meat/BiSeq.Rcheck/00check.log'
for details.



Installation output

BiSeq.Rcheck/00install.out

##############################################################################
##############################################################################
###
### Running command:
###
###   F:\biocbuild\bbs-3.15-bioc\R\bin\R.exe CMD INSTALL BiSeq
###
##############################################################################
##############################################################################


* installing to library 'F:/biocbuild/bbs-3.15-bioc/R/library'
* installing *source* package 'BiSeq' ...
** using staged installation
** R
** data
** inst
** byte-compile and prepare package for lazy loading
** help
*** installing help indices
** building package indices
** installing vignettes
** testing if installed package can be loaded from temporary location
** testing if installed package can be loaded from final location
** testing if installed package keeps a record of temporary installation path
* DONE (BiSeq)

Tests output


Example timings

BiSeq.Rcheck/BiSeq-Ex.timings

nameusersystemelapsed
BSraw-class0.210.010.22
BSrel-class0.170.020.19
DMRs0.040.000.04
annotateGRanges0.170.040.21
betaRegression21.22 0.3921.63
betaResults0.010.000.01
betaResultsNull0.020.000.02
binomLikelihoodSmooth000
clusterSites0.580.000.58
clusterSitesToGR0.820.030.86
compareTwoSamples4.660.004.66
covBoxplots0.110.000.11
covStatistics0.060.000.06
estLocCor6.860.317.17
filterByCov0.100.020.11
filterBySharedRegions0.170.000.17
findDMRs0.400.000.41
globalTest19.97 0.2920.25
limitCov0.520.040.56
logisticRegression2.190.002.19
makeVariogram6.230.056.28
plotBindingSites1.810.051.86
plotMeth0.260.000.27
plotMethMap0.280.010.30
plotSmoothMeth0.190.000.18
predictMeth1.670.001.68
predictedMeth0.000.020.01
promoters0.030.010.05
rawToRel0.060.000.06
readBismark0.080.000.08
rrbs0.030.000.03
smoothVariogram0.050.000.05
summarizeRegions2.860.052.90
testClusters0.090.020.11
trimClusters0.410.030.44
vario000
writeBED0.270.010.34