Back to Multiple platform build/check report for BioC 3.15
ABCDEFGHIJKLMNOPQR[S]TUVWXYZ

This page was generated on 2022-05-16 11:04:30 -0400 (Mon, 16 May 2022).

HostnameOSArch (*)R versionInstalled pkgs
nebbiolo1Linux (Ubuntu 20.04.4 LTS)x86_644.2.0 (2022-04-22) -- "Vigorous Calisthenics" 4379
palomino3Windows Server 2022 Datacenterx644.2.0 (2022-04-22 ucrt) -- "Vigorous Calisthenics" 4153
merida1macOS 10.14.6 Mojavex86_644.2.0 (2022-04-22) -- "Vigorous Calisthenics" 4220
Click on any hostname to see more info about the system (e.g. compilers)      (*) as reported by 'uname -p', except on Windows and Mac OS X

All results for package ShortRead


To the developers/maintainers of the ShortRead package:
- Please allow up to 24 hours (and sometimes 48 hours) for your latest push to git@git.bioconductor.org:packages/ShortRead.git to
reflect on this report. See How and When does the builder pull? When will my changes propagate? for more information.
- Make sure to use the following settings in order to reproduce any error or warning you see on this page.

raw results

Package 1831/2140HostnameOS / ArchINSTALLBUILDCHECKBUILD BIN
ShortRead 1.54.0  (landing page)
Bioconductor Package Maintainer
Snapshot Date: 2022-05-15 13:55:12 -0400 (Sun, 15 May 2022)
git_url: https://git.bioconductor.org/packages/ShortRead
git_branch: RELEASE_3_15
git_last_commit: a1082a3
git_last_commit_date: 2022-04-26 11:01:12 -0400 (Tue, 26 Apr 2022)
nebbiolo1Linux (Ubuntu 20.04.4 LTS) / x86_64  OK    OK    WARNINGS  UNNEEDED, same version is already published
palomino3Windows Server 2022 Datacenter / x64  OK    OK    OK    OK  UNNEEDED, same version is already published
merida1macOS 10.14.6 Mojave / x86_64  OK    OK    OK    NA  

Results for Bioconductor software packages that depend directly on package ShortRead

QUICK STATSOS / ArchINSTALLBUILDCHECKBUILD BIN
nebbiolo1Linux (Ubuntu 20.04.4 LTS) / x86_64
0128
0227
01422
palomino3Windows Server 2022 Datacenter / x64
0126
0225
10321
0025
merida1macOS 10.14.6 Mojave / x86_64
0127
0226
00422
0022
Package 1/29HostnameOS / ArchINSTALLBUILDCHECKBUILD BIN
amplican 1.18.0  (landing page)
Eivind Valen
git_last_commit: 51c279f
git_last_commit_date: 2022-04-26 11:43:13 -0400
nebbiolo1Linux (Ubuntu 20.04.4 LTS) / x86_64  OK    OK    OK  UNNEEDED, same version is already published
palomino3Windows Server 2022 Datacenter / x64  OK    OK    OK    OK  UNNEEDED, same version is already published
merida1macOS 10.14.6 Mojave / x86_64  OK    OK    OK    OK  UNNEEDED, same version is already published
Package 2/29HostnameOS / ArchINSTALLBUILDCHECKBUILD BIN
ArrayExpressHTS 1.46.0  (landing page)
Angela Goncalves , Andrew Tikhonov
git_last_commit: 00e9ccc
git_last_commit_date: 2022-04-26 11:07:49 -0400
nebbiolo1Linux (Ubuntu 20.04.4 LTS) / x86_64  OK    OK    WARNINGS  UNNEEDED, same version is already published
palomino3Windows Server 2022 Datacenter / x64... NOT SUPPORTED ...
merida1macOS 10.14.6 Mojave / x86_64  OK    OK    WARNINGS    OK  UNNEEDED, same version is already published
Package 3/29HostnameOS / ArchINSTALLBUILDCHECKBUILD BIN
basecallQC 1.20.0  (landing page)
Thomas Carroll
git_last_commit: c233bf5
git_last_commit_date: 2022-04-26 11:40:14 -0400
nebbiolo1Linux (Ubuntu 20.04.4 LTS) / x86_64  OK    OK    OK  UNNEEDED, same version is already published
palomino3Windows Server 2022 Datacenter / x64  OK    OK    OK    OK  UNNEEDED, same version is already published
merida1macOS 10.14.6 Mojave / x86_64  OK    OK    OK    OK  UNNEEDED, same version is already published
Package 4/29HostnameOS / ArchINSTALLBUILDCHECKBUILD BIN
BEAT 1.34.0  (landing page)
Kemal Akman
git_last_commit: 586dd95
git_last_commit_date: 2022-04-26 11:17:34 -0400
nebbiolo1Linux (Ubuntu 20.04.4 LTS) / x86_64  OK    OK    OK  UNNEEDED, same version is already published
palomino3Windows Server 2022 Datacenter / x64  OK    OK    OK    OK  UNNEEDED, same version is already published
merida1macOS 10.14.6 Mojave / x86_64  OK    OK    OK    OK  UNNEEDED, same version is already published
Package 5/29HostnameOS / ArchINSTALLBUILDCHECKBUILD BIN
CellBarcode 1.2.0  (landing page)
Wenjie Sun
git_last_commit: bdde81f
git_last_commit_date: 2022-04-26 12:19:50 -0400
nebbiolo1Linux (Ubuntu 20.04.4 LTS) / x86_64  OK    OK    OK  UNNEEDED, same version is already published
palomino3Windows Server 2022 Datacenter / x64  OK    OK    OK    OK  UNNEEDED, same version is already published
merida1macOS 10.14.6 Mojave / x86_64  OK    OK    OK    OK  UNNEEDED, same version is already published
Package 6/29HostnameOS / ArchINSTALLBUILDCHECKBUILD BIN
chipseq 1.46.0  (landing page)
Bioconductor Package Maintainer
git_last_commit: 76b0039
git_last_commit_date: 2022-04-26 11:03:08 -0400
nebbiolo1Linux (Ubuntu 20.04.4 LTS) / x86_64  OK    OK    WARNINGS  UNNEEDED, same version is already published
palomino3Windows Server 2022 Datacenter / x64  OK    OK    WARNINGS    OK  UNNEEDED, same version is already published
merida1macOS 10.14.6 Mojave / x86_64  OK    OK    WARNINGS    OK  UNNEEDED, same version is already published
Package 7/29HostnameOS / ArchINSTALLBUILDCHECKBUILD BIN
ChIPseqR 1.50.0  (landing page)
Peter Humburg
git_last_commit: fed1a68
git_last_commit_date: 2022-04-26 11:03:49 -0400
nebbiolo1Linux (Ubuntu 20.04.4 LTS) / x86_64  OK    OK    OK  UNNEEDED, same version is already published
palomino3Windows Server 2022 Datacenter / x64  OK    OK    OK    OK  UNNEEDED, same version is already published
merida1macOS 10.14.6 Mojave / x86_64  OK    OK    OK    OK  UNNEEDED, same version is already published
Package 8/29HostnameOS / ArchINSTALLBUILDCHECKBUILD BIN
ChIPsim 1.50.0  (landing page)
Peter Humburg
git_last_commit: 3f104cd
git_last_commit_date: 2022-04-26 11:03:26 -0400
nebbiolo1Linux (Ubuntu 20.04.4 LTS) / x86_64  OK    OK    OK  UNNEEDED, same version is already published
palomino3Windows Server 2022 Datacenter / x64  OK    OK    OK    OK  UNNEEDED, same version is already published
merida1macOS 10.14.6 Mojave / x86_64  OK    OK    OK    OK  UNNEEDED, same version is already published
Package 9/29HostnameOS / ArchINSTALLBUILDCHECKBUILD BIN
dada2 1.24.0  (landing page)
Benjamin Callahan
git_last_commit: 889dd0c
git_last_commit_date: 2022-04-26 11:29:38 -0400
nebbiolo1Linux (Ubuntu 20.04.4 LTS) / x86_64  OK    OK    OK  UNNEEDED, same version is already published
palomino3Windows Server 2022 Datacenter / x64  OK    OK    OK    OK  UNNEEDED, same version is already published
merida1macOS 10.14.6 Mojave / x86_64  OK    OK    OK    OK  UNNEEDED, same version is already published
Package 10/29HostnameOS / ArchINSTALLBUILDCHECKBUILD BIN
easyRNASeq 2.32.0  (landing page)
Nicolas Delhomme
git_last_commit: 83a6ed5
git_last_commit_date: 2022-04-26 11:10:04 -0400
nebbiolo1Linux (Ubuntu 20.04.4 LTS) / x86_64  OK    OK    OK  UNNEEDED, same version is already published
palomino3Windows Server 2022 Datacenter / x64  OK    OK    OK    OK  UNNEEDED, same version is already published
merida1macOS 10.14.6 Mojave / x86_64  OK    OK    OK    OK  UNNEEDED, same version is already published
Package 11/29HostnameOS / ArchINSTALLBUILDCHECKBUILD BIN
EDASeq 2.30.0  (landing page)
Davide Risso
git_last_commit: 9a5dd9d
git_last_commit_date: 2022-04-26 11:08:56 -0400
nebbiolo1Linux (Ubuntu 20.04.4 LTS) / x86_64  OK    OK    OK  UNNEEDED, same version is already published
palomino3Windows Server 2022 Datacenter / x64  OK    OK    OK    OK  UNNEEDED, same version is already published
merida1macOS 10.14.6 Mojave / x86_64  OK    OK    OK    OK  UNNEEDED, same version is already published
Package 12/29HostnameOS / ArchINSTALLBUILDCHECKBUILD BIN
esATAC 1.18.0  (landing page)
Zheng Wei
git_last_commit: c659773
git_last_commit_date: 2022-04-26 11:45:27 -0400
nebbiolo1Linux (Ubuntu 20.04.4 LTS) / x86_64  OK    OK    WARNINGS  UNNEEDED, same version is already published
palomino3Windows Server 2022 Datacenter / x64  OK    OK    WARNINGS    OK  UNNEEDED, same version is already published
merida1macOS 10.14.6 Mojave / x86_64  OK    OK    WARNINGS    OK  UNNEEDED, same version is already published
Package 13/29HostnameOS / ArchINSTALLBUILDCHECKBUILD BIN
FastqCleaner 1.14.0  (landing page)
Leandro Roser
git_last_commit: 089abe9
git_last_commit_date: 2022-04-26 11:49:29 -0400
nebbiolo1Linux (Ubuntu 20.04.4 LTS) / x86_64  OK    ERROR  skipped
palomino3Windows Server 2022 Datacenter / x64  OK    ERROR  skippedskipped
merida1macOS 10.14.6 Mojave / x86_64  OK    ERROR  skippedskipped
Package 14/29HostnameOS / ArchINSTALLBUILDCHECKBUILD BIN
girafe 1.48.0  (landing page)
J. Toedling
git_last_commit: b0d0e09
git_last_commit_date: 2022-04-26 11:04:31 -0400
nebbiolo1Linux (Ubuntu 20.04.4 LTS) / x86_64  OK    OK    OK  UNNEEDED, same version is already published
palomino3Windows Server 2022 Datacenter / x64  OK    OK    OK    OK  UNNEEDED, same version is already published
merida1macOS 10.14.6 Mojave / x86_64  OK    OK    OK    OK  UNNEEDED, same version is already published
Package 15/29HostnameOS / ArchINSTALLBUILDCHECKBUILD BIN
GOTHiC 1.32.0  (landing page)
Borbala Mifsud
git_last_commit: ba72ba3
git_last_commit_date: 2022-04-26 11:57:11 -0400
nebbiolo1Linux (Ubuntu 20.04.4 LTS) / x86_64  OK    OK    OK  UNNEEDED, same version is already published
palomino3Windows Server 2022 Datacenter / x64  OK    OK    OK    OK  UNNEEDED, same version is already published
merida1macOS 10.14.6 Mojave / x86_64  OK    OK    OK    OK  UNNEEDED, same version is already published
Package 16/29HostnameOS / ArchINSTALLBUILDCHECKBUILD BIN
HTSeqGenie 4.26.0  (landing page)
Jens Reeder
git_last_commit: a3c4a34
git_last_commit_date: 2022-04-26 11:12:25 -0400
nebbiolo1Linux (Ubuntu 20.04.4 LTS) / x86_64  OK    OK    ERROR  
palomino3Windows Server 2022 Datacenter / x64... NOT SUPPORTED ...
merida1macOS 10.14.6 Mojave / x86_64... NOT SUPPORTED ...
Package 17/29HostnameOS / ArchINSTALLBUILDCHECKBUILD BIN
icetea 1.14.0  (landing page)
Vivek Bhardwaj
git_last_commit: 5220193
git_last_commit_date: 2022-04-26 11:49:42 -0400
nebbiolo1Linux (Ubuntu 20.04.4 LTS) / x86_64  OK    OK    OK  UNNEEDED, same version is already published
palomino3Windows Server 2022 Datacenter / x64  OK    OK    OK    OK  UNNEEDED, same version is already published
merida1macOS 10.14.6 Mojave / x86_64  OK    OK    OK    OK  UNNEEDED, same version is already published
Package 18/29HostnameOS / ArchINSTALLBUILDCHECKBUILD BIN
IONiseR 2.20.0  (landing page)
Mike Smith
git_last_commit: 6519986
git_last_commit_date: 2022-04-26 11:25:57 -0400
nebbiolo1Linux (Ubuntu 20.04.4 LTS) / x86_64  OK    OK    OK  UNNEEDED, same version is already published
palomino3Windows Server 2022 Datacenter / x64  OK    OK    OK    OK  UNNEEDED, same version is already published
merida1macOS 10.14.6 Mojave / x86_64  OK    OK    OK    OK  UNNEEDED, same version is already published
Package 19/29HostnameOS / ArchINSTALLBUILDCHECKBUILD BIN
MACPET 1.16.0  (landing page)
Ioannis Vardaxis
git_last_commit: 61832fb
git_last_commit_date: 2022-04-26 11:47:25 -0400
nebbiolo1Linux (Ubuntu 20.04.4 LTS) / x86_64  ERROR    ERROR  skipped
palomino3Windows Server 2022 Datacenter / x64  ERROR    ERROR  skippedskipped
merida1macOS 10.14.6 Mojave / x86_64  ERROR    ERROR  skippedskipped
Package 20/29HostnameOS / ArchINSTALLBUILDCHECKBUILD BIN
nucleR 2.28.0  (landing page)
Alba Sala
git_last_commit: fbb1dd6
git_last_commit_date: 2022-04-26 11:08:26 -0400
nebbiolo1Linux (Ubuntu 20.04.4 LTS) / x86_64  OK    OK    WARNINGS  UNNEEDED, same version is already published
palomino3Windows Server 2022 Datacenter / x64  OK    OK    WARNINGS    OK  UNNEEDED, same version is already published
merida1macOS 10.14.6 Mojave / x86_64  OK    OK    WARNINGS    OK  UNNEEDED, same version is already published
Package 21/29HostnameOS / ArchINSTALLBUILDCHECKBUILD BIN
OTUbase 1.46.0  (landing page)
Daniel Beck
git_last_commit: e7ff967
git_last_commit_date: 2022-04-26 11:05:52 -0400
nebbiolo1Linux (Ubuntu 20.04.4 LTS) / x86_64  OK    OK    OK  UNNEEDED, same version is already published
palomino3Windows Server 2022 Datacenter / x64  OK    OK    OK    OK  UNNEEDED, same version is already published
merida1macOS 10.14.6 Mojave / x86_64  OK    OK    OK    OK  UNNEEDED, same version is already published
Package 22/29HostnameOS / ArchINSTALLBUILDCHECKBUILD BIN
QuasR 1.36.0  (landing page)
Michael Stadler
git_last_commit: e0383d7
git_last_commit_date: 2022-04-26 11:13:15 -0400
nebbiolo1Linux (Ubuntu 20.04.4 LTS) / x86_64  OK    OK    OK  UNNEEDED, same version is already published
palomino3Windows Server 2022 Datacenter / x64  OK    OK    OK    OK  UNNEEDED, same version is already published
merida1macOS 10.14.6 Mojave / x86_64  OK    OK    OK    OK  UNNEEDED, same version is already published
Package 23/29HostnameOS / ArchINSTALLBUILDCHECKBUILD BIN
R453Plus1Toolbox 1.46.0  (landing page)
Hans-Ulrich Klein
git_last_commit: 6f7b330
git_last_commit_date: 2022-04-26 11:06:14 -0400
nebbiolo1Linux (Ubuntu 20.04.4 LTS) / x86_64  OK    OK    OK  UNNEEDED, same version is already published
palomino3Windows Server 2022 Datacenter / x64  OK    OK    OK    OK  UNNEEDED, same version is already published
merida1macOS 10.14.6 Mojave / x86_64  OK    OK    OK    OK  UNNEEDED, same version is already published
Package 24/29HostnameOS / ArchINSTALLBUILDCHECKBUILD BIN
Rqc 1.30.0  (landing page)
Welliton Souza
git_last_commit: 28967ba
git_last_commit_date: 2022-04-26 11:22:41 -0400
nebbiolo1Linux (Ubuntu 20.04.4 LTS) / x86_64  OK    OK    OK  UNNEEDED, same version is already published
palomino3Windows Server 2022 Datacenter / x64  OK    OK    TIMEOUT    OK  
merida1macOS 10.14.6 Mojave / x86_64  OK    OK    OK    OK  UNNEEDED, same version is already published
Package 25/29HostnameOS / ArchINSTALLBUILDCHECKBUILD BIN
RSVSim 1.36.0  (landing page)
Christoph Bartenhagen
git_last_commit: d483427
git_last_commit_date: 2022-04-26 11:13:10 -0400
nebbiolo1Linux (Ubuntu 20.04.4 LTS) / x86_64  OK    OK    OK  UNNEEDED, same version is already published
palomino3Windows Server 2022 Datacenter / x64  OK    OK    OK    OK  UNNEEDED, same version is already published
merida1macOS 10.14.6 Mojave / x86_64  OK    OK    OK    OK  UNNEEDED, same version is already published
Package 26/29HostnameOS / ArchINSTALLBUILDCHECKBUILD BIN
scruff 1.14.0  (landing page)
Zhe Wang
git_last_commit: 9299a23
git_last_commit_date: 2022-04-26 11:50:08 -0400
nebbiolo1Linux (Ubuntu 20.04.4 LTS) / x86_64  OK    OK    OK  UNNEEDED, same version is already published
palomino3Windows Server 2022 Datacenter / x64  OK    OK    OK    OK  UNNEEDED, same version is already published
merida1macOS 10.14.6 Mojave / x86_64  OK    OK    OK    NA  
Package 27/29HostnameOS / ArchINSTALLBUILDCHECKBUILD BIN
segmentSeq 2.30.0  (landing page)
Thomas J. Hardcastle
git_last_commit: 1f7dab1
git_last_commit_date: 2022-04-26 11:04:22 -0400
nebbiolo1Linux (Ubuntu 20.04.4 LTS) / x86_64  OK    OK    OK  UNNEEDED, same version is already published
palomino3Windows Server 2022 Datacenter / x64  OK    OK    OK    OK  UNNEEDED, same version is already published
merida1macOS 10.14.6 Mojave / x86_64  OK    OK    OK    NA  
Package 28/29HostnameOS / ArchINSTALLBUILDCHECKBUILD BIN
systemPipeR 2.2.2  (landing page)
Thomas Girke
git_last_commit: 6aba24c
git_last_commit_date: 2022-04-29 19:45:27 -0400
nebbiolo1Linux (Ubuntu 20.04.4 LTS) / x86_64  OK    OK    OK  UNNEEDED, same version is already published
palomino3Windows Server 2022 Datacenter / x64  OK    OK    OK    OK  UNNEEDED, same version is already published
merida1macOS 10.14.6 Mojave / x86_64  OK    OK    OK    NA  
Package 29/29HostnameOS / ArchINSTALLBUILDCHECKBUILD BIN
UMI4Cats 1.6.0  (landing page)
Mireia Ramos-Rodriguez
git_last_commit: 056cb00
git_last_commit_date: 2022-04-26 12:07:17 -0400
nebbiolo1Linux (Ubuntu 20.04.4 LTS) / x86_64  OK    OK    OK  UNNEEDED, same version is already published
palomino3Windows Server 2022 Datacenter / x64  OK    OK    OK    OK  UNNEEDED, same version is already published
merida1macOS 10.14.6 Mojave / x86_64  OK    OK    OK    NA