Back to Multiple platform build/check report for BioC 3.15
ABC[D]EFGHIJKLMNOPQRSTUVWXYZ

This page was generated on 2022-10-19 13:19:22 -0400 (Wed, 19 Oct 2022).

HostnameOSArch (*)R versionInstalled pkgs
nebbiolo1Linux (Ubuntu 20.04.5 LTS)x86_644.2.1 (2022-06-23) -- "Funny-Looking Kid" 4386
palomino3Windows Server 2022 Datacenterx644.2.1 (2022-06-23 ucrt) -- "Funny-Looking Kid" 4138
merida1macOS 10.14.6 Mojavex86_644.2.1 (2022-06-23) -- "Funny-Looking Kid" 4205
Click on any hostname to see more info about the system (e.g. compilers)      (*) as reported by 'uname -p', except on Windows and Mac OS X

All results for package DESeq2


To the developers/maintainers of the DESeq2 package:
- Please allow up to 24 hours (and sometimes 48 hours) for your latest push to git@git.bioconductor.org:packages/DESeq2.git to
reflect on this report. See How and When does the builder pull? When will my changes propagate? for more information.
- Make sure to use the following settings in order to reproduce any error or warning you see on this page.

raw results

Package 514/2140HostnameOS / ArchINSTALLBUILDCHECKBUILD BIN
DESeq2 1.36.0  (landing page)
Michael Love
Snapshot Date: 2022-10-18 13:55:19 -0400 (Tue, 18 Oct 2022)
git_url: https://git.bioconductor.org/packages/DESeq2
git_branch: RELEASE_3_15
git_last_commit: 2800b78
git_last_commit_date: 2022-04-26 11:13:44 -0400 (Tue, 26 Apr 2022)
nebbiolo1Linux (Ubuntu 20.04.5 LTS) / x86_64  OK    OK    OK  UNNEEDED, same version is already published
palomino3Windows Server 2022 Datacenter / x64  OK    OK    OK    OK  UNNEEDED, same version is already published
merida1macOS 10.14.6 Mojave / x86_64  OK    OK    OK    OK  UNNEEDED, same version is already published

Results for Bioconductor software packages that depend directly on package DESeq2

QUICK STATSOS / ArchINSTALLBUILDCHECKBUILD BIN
nebbiolo1Linux (Ubuntu 20.04.5 LTS) / x86_64
0175
0472
02763
palomino3Windows Server 2022 Datacenter / x64
0174
0372
01863
0072
merida1macOS 10.14.6 Mojave / x86_64
0175
0472
02961
0072
Package 1/76HostnameOS / ArchINSTALLBUILDCHECKBUILD BIN
Anaquin 2.20.0  (landing page)
Ted Wong
git_last_commit: 61598dd
git_last_commit_date: 2022-04-26 11:34:57 -0400
nebbiolo1Linux (Ubuntu 20.04.5 LTS) / x86_64  OK    OK    OK  UNNEEDED, same version is already published
palomino3Windows Server 2022 Datacenter / x64  OK    OK    OK    OK  UNNEEDED, same version is already published
merida1macOS 10.14.6 Mojave / x86_64  OK    OK    OK    OK  UNNEEDED, same version is already published
Package 2/76HostnameOS / ArchINSTALLBUILDCHECKBUILD BIN
animalcules 1.12.0  (landing page)
Yue Zhao
git_last_commit: 7f75684
git_last_commit_date: 2022-04-26 11:55:46 -0400
nebbiolo1Linux (Ubuntu 20.04.5 LTS) / x86_64  OK    OK    WARNINGS  UNNEEDED, same version is already published
palomino3Windows Server 2022 Datacenter / x64  OK    OK    WARNINGS    OK  UNNEEDED, same version is already published
merida1macOS 10.14.6 Mojave / x86_64  OK    OK    WARNINGS    OK  UNNEEDED, same version is already published
Package 3/76HostnameOS / ArchINSTALLBUILDCHECKBUILD BIN
anota2seq 1.18.0  (landing page)
Christian Oertlin , Julie Lorent
git_last_commit: 6c05999
git_last_commit_date: 2022-04-26 11:44:07 -0400
nebbiolo1Linux (Ubuntu 20.04.5 LTS) / x86_64  OK    OK    OK  UNNEEDED, same version is already published
palomino3Windows Server 2022 Datacenter / x64  OK    OK    OK    OK  UNNEEDED, same version is already published
merida1macOS 10.14.6 Mojave / x86_64  OK    OK    OK    OK  UNNEEDED, same version is already published
Package 4/76HostnameOS / ArchINSTALLBUILDCHECKBUILD BIN
APAlyzer 1.10.0  (landing page)
Ruijia Wang
git_last_commit: 0545bb5
git_last_commit_date: 2022-04-26 11:58:10 -0400
nebbiolo1Linux (Ubuntu 20.04.5 LTS) / x86_64  OK    OK    WARNINGS  UNNEEDED, same version is already published
palomino3Windows Server 2022 Datacenter / x64  OK    OK    WARNINGS    OK  UNNEEDED, same version is already published
merida1macOS 10.14.6 Mojave / x86_64  OK    OK    WARNINGS    OK  UNNEEDED, same version is already published
Package 5/76HostnameOS / ArchINSTALLBUILDCHECKBUILD BIN
benchdamic 1.2.5  (landing page)
Matteo Calgaro
git_last_commit: a9a5cda
git_last_commit_date: 2022-09-10 09:20:25 -0400
nebbiolo1Linux (Ubuntu 20.04.5 LTS) / x86_64  OK    OK    OK  UNNEEDED, same version is already published
palomino3Windows Server 2022 Datacenter / x64  OK    OK    OK    OK  UNNEEDED, same version is already published
merida1macOS 10.14.6 Mojave / x86_64  OK    OK    OK    OK  UNNEEDED, same version is already published
Package 6/76HostnameOS / ArchINSTALLBUILDCHECKBUILD BIN
BRGenomics 1.8.0  (landing page)
Mike DeBerardine
git_last_commit: c879a27
git_last_commit_date: 2022-04-26 12:03:46 -0400
nebbiolo1Linux (Ubuntu 20.04.5 LTS) / x86_64  OK    OK    WARNINGS  UNNEEDED, same version is already published
palomino3Windows Server 2022 Datacenter / x64  OK    OK    WARNINGS    OK  UNNEEDED, same version is already published
merida1macOS 10.14.6 Mojave / x86_64  OK    OK    WARNINGS    OK  UNNEEDED, same version is already published
Package 7/76HostnameOS / ArchINSTALLBUILDCHECKBUILD BIN
CeTF 1.8.0  (landing page)
Carlos Alberto Oliveira de Biagi Junior
git_last_commit: 5503245
git_last_commit_date: 2022-04-26 12:01:42 -0400
nebbiolo1Linux (Ubuntu 20.04.5 LTS) / x86_64  OK    OK    OK  UNNEEDED, same version is already published
palomino3Windows Server 2022 Datacenter / x64  OK    OK    OK    OK  UNNEEDED, same version is already published
merida1macOS 10.14.6 Mojave / x86_64  OK    OK    OK    OK  UNNEEDED, same version is already published
Package 8/76HostnameOS / ArchINSTALLBUILDCHECKBUILD BIN
circRNAprofiler 1.10.0  (landing page)
Simona Aufiero
git_last_commit: 04b7e52
git_last_commit_date: 2022-04-26 11:57:26 -0400
nebbiolo1Linux (Ubuntu 20.04.5 LTS) / x86_64  OK    OK    OK  UNNEEDED, same version is already published
palomino3Windows Server 2022 Datacenter / x64  OK    OK    OK    OK  UNNEEDED, same version is already published
merida1macOS 10.14.6 Mojave / x86_64  OK    OK    OK    OK  UNNEEDED, same version is already published
Package 9/76HostnameOS / ArchINSTALLBUILDCHECKBUILD BIN
consensusDE 1.14.0  (landing page)
Ashley J. Waardenberg
git_last_commit: a3c3766
git_last_commit_date: 2022-04-26 11:51:54 -0400
nebbiolo1Linux (Ubuntu 20.04.5 LTS) / x86_64  OK    OK    OK  UNNEEDED, same version is already published
palomino3Windows Server 2022 Datacenter / x64  OK    OK    OK    OK  UNNEEDED, same version is already published
merida1macOS 10.14.6 Mojave / x86_64  OK    OK    OK    OK  UNNEEDED, same version is already published
Package 10/76HostnameOS / ArchINSTALLBUILDCHECKBUILD BIN
coseq 1.20.0  (landing page)
Andrea Rau
git_last_commit: 2952e7d
git_last_commit_date: 2022-04-26 11:38:25 -0400
nebbiolo1Linux (Ubuntu 20.04.5 LTS) / x86_64  OK    OK    OK  UNNEEDED, same version is already published
palomino3Windows Server 2022 Datacenter / x64  OK    OK    OK    OK  UNNEEDED, same version is already published
merida1macOS 10.14.6 Mojave / x86_64  OK    OK    OK    OK  UNNEEDED, same version is already published
Package 11/76HostnameOS / ArchINSTALLBUILDCHECKBUILD BIN
countsimQC 1.14.0  (landing page)
Charlotte Soneson
git_last_commit: c136ffc
git_last_commit_date: 2022-04-26 11:51:16 -0400
nebbiolo1Linux (Ubuntu 20.04.5 LTS) / x86_64  OK    OK    OK  UNNEEDED, same version is already published
palomino3Windows Server 2022 Datacenter / x64  OK    OK    OK    OK  UNNEEDED, same version is already published
merida1macOS 10.14.6 Mojave / x86_64  OK    OK    OK    OK  UNNEEDED, same version is already published
Package 12/76HostnameOS / ArchINSTALLBUILDCHECKBUILD BIN
DaMiRseq 2.8.0  (landing page)
Mattia Chiesa
git_last_commit: e75b440
git_last_commit_date: 2022-04-26 11:39:36 -0400
nebbiolo1Linux (Ubuntu 20.04.5 LTS) / x86_64  OK    OK    OK  UNNEEDED, same version is already published
palomino3Windows Server 2022 Datacenter / x64  OK    OK    OK    OK  UNNEEDED, same version is already published
merida1macOS 10.14.6 Mojave / x86_64  OK    OK    OK    OK  UNNEEDED, same version is already published
Package 13/76HostnameOS / ArchINSTALLBUILDCHECKBUILD BIN
debrowser 1.24.1  (landing page)
Alper Kucukural
git_last_commit: c03e0a0
git_last_commit_date: 2022-08-01 13:53:14 -0400
nebbiolo1Linux (Ubuntu 20.04.5 LTS) / x86_64  OK    OK    OK  UNNEEDED, same version is already published
palomino3Windows Server 2022 Datacenter / x64  OK    OK    OK    OK  UNNEEDED, same version is already published
merida1macOS 10.14.6 Mojave / x86_64  OK    OK    OK    OK  UNNEEDED, same version is already published
Package 14/76HostnameOS / ArchINSTALLBUILDCHECKBUILD BIN
DEComplexDisease 1.16.0  (landing page)
Guofeng Meng
git_last_commit: fbcf71d
git_last_commit_date: 2022-04-26 11:47:01 -0400
nebbiolo1Linux (Ubuntu 20.04.5 LTS) / x86_64  OK    OK    OK  UNNEEDED, same version is already published
palomino3Windows Server 2022 Datacenter / x64  OK    OK    OK    OK  UNNEEDED, same version is already published
merida1macOS 10.14.6 Mojave / x86_64  OK    OK    OK    OK  UNNEEDED, same version is already published
Package 15/76HostnameOS / ArchINSTALLBUILDCHECKBUILD BIN
DEFormats 1.24.0  (landing page)
Andrzej Oleś
git_last_commit: 8014385
git_last_commit_date: 2022-04-26 11:30:51 -0400
nebbiolo1Linux (Ubuntu 20.04.5 LTS) / x86_64  OK    OK    OK  UNNEEDED, same version is already published
palomino3Windows Server 2022 Datacenter / x64  OK    OK    OK    OK  UNNEEDED, same version is already published
merida1macOS 10.14.6 Mojave / x86_64  OK    OK    OK    OK  UNNEEDED, same version is already published
Package 16/76HostnameOS / ArchINSTALLBUILDCHECKBUILD BIN
DEGreport 1.32.0  (landing page)
Lorena Pantano
git_last_commit: 34bf061
git_last_commit_date: 2022-04-26 11:20:09 -0400
nebbiolo1Linux (Ubuntu 20.04.5 LTS) / x86_64  OK    OK    OK  UNNEEDED, same version is already published
palomino3Windows Server 2022 Datacenter / x64  OK    OK    OK    OK  UNNEEDED, same version is already published
merida1macOS 10.14.6 Mojave / x86_64  OK    OK    OK    OK  UNNEEDED, same version is already published
Package 17/76HostnameOS / ArchINSTALLBUILDCHECKBUILD BIN
deltaCaptureC 1.10.0  (landing page)
Michael Shapiro
git_last_commit: 86b05b7
git_last_commit_date: 2022-04-26 11:58:50 -0400
nebbiolo1Linux (Ubuntu 20.04.5 LTS) / x86_64  OK    OK    OK  UNNEEDED, same version is already published
palomino3Windows Server 2022 Datacenter / x64  OK    OK    OK    OK  UNNEEDED, same version is already published
merida1macOS 10.14.6 Mojave / x86_64  OK    OK    OK    OK  UNNEEDED, same version is already published
Package 18/76HostnameOS / ArchINSTALLBUILDCHECKBUILD BIN
DEsubs 1.22.0  (landing page)
Aristidis G. Vrahatis , Panos Balomenos
git_last_commit: 7f97eda
git_last_commit_date: 2022-04-26 11:36:04 -0400
nebbiolo1Linux (Ubuntu 20.04.5 LTS) / x86_64  OK    OK    OK  UNNEEDED, same version is already published
palomino3Windows Server 2022 Datacenter / x64  OK    OK    OK    OK  UNNEEDED, same version is already published
merida1macOS 10.14.6 Mojave / x86_64  OK    OK    OK    OK  UNNEEDED, same version is already published
Package 19/76HostnameOS / ArchINSTALLBUILDCHECKBUILD BIN
DEWSeq 1.10.0  (landing page)
bioinformatics team Hentze
git_last_commit: 645467d
git_last_commit_date: 2022-04-26 12:00:40 -0400
nebbiolo1Linux (Ubuntu 20.04.5 LTS) / x86_64  OK    OK    OK  UNNEEDED, same version is already published
palomino3Windows Server 2022 Datacenter / x64  OK    OK    OK    OK  UNNEEDED, same version is already published
merida1macOS 10.14.6 Mojave / x86_64  OK    OK    OK    OK  UNNEEDED, same version is already published
Package 20/76HostnameOS / ArchINSTALLBUILDCHECKBUILD BIN
DEXSeq 1.42.0  (landing page)
Alejandro Reyes
git_last_commit: d91de62
git_last_commit_date: 2022-04-26 11:08:07 -0400
nebbiolo1Linux (Ubuntu 20.04.5 LTS) / x86_64  OK    OK    OK  UNNEEDED, same version is already published
palomino3Windows Server 2022 Datacenter / x64  OK    OK    OK    OK  UNNEEDED, same version is already published
merida1macOS 10.14.6 Mojave / x86_64  OK    OK    OK    OK  UNNEEDED, same version is already published
Package 21/76HostnameOS / ArchINSTALLBUILDCHECKBUILD BIN
DiffBind 3.6.5  (landing page)
Rory Stark
git_last_commit: c1ce415
git_last_commit_date: 2022-10-04 09:50:40 -0400
nebbiolo1Linux (Ubuntu 20.04.5 LTS) / x86_64  OK    OK    OK  UNNEEDED, same version is already published
palomino3Windows Server 2022 Datacenter / x64  OK    OK    OK    OK  UNNEEDED, same version is already published
merida1macOS 10.14.6 Mojave / x86_64  OK    OK    OK    OK  UNNEEDED, same version is already published
Package 22/76HostnameOS / ArchINSTALLBUILDCHECKBUILD BIN
easier 1.2.2  (landing page)
Oscar Lapuente-Santana
git_last_commit: 4b0b619
git_last_commit_date: 2022-10-13 16:49:07 -0400
nebbiolo1Linux (Ubuntu 20.04.5 LTS) / x86_64  OK    OK    OK  UNNEEDED, same version is already published
palomino3Windows Server 2022 Datacenter / x64  OK    OK    OK    OK  UNNEEDED, same version is already published
merida1macOS 10.14.6 Mojave / x86_64  OK    OK    OK    OK  UNNEEDED, same version is already published
Package 23/76HostnameOS / ArchINSTALLBUILDCHECKBUILD BIN
EBSEA 1.24.0  (landing page)
Arfa Mehmood
git_last_commit: 1069788
git_last_commit_date: 2022-04-26 11:31:15 -0400
nebbiolo1Linux (Ubuntu 20.04.5 LTS) / x86_64  OK    OK    OK  UNNEEDED, same version is already published
palomino3Windows Server 2022 Datacenter / x64  OK    OK    OK    OK  UNNEEDED, same version is already published
merida1macOS 10.14.6 Mojave / x86_64  OK    OK    OK    OK  UNNEEDED, same version is already published
Package 24/76HostnameOS / ArchINSTALLBUILDCHECKBUILD BIN
eegc 1.22.0  (landing page)
Xiaoyuan Zhou
git_last_commit: 3b483fc
git_last_commit_date: 2022-04-26 11:35:00 -0400
nebbiolo1Linux (Ubuntu 20.04.5 LTS) / x86_64  OK    OK    WARNINGS  UNNEEDED, same version is already published
palomino3Windows Server 2022 Datacenter / x64  OK    OK    WARNINGS    OK  UNNEEDED, same version is already published
merida1macOS 10.14.6 Mojave / x86_64  OK    OK    WARNINGS    OK  UNNEEDED, same version is already published
Package 25/76HostnameOS / ArchINSTALLBUILDCHECKBUILD BIN
ERSSA 1.14.0  (landing page)
Zixuan Shao
git_last_commit: 37c2950
git_last_commit_date: 2022-04-26 11:51:03 -0400
nebbiolo1Linux (Ubuntu 20.04.5 LTS) / x86_64  OK    OK    OK  UNNEEDED, same version is already published
palomino3Windows Server 2022 Datacenter / x64  OK    OK    OK    OK  UNNEEDED, same version is already published
merida1macOS 10.14.6 Mojave / x86_64  OK    OK    OK    OK  UNNEEDED, same version is already published
Package 26/76HostnameOS / ArchINSTALLBUILDCHECKBUILD BIN
exomePeak2 1.8.1  (landing page)
Zhen Wei
git_last_commit: 33dff75
git_last_commit_date: 2022-09-14 22:18:12 -0400
nebbiolo1Linux (Ubuntu 20.04.5 LTS) / x86_64  OK    OK    OK  UNNEEDED, same version is already published
palomino3Windows Server 2022 Datacenter / x64  OK    OK    OK    OK  UNNEEDED, same version is already published
merida1macOS 10.14.6 Mojave / x86_64  OK    OK    OK    OK  UNNEEDED, same version is already published
Package 27/76HostnameOS / ArchINSTALLBUILDCHECKBUILD BIN
GDCRNATools 1.16.6  (landing page)
Ruidong Li
git_last_commit: 4e2df58
git_last_commit_date: 2022-08-19 20:36:23 -0400
nebbiolo1Linux (Ubuntu 20.04.5 LTS) / x86_64  OK    OK    OK  UNNEEDED, same version is already published
palomino3Windows Server 2022 Datacenter / x64  OK    OK    OK    OK  UNNEEDED, same version is already published
merida1macOS 10.14.6 Mojave / x86_64  OK    OK    OK    OK  UNNEEDED, same version is already published
Package 28/76HostnameOS / ArchINSTALLBUILDCHECKBUILD BIN
GeneTonic 2.0.2  (landing page)
Federico Marini
git_last_commit: 19e79ae
git_last_commit_date: 2022-08-03 04:42:03 -0400
nebbiolo1Linux (Ubuntu 20.04.5 LTS) / x86_64  ERROR    ERROR  skipped
palomino3Windows Server 2022 Datacenter / x64  ERROR    ERROR  skippedskipped
merida1macOS 10.14.6 Mojave / x86_64  ERROR    ERROR  skippedskipped
Package 29/76HostnameOS / ArchINSTALLBUILDCHECKBUILD BIN
GenoGAM 2.14.0  (landing page)
Georg Stricker
git_last_commit: 6a9e62f
git_last_commit_date: 2022-04-26 11:31:01 -0400
nebbiolo1Linux (Ubuntu 20.04.5 LTS) / x86_64  OK    ERROR  skipped
palomino3Windows Server 2022 Datacenter / x64  OK    ERROR  skippedskipped
merida1macOS 10.14.6 Mojave / x86_64  OK    ERROR  skippedskipped
Package 30/76HostnameOS / ArchINSTALLBUILDCHECKBUILD BIN
Glimma 2.6.0  (landing page)
Shian Su
git_last_commit: 23220d9
git_last_commit_date: 2022-04-26 11:31:28 -0400
nebbiolo1Linux (Ubuntu 20.04.5 LTS) / x86_64  OK    OK    OK  UNNEEDED, same version is already published
palomino3Windows Server 2022 Datacenter / x64  OK    OK    OK    OK  UNNEEDED, same version is already published
merida1macOS 10.14.6 Mojave / x86_64  OK    OK    OK    OK  UNNEEDED, same version is already published
Package 31/76HostnameOS / ArchINSTALLBUILDCHECKBUILD BIN
GRaNIE 1.0.7  (landing page)
Christian Arnold
git_last_commit: 2ff0659
git_last_commit_date: 2022-09-27 06:50:11 -0400
nebbiolo1Linux (Ubuntu 20.04.5 LTS) / x86_64  OK    ERROR  skipped
palomino3Windows Server 2022 Datacenter / x64  OK    OK    WARNINGS    OK  UNNEEDED, same version is already published
merida1macOS 10.14.6 Mojave / x86_64  OK    OK    WARNINGS    OK  UNNEEDED, same version is already published
Package 32/76HostnameOS / ArchINSTALLBUILDCHECKBUILD BIN
hermes 1.0.1  (landing page)
Daniel Sabanés Bové
git_last_commit: 0e43e46
git_last_commit_date: 2022-05-05 04:00:27 -0400
nebbiolo1Linux (Ubuntu 20.04.5 LTS) / x86_64  OK    OK    OK  UNNEEDED, same version is already published
palomino3Windows Server 2022 Datacenter / x64  OK    OK    OK    OK  UNNEEDED, same version is already published
merida1macOS 10.14.6 Mojave / x86_64  OK    OK    OK    OK  UNNEEDED, same version is already published
Package 33/76HostnameOS / ArchINSTALLBUILDCHECKBUILD BIN
HTSFilter 1.36.0  (landing page)
Andrea Rau
git_last_commit: ccc98a5
git_last_commit_date: 2022-04-26 11:13:28 -0400
nebbiolo1Linux (Ubuntu 20.04.5 LTS) / x86_64  OK    OK    OK  UNNEEDED, same version is already published
palomino3Windows Server 2022 Datacenter / x64  OK    OK    OK    OK  UNNEEDED, same version is already published
merida1macOS 10.14.6 Mojave / x86_64  OK    OK    OK    OK  UNNEEDED, same version is already published
Package 34/76HostnameOS / ArchINSTALLBUILDCHECKBUILD BIN
icetea 1.14.0  (landing page)
Vivek Bhardwaj
git_last_commit: 5220193
git_last_commit_date: 2022-04-26 11:49:42 -0400
nebbiolo1Linux (Ubuntu 20.04.5 LTS) / x86_64  OK    OK    OK  UNNEEDED, same version is already published
palomino3Windows Server 2022 Datacenter / x64  OK    OK    OK    OK  UNNEEDED, same version is already published
merida1macOS 10.14.6 Mojave / x86_64  OK    OK    OK    OK  UNNEEDED, same version is already published
Package 35/76HostnameOS / ArchINSTALLBUILDCHECKBUILD BIN
ideal 1.20.0  (landing page)
Federico Marini
git_last_commit: 564dff4
git_last_commit_date: 2022-04-26 11:40:43 -0400
nebbiolo1Linux (Ubuntu 20.04.5 LTS) / x86_64  OK    OK    OK  UNNEEDED, same version is already published
palomino3Windows Server 2022 Datacenter / x64  OK    OK    OK    OK  UNNEEDED, same version is already published
merida1macOS 10.14.6 Mojave / x86_64  OK    OK    OK    OK  UNNEEDED, same version is already published
Package 36/76HostnameOS / ArchINSTALLBUILDCHECKBUILD BIN
INSPEcT 1.26.0  (landing page)
Stefano de Pretis
git_last_commit: 8ba12ec
git_last_commit_date: 2022-04-26 11:26:03 -0400
nebbiolo1Linux (Ubuntu 20.04.5 LTS) / x86_64  OK    OK    OK  UNNEEDED, same version is already published
palomino3Windows Server 2022 Datacenter / x64  OK    OK    OK    OK  UNNEEDED, same version is already published
merida1macOS 10.14.6 Mojave / x86_64  OK    OK    OK    OK  UNNEEDED, same version is already published
Package 37/76HostnameOS / ArchINSTALLBUILDCHECKBUILD BIN
IntEREst 1.20.0  (landing page)
Ali Oghabian , Mikko Frilander
git_last_commit: 0a7909c
git_last_commit_date: 2022-04-26 11:39:28 -0400
nebbiolo1Linux (Ubuntu 20.04.5 LTS) / x86_64  OK    OK    OK  UNNEEDED, same version is already published
palomino3Windows Server 2022 Datacenter / x64  OK    OK    OK    OK  UNNEEDED, same version is already published
merida1macOS 10.14.6 Mojave / x86_64  OK    OK    OK    OK  UNNEEDED, same version is already published
Package 38/76HostnameOS / ArchINSTALLBUILDCHECKBUILD BIN
isomiRs 1.24.1  (landing page)
Lorena Pantano
git_last_commit: d4062d4
git_last_commit_date: 2022-08-06 13:04:49 -0400
nebbiolo1Linux (Ubuntu 20.04.5 LTS) / x86_64  OK    OK    OK  UNNEEDED, same version is already published
palomino3Windows Server 2022 Datacenter / x64  OK    OK    OK    OK  UNNEEDED, same version is already published
merida1macOS 10.14.6 Mojave / x86_64  OK    OK    OK    OK  UNNEEDED, same version is already published
Package 39/76HostnameOS / ArchINSTALLBUILDCHECKBUILD BIN
kissDE 1.16.0  (landing page)
Aurélie Siberchicot
git_last_commit: 5a6e6f3
git_last_commit_date: 2022-04-26 11:47:10 -0400
nebbiolo1Linux (Ubuntu 20.04.5 LTS) / x86_64  OK    OK    OK  UNNEEDED, same version is already published
palomino3Windows Server 2022 Datacenter / x64  OK    OK    OK    OK  UNNEEDED, same version is already published
merida1macOS 10.14.6 Mojave / x86_64  OK    OK    OK    OK  UNNEEDED, same version is already published
Package 40/76HostnameOS / ArchINSTALLBUILDCHECKBUILD BIN
metaseqR2 1.8.2  (landing page)
Panagiotis Moulos
git_last_commit: 2576302
git_last_commit_date: 2022-07-08 15:46:55 -0400
nebbiolo1Linux (Ubuntu 20.04.5 LTS) / x86_64  OK    OK    WARNINGS  UNNEEDED, same version is already published
palomino3Windows Server 2022 Datacenter / x64  OK    OK    WARNINGS    OK  UNNEEDED, same version is already published
merida1macOS 10.14.6 Mojave / x86_64  OK    OK    WARNINGS    OK  UNNEEDED, same version is already published
Package 41/76HostnameOS / ArchINSTALLBUILDCHECKBUILD BIN
microbiomeExplorer 1.6.1  (landing page)
Janina Reeder
git_last_commit: 17f323d
git_last_commit_date: 2022-09-01 16:28:09 -0400
nebbiolo1Linux (Ubuntu 20.04.5 LTS) / x86_64  OK    OK    OK  UNNEEDED, same version is already published
palomino3Windows Server 2022 Datacenter / x64  OK    OK    OK    OK  UNNEEDED, same version is already published
merida1macOS 10.14.6 Mojave / x86_64  OK    OK    OK    OK  UNNEEDED, same version is already published
Package 42/76HostnameOS / ArchINSTALLBUILDCHECKBUILD BIN
microbiomeMarker 1.2.2  (landing page)
Yang Cao
git_last_commit: a51c6f2
git_last_commit_date: 2022-06-15 01:49:04 -0400
nebbiolo1Linux (Ubuntu 20.04.5 LTS) / x86_64  OK    OK    ERROR  
palomino3Windows Server 2022 Datacenter / x64  OK    OK    ERROR    OK  
merida1macOS 10.14.6 Mojave / x86_64  OK    OK    ERROR    OK  
Package 43/76HostnameOS / ArchINSTALLBUILDCHECKBUILD BIN
MLSeq 2.14.0  (landing page)
Gokmen Zararsiz
git_last_commit: 3add161
git_last_commit_date: 2022-04-26 11:18:14 -0400
nebbiolo1Linux (Ubuntu 20.04.5 LTS) / x86_64  OK    OK    OK  UNNEEDED, same version is already published
palomino3Windows Server 2022 Datacenter / x64  OK    OK    OK    OK  UNNEEDED, same version is already published
merida1macOS 10.14.6 Mojave / x86_64  OK    OK    OK    OK  UNNEEDED, same version is already published
Package 44/76HostnameOS / ArchINSTALLBUILDCHECKBUILD BIN
multiSight 1.4.0  (landing page)
Florian Jeanneret
git_last_commit: 9771d24
git_last_commit_date: 2022-04-26 12:15:32 -0400
nebbiolo1Linux (Ubuntu 20.04.5 LTS) / x86_64  OK    OK    OK  UNNEEDED, same version is already published
palomino3Windows Server 2022 Datacenter / x64  OK    OK    OK    OK  UNNEEDED, same version is already published
merida1macOS 10.14.6 Mojave / x86_64  OK    OK    OK    OK  UNNEEDED, same version is already published
Package 45/76HostnameOS / ArchINSTALLBUILDCHECKBUILD BIN
muscat 1.10.1  (landing page)
Helena L. Crowell
git_last_commit: 4c1ba70
git_last_commit_date: 2022-06-17 01:40:22 -0400
nebbiolo1Linux (Ubuntu 20.04.5 LTS) / x86_64  OK    OK    OK  UNNEEDED, same version is already published
palomino3Windows Server 2022 Datacenter / x64  OK    OK    OK    OK  UNNEEDED, same version is already published
merida1macOS 10.14.6 Mojave / x86_64  OK    OK    OK    OK  UNNEEDED, same version is already published
Package 46/76HostnameOS / ArchINSTALLBUILDCHECKBUILD BIN
NBAMSeq 1.12.0  (landing page)
Xu Ren
git_last_commit: 5e1d641
git_last_commit_date: 2022-04-26 11:54:34 -0400
nebbiolo1Linux (Ubuntu 20.04.5 LTS) / x86_64  OK    OK    OK  UNNEEDED, same version is already published
palomino3Windows Server 2022 Datacenter / x64  OK    OK    OK    OK  UNNEEDED, same version is already published
merida1macOS 10.14.6 Mojave / x86_64  OK    OK    OK    OK  UNNEEDED, same version is already published
Package 47/76HostnameOS / ArchINSTALLBUILDCHECKBUILD BIN
ORFik 1.16.6  (landing page)
Haakon Tjeldnes
git_last_commit: 59b4114
git_last_commit_date: 2022-10-12 07:15:00 -0400
nebbiolo1Linux (Ubuntu 20.04.5 LTS) / x86_64  OK    OK    OK  UNNEEDED, same version is already published
palomino3Windows Server 2022 Datacenter / x64  OK    OK    OK    OK  UNNEEDED, same version is already published
merida1macOS 10.14.6 Mojave / x86_64  OK    OK    OK    OK  UNNEEDED, same version is already published
Package 48/76HostnameOS / ArchINSTALLBUILDCHECKBUILD BIN
OUTRIDER 1.14.0  (landing page)
Christian Mertes
git_last_commit: b1aff8f
git_last_commit_date: 2022-04-26 11:50:01 -0400
nebbiolo1Linux (Ubuntu 20.04.5 LTS) / x86_64  OK    OK    OK  UNNEEDED, same version is already published
palomino3Windows Server 2022 Datacenter / x64  OK    OK    OK    OK  UNNEEDED, same version is already published
merida1macOS 10.14.6 Mojave / x86_64  OK    OK    OK    OK  UNNEEDED, same version is already published
Package 49/76HostnameOS / ArchINSTALLBUILDCHECKBUILD BIN
PathoStat 1.22.0  (landing page)
Solaiappan Manimaran
git_last_commit: e6a7bac
git_last_commit_date: 2022-04-26 11:36:30 -0400
nebbiolo1Linux (Ubuntu 20.04.5 LTS) / x86_64  OK    OK    OK  UNNEEDED, same version is already published
palomino3Windows Server 2022 Datacenter / x64  OK    OK    OK    OK  UNNEEDED, same version is already published
merida1macOS 10.14.6 Mojave / x86_64  OK    OK    OK    OK  UNNEEDED, same version is already published
Package 50/76HostnameOS / ArchINSTALLBUILDCHECKBUILD BIN
pcaExplorer 2.22.0  (landing page)
Federico Marini
git_last_commit: ce2a13b
git_last_commit_date: 2022-04-26 11:31:37 -0400
nebbiolo1Linux (Ubuntu 20.04.5 LTS) / x86_64  OK    OK    OK  UNNEEDED, same version is already published
palomino3Windows Server 2022 Datacenter / x64  OK    OK    OK    OK  UNNEEDED, same version is already published
merida1macOS 10.14.6 Mojave / x86_64  OK    OK    OK    OK  UNNEEDED, same version is already published
Package 51/76HostnameOS / ArchINSTALLBUILDCHECKBUILD BIN
phantasus 1.16.2  (landing page)
Alexey Sergushichev
git_last_commit: 2bc288f
git_last_commit_date: 2022-05-05 11:05:00 -0400
nebbiolo1Linux (Ubuntu 20.04.5 LTS) / x86_64  OK    OK    OK  UNNEEDED, same version is already published
palomino3Windows Server 2022 Datacenter / x64  OK    OK    OK    OK  UNNEEDED, same version is already published
merida1macOS 10.14.6 Mojave / x86_64  OK    OK    OK    OK  UNNEEDED, same version is already published
Package 52/76HostnameOS / ArchINSTALLBUILDCHECKBUILD BIN
proActiv 1.6.0  (landing page)
Joseph Lee
git_last_commit: e817eaa
git_last_commit_date: 2022-04-26 12:08:21 -0400
nebbiolo1Linux (Ubuntu 20.04.5 LTS) / x86_64  OK    OK    OK  UNNEEDED, same version is already published
palomino3Windows Server 2022 Datacenter / x64  OK    OK    OK    OK  UNNEEDED, same version is already published
merida1macOS 10.14.6 Mojave / x86_64  OK    OK    OK    OK  UNNEEDED, same version is already published
Package 53/76HostnameOS / ArchINSTALLBUILDCHECKBUILD BIN
RegEnrich 1.6.0  (landing page)
Weiyang Tao
git_last_commit: be39426
git_last_commit_date: 2022-04-26 12:06:03 -0400
nebbiolo1Linux (Ubuntu 20.04.5 LTS) / x86_64  OK    OK    OK  UNNEEDED, same version is already published
palomino3Windows Server 2022 Datacenter / x64  OK    OK    OK    OK  UNNEEDED, same version is already published
merida1macOS 10.14.6 Mojave / x86_64  OK    OK    OK    OK  UNNEEDED, same version is already published
Package 54/76HostnameOS / ArchINSTALLBUILDCHECKBUILD BIN
regionReport 1.30.0  (landing page)
Leonardo Collado-Torres
git_last_commit: e0de84e
git_last_commit_date: 2022-04-26 11:21:55 -0400
nebbiolo1Linux (Ubuntu 20.04.5 LTS) / x86_64  OK    OK    OK  UNNEEDED, same version is already published
palomino3Windows Server 2022 Datacenter / x64  OK    OK    OK    OK  UNNEEDED, same version is already published
merida1macOS 10.14.6 Mojave / x86_64  OK    OK    OK    OK  UNNEEDED, same version is already published
Package 55/76HostnameOS / ArchINSTALLBUILDCHECKBUILD BIN
ReportingTools 2.36.0  (landing page)
Jason A. Hackney , Gabriel Becker
git_last_commit: 34122d4
git_last_commit_date: 2022-04-26 11:12:11 -0400
nebbiolo1Linux (Ubuntu 20.04.5 LTS) / x86_64  OK    OK    OK  UNNEEDED, same version is already published
palomino3Windows Server 2022 Datacenter / x64  OK    OK    OK    OK  UNNEEDED, same version is already published
merida1macOS 10.14.6 Mojave / x86_64  OK    OK    OK    OK  UNNEEDED, same version is already published
Package 56/76HostnameOS / ArchINSTALLBUILDCHECKBUILD BIN
rgsepd 1.28.0  (landing page)
Karl Stamm
git_last_commit: 4ad0ddc
git_last_commit_date: 2022-04-26 11:23:13 -0400
nebbiolo1Linux (Ubuntu 20.04.5 LTS) / x86_64  OK    OK    OK  UNNEEDED, same version is already published
palomino3Windows Server 2022 Datacenter / x64  OK    OK    OK    OK  UNNEEDED, same version is already published
merida1macOS 10.14.6 Mojave / x86_64  OK    OK    OK    OK  UNNEEDED, same version is already published
Package 57/76HostnameOS / ArchINSTALLBUILDCHECKBUILD BIN
RiboDiPA 1.4.1  (landing page)
Ji-Ping Wang
git_last_commit: 6817f37
git_last_commit_date: 2022-06-25 08:41:30 -0400
nebbiolo1Linux (Ubuntu 20.04.5 LTS) / x86_64  OK    OK    OK  UNNEEDED, same version is already published
palomino3Windows Server 2022 Datacenter / x64  OK    OK    OK    OK  UNNEEDED, same version is already published
merida1macOS 10.14.6 Mojave / x86_64  OK    OK    OK    OK  UNNEEDED, same version is already published
Package 58/76HostnameOS / ArchINSTALLBUILDCHECKBUILD BIN
Rmmquant 1.14.0  (landing page)
Zytnicki Matthias
git_last_commit: 6c903b0
git_last_commit_date: 2022-04-26 11:49:37 -0400
nebbiolo1Linux (Ubuntu 20.04.5 LTS) / x86_64  OK    OK    OK  UNNEEDED, same version is already published
palomino3Windows Server 2022 Datacenter / x64  OK    OK    OK    OK  UNNEEDED, same version is already published
merida1macOS 10.14.6 Mojave / x86_64  OK    OK    WARNINGS    OK  UNNEEDED, same version is already published
Package 59/76HostnameOS / ArchINSTALLBUILDCHECKBUILD BIN
RNASeqR 1.14.1  (landing page)
Kuan-Hao Chao
git_last_commit: 900b9fc
git_last_commit_date: 2022-05-04 12:43:44 -0400
nebbiolo1Linux (Ubuntu 20.04.5 LTS) / x86_64  OK    OK    ERROR  
palomino3Windows Server 2022 Datacenter / x64... NOT SUPPORTED ...
merida1macOS 10.14.6 Mojave / x86_64  OK    OK    ERROR    OK  
Package 60/76HostnameOS / ArchINSTALLBUILDCHECKBUILD BIN
scBFA 1.10.0  (landing page)
Ruoxin Li
git_last_commit: 702e3b9
git_last_commit_date: 2022-04-26 11:57:54 -0400
nebbiolo1Linux (Ubuntu 20.04.5 LTS) / x86_64  OK    OK    OK  UNNEEDED, same version is already published
palomino3Windows Server 2022 Datacenter / x64  OK    OK    OK    OK  UNNEEDED, same version is already published
merida1macOS 10.14.6 Mojave / x86_64  OK    OK    OK    OK  UNNEEDED, same version is already published
Package 61/76HostnameOS / ArchINSTALLBUILDCHECKBUILD BIN
scGPS 1.10.0  (landing page)
Quan Nguyen
git_last_commit: 30d3fb6
git_last_commit_date: 2022-04-26 11:57:33 -0400
nebbiolo1Linux (Ubuntu 20.04.5 LTS) / x86_64  OK    OK    OK  UNNEEDED, same version is already published
palomino3Windows Server 2022 Datacenter / x64  OK    OK    OK    OK  UNNEEDED, same version is already published
merida1macOS 10.14.6 Mojave / x86_64  OK    OK    OK    OK  UNNEEDED, same version is already published
Package 62/76HostnameOS / ArchINSTALLBUILDCHECKBUILD BIN
SeqGSEA 1.36.0  (landing page)
Xi Wang
git_last_commit: 503888f
git_last_commit_date: 2022-04-26 11:14:20 -0400
nebbiolo1Linux (Ubuntu 20.04.5 LTS) / x86_64  OK    OK    OK  UNNEEDED, same version is already published
palomino3Windows Server 2022 Datacenter / x64  OK    OK    OK    OK  UNNEEDED, same version is already published
merida1macOS 10.14.6 Mojave / x86_64  OK    ERROR  skippedskipped
Package 63/76HostnameOS / ArchINSTALLBUILDCHECKBUILD BIN
SEtools 1.10.0  (landing page)
Pierre-Luc Germain
git_last_commit: 3951246
git_last_commit_date: 2022-04-26 11:59:03 -0400
nebbiolo1Linux (Ubuntu 20.04.5 LTS) / x86_64  OK    OK    OK  UNNEEDED, same version is already published
palomino3Windows Server 2022 Datacenter / x64  OK    OK    OK    OK  UNNEEDED, same version is already published
merida1macOS 10.14.6 Mojave / x86_64  OK    OK    OK    OK  UNNEEDED, same version is already published
Package 64/76HostnameOS / ArchINSTALLBUILDCHECKBUILD BIN
singleCellTK 2.6.0  (landing page)
Yichen Wang
git_last_commit: b6fc536
git_last_commit_date: 2022-04-26 11:48:48 -0400
nebbiolo1Linux (Ubuntu 20.04.5 LTS) / x86_64  OK    OK    OK  UNNEEDED, same version is already published
palomino3Windows Server 2022 Datacenter / x64  OK    OK    OK    OK  UNNEEDED, same version is already published
merida1macOS 10.14.6 Mojave / x86_64  OK    OK    OK    OK  UNNEEDED, same version is already published
Package 65/76HostnameOS / ArchINSTALLBUILDCHECKBUILD BIN
SNPhood 1.26.0  (landing page)
Christian Arnold
git_last_commit: 7c587a3
git_last_commit_date: 2022-04-26 11:27:57 -0400
nebbiolo1Linux (Ubuntu 20.04.5 LTS) / x86_64  OK    OK    OK  UNNEEDED, same version is already published
palomino3Windows Server 2022 Datacenter / x64  OK    OK    OK    OK  UNNEEDED, same version is already published
merida1macOS 10.14.6 Mojave / x86_64  OK    OK    OK    OK  UNNEEDED, same version is already published
Package 66/76HostnameOS / ArchINSTALLBUILDCHECKBUILD BIN
spatialHeatmap 2.2.0  (landing page)
Jianhai Zhang
git_last_commit: b145080
git_last_commit_date: 2022-04-26 12:09:07 -0400
nebbiolo1Linux (Ubuntu 20.04.5 LTS) / x86_64  OK    OK    OK  UNNEEDED, same version is already published
palomino3Windows Server 2022 Datacenter / x64  OK    OK    OK    OK  UNNEEDED, same version is already published
merida1macOS 10.14.6 Mojave / x86_64  OK    OK    OK    OK  UNNEEDED, same version is already published
Package 67/76HostnameOS / ArchINSTALLBUILDCHECKBUILD BIN
srnadiff 1.16.0  (landing page)
Zytnicki Matthias
git_last_commit: bbc1f73
git_last_commit_date: 2022-04-26 11:46:44 -0400
nebbiolo1Linux (Ubuntu 20.04.5 LTS) / x86_64  OK    OK    WARNINGS  UNNEEDED, same version is already published
palomino3Windows Server 2022 Datacenter / x64  OK    OK    WARNINGS    OK  UNNEEDED, same version is already published
merida1macOS 10.14.6 Mojave / x86_64  OK    OK    WARNINGS    OK  UNNEEDED, same version is already published
Package 68/76HostnameOS / ArchINSTALLBUILDCHECKBUILD BIN
systemPipeTools 1.4.0  (landing page)
Daniela Cassol
git_last_commit: 54bf662
git_last_commit_date: 2022-04-26 12:16:31 -0400
nebbiolo1Linux (Ubuntu 20.04.5 LTS) / x86_64  OK    OK    OK  UNNEEDED, same version is already published
palomino3Windows Server 2022 Datacenter / x64  OK    OK    OK    OK  UNNEEDED, same version is already published
merida1macOS 10.14.6 Mojave / x86_64  OK    OK    OK    OK  UNNEEDED, same version is already published
Package 69/76HostnameOS / ArchINSTALLBUILDCHECKBUILD BIN
TBSignatureProfiler 1.8.0  (landing page)
Aubrey Odom-Mabey
git_last_commit: 0ea7c4c
git_last_commit_date: 2022-04-26 12:04:53 -0400
nebbiolo1Linux (Ubuntu 20.04.5 LTS) / x86_64  OK    OK    OK  UNNEEDED, same version is already published
palomino3Windows Server 2022 Datacenter / x64  OK    OK    OK    OK  UNNEEDED, same version is already published
merida1macOS 10.14.6 Mojave / x86_64  OK    OK    OK    OK  UNNEEDED, same version is already published
Package 70/76HostnameOS / ArchINSTALLBUILDCHECKBUILD BIN
TCC 1.36.0  (landing page)
Jianqiang Sun
git_last_commit: 0295ffc
git_last_commit_date: 2022-04-26 11:16:05 -0400
nebbiolo1Linux (Ubuntu 20.04.5 LTS) / x86_64  OK    OK    OK  UNNEEDED, same version is already published
palomino3Windows Server 2022 Datacenter / x64  OK    OK    OK    OK  UNNEEDED, same version is already published
merida1macOS 10.14.6 Mojave / x86_64  OK    OK    OK    OK  UNNEEDED, same version is already published
Package 71/76HostnameOS / ArchINSTALLBUILDCHECKBUILD BIN
TEKRABber 1.0.1  (landing page)
Yao-Chung Chen
git_last_commit: c36671f
git_last_commit_date: 2022-06-09 07:43:07 -0400
nebbiolo1Linux (Ubuntu 20.04.5 LTS) / x86_64  OK    OK    OK  UNNEEDED, same version is already published
palomino3Windows Server 2022 Datacenter / x64  OK    OK    OK    OK  UNNEEDED, same version is already published
merida1macOS 10.14.6 Mojave / x86_64  OK    OK    OK    OK  UNNEEDED, same version is already published
Package 72/76HostnameOS / ArchINSTALLBUILDCHECKBUILD BIN
TimeSeriesExperiment 1.14.0  (landing page)
Lan Huong Nguyen
git_last_commit: ddaae17
git_last_commit_date: 2022-04-26 11:52:04 -0400
nebbiolo1Linux (Ubuntu 20.04.5 LTS) / x86_64  OK    ERROR  skipped
palomino3Windows Server 2022 Datacenter / x64  OK    ERROR  skippedskipped
merida1macOS 10.14.6 Mojave / x86_64  OK    ERROR  skippedskipped
Package 73/76HostnameOS / ArchINSTALLBUILDCHECKBUILD BIN
tRanslatome 1.34.0  (landing page)
Toma Tebaldi , Erik Dassi
git_last_commit: 50053cc
git_last_commit_date: 2022-04-26 11:15:02 -0400
nebbiolo1Linux (Ubuntu 20.04.5 LTS) / x86_64  OK    OK    WARNINGS  UNNEEDED, same version is already published
palomino3Windows Server 2022 Datacenter / x64  OK    OK    WARNINGS    OK  UNNEEDED, same version is already published
merida1macOS 10.14.6 Mojave / x86_64  OK    OK    WARNINGS    OK  UNNEEDED, same version is already published
Package 74/76HostnameOS / ArchINSTALLBUILDCHECKBUILD BIN
UMI4Cats 1.6.0  (landing page)
Mireia Ramos-Rodriguez
git_last_commit: 056cb00
git_last_commit_date: 2022-04-26 12:07:17 -0400
nebbiolo1Linux (Ubuntu 20.04.5 LTS) / x86_64  OK    OK    OK  UNNEEDED, same version is already published
palomino3Windows Server 2022 Datacenter / x64  OK    OK    OK    OK  UNNEEDED, same version is already published
merida1macOS 10.14.6 Mojave / x86_64  OK    OK    OK    OK  UNNEEDED, same version is already published
Package 75/76HostnameOS / ArchINSTALLBUILDCHECKBUILD BIN
vidger 1.16.0  (landing page)
Brandon Monier
git_last_commit: 3787258
git_last_commit_date: 2022-04-26 11:47:39 -0400
nebbiolo1Linux (Ubuntu 20.04.5 LTS) / x86_64  OK    OK    OK  UNNEEDED, same version is already published
palomino3Windows Server 2022 Datacenter / x64  OK    OK    OK    OK  UNNEEDED, same version is already published
merida1macOS 10.14.6 Mojave / x86_64  OK    OK    OK    OK  UNNEEDED, same version is already published
Package 76/76HostnameOS / ArchINSTALLBUILDCHECKBUILD BIN
vulcan 1.18.0  (landing page)
Federico M. Giorgi
git_last_commit: 554d536
git_last_commit_date: 2022-04-26 11:43:45 -0400
nebbiolo1Linux (Ubuntu 20.04.5 LTS) / x86_64  OK    OK    OK  UNNEEDED, same version is already published
palomino3Windows Server 2022 Datacenter / x64  OK    OK    OK    OK  UNNEEDED, same version is already published
merida1macOS 10.14.6 Mojave / x86_64  OK    OK    OK    OK  UNNEEDED, same version is already published