Back to Multiple platform build/check report for BioC 3.15
ABCDEFGHIJKLMNOPQRSTU[V]WXYZ

This page was generated on 2022-07-01 12:04:56 -0400 (Fri, 01 Jul 2022).

HostnameOSArch (*)R versionInstalled pkgs
nebbiolo1Linux (Ubuntu 20.04.4 LTS)x86_644.2.0 (2022-04-22) -- "Vigorous Calisthenics" 4380
palomino3Windows Server 2022 Datacenterx644.2.0 (2022-04-22 ucrt) -- "Vigorous Calisthenics" 4156
merida1macOS 10.14.6 Mojavex86_644.2.0 (2022-04-22) -- "Vigorous Calisthenics" 4221
Click on any hostname to see more info about the system (e.g. compilers)      (*) as reported by 'uname -p', except on Windows and Mac OS X

All results for package VariantTools


To the developers/maintainers of the VariantTools package:
- Please allow up to 24 hours (and sometimes 48 hours) for your latest push to git@git.bioconductor.org:packages/VariantTools.git to
reflect on this report. See How and When does the builder pull? When will my changes propagate? for more information.
- Make sure to use the following settings in order to reproduce any error or warning you see on this page.

raw results

Package 2097/2140HostnameOS / ArchINSTALLBUILDCHECKBUILD BIN
VariantTools 1.38.0  (landing page)
Michael Lawrence
Snapshot Date: 2022-06-30 13:55:04 -0400 (Thu, 30 Jun 2022)
git_url: https://git.bioconductor.org/packages/VariantTools
git_branch: RELEASE_3_15
git_last_commit: 517f59a
git_last_commit_date: 2022-04-26 11:12:34 -0400 (Tue, 26 Apr 2022)
nebbiolo1Linux (Ubuntu 20.04.4 LTS) / x86_64  OK    OK    WARNINGS  UNNEEDED, same version is already published
palomino3Windows Server 2022 Datacenter / x64  OK    OK    WARNINGS    OK  UNNEEDED, same version is already published
merida1macOS 10.14.6 Mojave / x86_64  OK    OK    WARNINGS    OK  UNNEEDED, same version is already published

Results for Bioconductor software packages that depend directly on package VariantTools

QUICK STATSOS / ArchINSTALLBUILDCHECKBUILD BIN
nebbiolo1Linux (Ubuntu 20.04.4 LTS) / x86_64
002
002
0101
palomino3Windows Server 2022 Datacenter / x64
000
000
0000
000
merida1macOS 10.14.6 Mojave / x86_64
001
001
0001
001
Package 1/2HostnameOS / ArchINSTALLBUILDCHECKBUILD BIN
HTSeqGenie 4.26.0  (landing page)
Jens Reeder
git_last_commit: a3c4a34
git_last_commit_date: 2022-04-26 11:12:25 -0400
nebbiolo1Linux (Ubuntu 20.04.4 LTS) / x86_64  OK    OK    ERROR  
palomino3Windows Server 2022 Datacenter / x64... NOT SUPPORTED ...
merida1macOS 10.14.6 Mojave / x86_64... NOT SUPPORTED ...
Package 2/2HostnameOS / ArchINSTALLBUILDCHECKBUILD BIN
MMAPPR2 1.10.0  (landing page)
Jonathon Hill
git_last_commit: bf96997
git_last_commit_date: 2022-04-26 11:56:54 -0400
nebbiolo1Linux (Ubuntu 20.04.4 LTS) / x86_64  OK    OK    OK  UNNEEDED, same version is already published
palomino3Windows Server 2022 Datacenter / x64... NOT SUPPORTED ...
merida1macOS 10.14.6 Mojave / x86_64  OK    OK    OK    OK  UNNEEDED, same version is already published