Back to Multiple platform build/check report for BioC 3.15
ABCDEFGHIJKLMNO[P]QRSTUVWXYZ

This page was generated on 2022-08-03 13:22:09 -0400 (Wed, 03 Aug 2022).

HostnameOSArch (*)R versionInstalled pkgs
nebbiolo1Linux (Ubuntu 20.04.4 LTS)x86_644.2.1 (2022-06-23) -- "Funny-Looking Kid" 4361
palomino3Windows Server 2022 Datacenterx644.2.1 (2022-06-23 ucrt) -- "Funny-Looking Kid" 4114
merida1macOS 10.14.6 Mojavex86_644.2.1 (2022-06-23) -- "Funny-Looking Kid" 4179
Click on any hostname to see more info about the system (e.g. compilers)      (*) as reported by 'uname -p', except on Windows and Mac OS X

BUILD BIN results for ProteoDisco on palomino3


To the developers/maintainers of the ProteoDisco package:
- Please allow up to 24 hours (and sometimes 48 hours) for your latest push to git@git.bioconductor.org:packages/ProteoDisco.git to
reflect on this report. See How and When does the builder pull? When will my changes propagate? for more information.
- Make sure to use the following settings in order to reproduce any error or warning you see on this page.

raw results

Package 1512/2140HostnameOS / ArchINSTALLBUILDCHECKBUILD BIN
ProteoDisco 1.2.0  (landing page)
Job van Riet
Snapshot Date: 2022-08-02 13:55:13 -0400 (Tue, 02 Aug 2022)
git_url: https://git.bioconductor.org/packages/ProteoDisco
git_branch: RELEASE_3_15
git_last_commit: 80e3957
git_last_commit_date: 2022-04-26 12:18:02 -0400 (Tue, 26 Apr 2022)
nebbiolo1Linux (Ubuntu 20.04.4 LTS) / x86_64  OK    OK    WARNINGS  UNNEEDED, same version is already published
palomino3Windows Server 2022 Datacenter / x64  OK    OK    WARNINGS    OK  UNNEEDED, same version is already published
merida1macOS 10.14.6 Mojave / x86_64  OK    OK    WARNINGS    OK  UNNEEDED, same version is already published

Summary

Package: ProteoDisco
Version: 1.2.0
Command: rm -rf ProteoDisco.buildbin-libdir && mkdir ProteoDisco.buildbin-libdir && F:\biocbuild\bbs-3.15-bioc\R\bin\R.exe CMD INSTALL --build --library=ProteoDisco.buildbin-libdir ProteoDisco_1.2.0.tar.gz
StartedAt: 2022-08-03 07:26:30 -0400 (Wed, 03 Aug 2022)
EndedAt: 2022-08-03 07:27:47 -0400 (Wed, 03 Aug 2022)
EllapsedTime: 76.6 seconds
RetCode: 0
Status:   OK  
PackageFile: ProteoDisco_1.2.0.zip
PackageFileSize: 874.2 KiB

Command output

##############################################################################
##############################################################################
###
### Running command:
###
###   rm -rf ProteoDisco.buildbin-libdir && mkdir ProteoDisco.buildbin-libdir && F:\biocbuild\bbs-3.15-bioc\R\bin\R.exe CMD INSTALL --build --library=ProteoDisco.buildbin-libdir ProteoDisco_1.2.0.tar.gz
###
##############################################################################
##############################################################################


* installing *source* package 'ProteoDisco' ...
** using staged installation
** R
** data
** inst
** byte-compile and prepare package for lazy loading
Warning: replacing previous import 'dplyr::failwith' by 'plyr::failwith' when loading 'ProteoDisco'
Warning: replacing previous import 'dplyr::id' by 'plyr::id' when loading 'ProteoDisco'
Warning: replacing previous import 'dplyr::summarize' by 'plyr::summarize' when loading 'ProteoDisco'
Warning: replacing previous import 'dplyr::count' by 'plyr::count' when loading 'ProteoDisco'
Warning: replacing previous import 'dplyr::desc' by 'plyr::desc' when loading 'ProteoDisco'
Warning: replacing previous import 'dplyr::mutate' by 'plyr::mutate' when loading 'ProteoDisco'
Warning: replacing previous import 'dplyr::arrange' by 'plyr::arrange' when loading 'ProteoDisco'
Warning: replacing previous import 'dplyr::rename' by 'plyr::rename' when loading 'ProteoDisco'
Warning: replacing previous import 'dplyr::summarise' by 'plyr::summarise' when loading 'ProteoDisco'
** help
*** installing help indices
** building package indices
** installing vignettes
** testing if installed package can be loaded from temporary location
Warning: replacing previous import 'dplyr::failwith' by 'plyr::failwith' when loading 'ProteoDisco'
Warning: replacing previous import 'dplyr::id' by 'plyr::id' when loading 'ProteoDisco'
Warning: replacing previous import 'dplyr::summarize' by 'plyr::summarize' when loading 'ProteoDisco'
Warning: replacing previous import 'dplyr::count' by 'plyr::count' when loading 'ProteoDisco'
Warning: replacing previous import 'dplyr::desc' by 'plyr::desc' when loading 'ProteoDisco'
Warning: replacing previous import 'dplyr::mutate' by 'plyr::mutate' when loading 'ProteoDisco'
Warning: replacing previous import 'dplyr::arrange' by 'plyr::arrange' when loading 'ProteoDisco'
Warning: replacing previous import 'dplyr::rename' by 'plyr::rename' when loading 'ProteoDisco'
Warning: replacing previous import 'dplyr::summarise' by 'plyr::summarise' when loading 'ProteoDisco'
** testing if installed package can be loaded from final location
Warning: replacing previous import 'dplyr::failwith' by 'plyr::failwith' when loading 'ProteoDisco'
Warning: replacing previous import 'dplyr::id' by 'plyr::id' when loading 'ProteoDisco'
Warning: replacing previous import 'dplyr::summarize' by 'plyr::summarize' when loading 'ProteoDisco'
Warning: replacing previous import 'dplyr::count' by 'plyr::count' when loading 'ProteoDisco'
Warning: replacing previous import 'dplyr::desc' by 'plyr::desc' when loading 'ProteoDisco'
Warning: replacing previous import 'dplyr::mutate' by 'plyr::mutate' when loading 'ProteoDisco'
Warning: replacing previous import 'dplyr::arrange' by 'plyr::arrange' when loading 'ProteoDisco'
Warning: replacing previous import 'dplyr::rename' by 'plyr::rename' when loading 'ProteoDisco'
Warning: replacing previous import 'dplyr::summarise' by 'plyr::summarise' when loading 'ProteoDisco'
** testing if installed package keeps a record of temporary installation path
* MD5 sums
packaged installation of 'ProteoDisco' as ProteoDisco_1.2.0.zip
* DONE (ProteoDisco)