Back to Multiple platform build/check report for BioC 3.15
ABCDEFGHIJKLMNOPQRS[T]UVWXYZ

This page was generated on 2022-08-12 13:20:57 -0400 (Fri, 12 Aug 2022).

HostnameOSArch (*)R versionInstalled pkgs
nebbiolo1Linux (Ubuntu 20.04.4 LTS)x86_644.2.1 (2022-06-23) -- "Funny-Looking Kid" 4364
palomino3Windows Server 2022 Datacenterx644.2.1 (2022-06-23 ucrt) -- "Funny-Looking Kid" 4117
merida1macOS 10.14.6 Mojavex86_644.2.1 (2022-06-23) -- "Funny-Looking Kid" 4182
Click on any hostname to see more info about the system (e.g. compilers)      (*) as reported by 'uname -p', except on Windows and Mac OS X

INSTALL results for TFBSTools on nebbiolo1


To the developers/maintainers of the TFBSTools package:
- Please allow up to 24 hours (and sometimes 48 hours) for your latest push to git@git.bioconductor.org:packages/TFBSTools.git to
reflect on this report. See How and When does the builder pull? When will my changes propagate? for more information.
- Make sure to use the following settings in order to reproduce any error or warning you see on this page.

raw results

Package 1998/2140HostnameOS / ArchINSTALLBUILDCHECKBUILD BIN
TFBSTools 1.34.0  (landing page)
Ge Tan
Snapshot Date: 2022-08-11 13:55:06 -0400 (Thu, 11 Aug 2022)
git_url: https://git.bioconductor.org/packages/TFBSTools
git_branch: RELEASE_3_15
git_last_commit: 7f8d0cb
git_last_commit_date: 2022-04-26 11:16:50 -0400 (Tue, 26 Apr 2022)
nebbiolo1Linux (Ubuntu 20.04.4 LTS) / x86_64  OK    OK    OK  UNNEEDED, same version is already published
palomino3Windows Server 2022 Datacenter / x64  OK    OK    OK    OK  UNNEEDED, same version is already published
merida1macOS 10.14.6 Mojave / x86_64  OK    OK    OK    OK  UNNEEDED, same version is already published

Summary

Package: TFBSTools
Version: 1.34.0
Command: /home/biocbuild/bbs-3.15-bioc/R/bin/R CMD INSTALL TFBSTools
StartedAt: 2022-08-11 15:42:01 -0400 (Thu, 11 Aug 2022)
EndedAt: 2022-08-11 15:42:45 -0400 (Thu, 11 Aug 2022)
EllapsedTime: 43.7 seconds
RetCode: 0
Status:   OK  

Command output

##############################################################################
##############################################################################
###
### Running command:
###
###   /home/biocbuild/bbs-3.15-bioc/R/bin/R CMD INSTALL TFBSTools
###
##############################################################################
##############################################################################


* installing to library ‘/home/biocbuild/bbs-3.15-bioc/R/library’
* installing *source* package ‘TFBSTools’ ...
** using staged installation
** libs
gcc -I"/home/biocbuild/bbs-3.15-bioc/R/include" -DNDEBUG   -I/usr/local/include   -fpic  -g -O2  -Wall -c matrixAlignerDynamic.c -o matrixAlignerDynamic.o
matrixAlignerDynamic.c: In function ‘score’:
matrixAlignerDynamic.c:235:22: warning: ‘best_pntr’ may be used uninitialized in this function [-Wmaybe-uninitialized]
  235 |   while (current_pntr->father != NULL){ // while the father of the current pointer exists, walk through the best posible alignment
      |          ~~~~~~~~~~~~^~~~~~~~
gcc -I"/home/biocbuild/bbs-3.15-bioc/R/include" -DNDEBUG   -I/usr/local/include   -fpic  -g -O2  -Wall -c R_init_TFBSTools.c -o R_init_TFBSTools.o
gcc -shared -L/home/biocbuild/bbs-3.15-bioc/R/lib -L/usr/local/lib -o TFBSTools.so matrixAlignerDynamic.o R_init_TFBSTools.o -L/home/biocbuild/bbs-3.15-bioc/R/lib -lR
installing to /home/biocbuild/bbs-3.15-bioc/R/library/00LOCK-TFBSTools/00new/TFBSTools/libs
** R
** data
*** moving datasets to lazyload DB
** inst
** byte-compile and prepare package for lazy loading
Creating a new generic function for ‘seqLogo’ in package ‘TFBSTools’
** help
*** installing help indices
** building package indices
** installing vignettes
** testing if installed package can be loaded from temporary location
** checking absolute paths in shared objects and dynamic libraries
** testing if installed package can be loaded from final location
** testing if installed package keeps a record of temporary installation path
* DONE (TFBSTools)