Back to Multiple platform build/check report for BioC 3.15
ABC[D]EFGHIJKLMNOPQRSTUVWXYZ

This page was generated on 2022-05-20 12:06:24 -0400 (Fri, 20 May 2022).

HostnameOSArch (*)R versionInstalled pkgs
nebbiolo1Linux (Ubuntu 20.04.4 LTS)x86_644.2.0 (2022-04-22) -- "Vigorous Calisthenics" 4380
palomino3Windows Server 2022 Datacenterx644.2.0 (2022-04-22 ucrt) -- "Vigorous Calisthenics" 4155
merida1macOS 10.14.6 Mojavex86_644.2.0 (2022-04-22) -- "Vigorous Calisthenics" 4221
Click on any hostname to see more info about the system (e.g. compilers)      (*) as reported by 'uname -p', except on Windows and Mac OS X

BUILD BIN results for DAMEfinder on palomino3


To the developers/maintainers of the DAMEfinder package:
- Please allow up to 24 hours (and sometimes 48 hours) for your latest push to git@git.bioconductor.org:packages/DAMEfinder.git to
reflect on this report. See How and When does the builder pull? When will my changes propagate? for more information.
- Make sure to use the following settings in order to reproduce any error or warning you see on this page.

raw results

Package 467/2140HostnameOS / ArchINSTALLBUILDCHECKBUILD BIN
DAMEfinder 1.8.0  (landing page)
Stephany Orjuela
Snapshot Date: 2022-05-19 13:55:15 -0400 (Thu, 19 May 2022)
git_url: https://git.bioconductor.org/packages/DAMEfinder
git_branch: RELEASE_3_15
git_last_commit: 5a0777b
git_last_commit_date: 2022-04-26 12:02:10 -0400 (Tue, 26 Apr 2022)
nebbiolo1Linux (Ubuntu 20.04.4 LTS) / x86_64  OK    OK    OK  UNNEEDED, same version is already published
palomino3Windows Server 2022 Datacenter / x64  OK    OK    OK    OK  UNNEEDED, same version is already published
merida1macOS 10.14.6 Mojave / x86_64  OK    OK    OK    OK  UNNEEDED, same version is already published

Summary

Package: DAMEfinder
Version: 1.8.0
Command: rm -rf DAMEfinder.buildbin-libdir && mkdir DAMEfinder.buildbin-libdir && F:\biocbuild\bbs-3.15-bioc\R\bin\R.exe CMD INSTALL --build --library=DAMEfinder.buildbin-libdir DAMEfinder_1.8.0.tar.gz
StartedAt: 2022-05-20 05:40:50 -0400 (Fri, 20 May 2022)
EndedAt: 2022-05-20 05:41:24 -0400 (Fri, 20 May 2022)
EllapsedTime: 33.3 seconds
RetCode: 0
Status:   OK  
PackageFile: DAMEfinder_1.8.0.zip
PackageFileSize: 3.15 MiB

Command output

##############################################################################
##############################################################################
###
### Running command:
###
###   rm -rf DAMEfinder.buildbin-libdir && mkdir DAMEfinder.buildbin-libdir && F:\biocbuild\bbs-3.15-bioc\R\bin\R.exe CMD INSTALL --build --library=DAMEfinder.buildbin-libdir DAMEfinder_1.8.0.tar.gz
###
##############################################################################
##############################################################################


* installing *source* package 'DAMEfinder' ...
** using staged installation
** R
** data
** inst
** byte-compile and prepare package for lazy loading
** help
*** installing help indices
** building package indices
** installing vignettes
** testing if installed package can be loaded from temporary location
** testing if installed package can be loaded from final location
** testing if installed package keeps a record of temporary installation path
* MD5 sums
packaged installation of 'DAMEfinder' as DAMEfinder_1.8.0.zip
* DONE (DAMEfinder)