Back to Multiple platform build/check report for BioC 3.15
ABC[D]EFGHIJKLMNOPQRSTUVWXYZ

This page was generated on 2022-05-27 12:07:55 -0400 (Fri, 27 May 2022).

HostnameOSArch (*)R versionInstalled pkgs
nebbiolo1Linux (Ubuntu 20.04.4 LTS)x86_644.2.0 (2022-04-22) -- "Vigorous Calisthenics" 4380
palomino3Windows Server 2022 Datacenterx644.2.0 (2022-04-22 ucrt) -- "Vigorous Calisthenics" 4156
merida1macOS 10.14.6 Mojavex86_644.2.0 (2022-04-22) -- "Vigorous Calisthenics" 4221
Click on any hostname to see more info about the system (e.g. compilers)      (*) as reported by 'uname -p', except on Windows and Mac OS X

CHECK results for DESeq2 on merida1


To the developers/maintainers of the DESeq2 package:
- Please allow up to 24 hours (and sometimes 48 hours) for your latest push to git@git.bioconductor.org:packages/DESeq2.git to
reflect on this report. See How and When does the builder pull? When will my changes propagate? for more information.
- Make sure to use the following settings in order to reproduce any error or warning you see on this page.

raw results

Package 514/2140HostnameOS / ArchINSTALLBUILDCHECKBUILD BIN
DESeq2 1.36.0  (landing page)
Michael Love
Snapshot Date: 2022-05-26 13:55:15 -0400 (Thu, 26 May 2022)
git_url: https://git.bioconductor.org/packages/DESeq2
git_branch: RELEASE_3_15
git_last_commit: 2800b78
git_last_commit_date: 2022-04-26 11:13:44 -0400 (Tue, 26 Apr 2022)
nebbiolo1Linux (Ubuntu 20.04.4 LTS) / x86_64  OK    OK    OK  UNNEEDED, same version is already published
palomino3Windows Server 2022 Datacenter / x64  OK    OK    OK    OK  UNNEEDED, same version is already published
merida1macOS 10.14.6 Mojave / x86_64  OK    OK    OK    OK  UNNEEDED, same version is already published

Summary

Package: DESeq2
Version: 1.36.0
Command: /Library/Frameworks/R.framework/Resources/bin/R CMD check --install=check:DESeq2.install-out.txt --library=/Library/Frameworks/R.framework/Resources/library --no-vignettes --timings DESeq2_1.36.0.tar.gz
StartedAt: 2022-05-27 01:29:29 -0400 (Fri, 27 May 2022)
EndedAt: 2022-05-27 01:43:32 -0400 (Fri, 27 May 2022)
EllapsedTime: 843.1 seconds
RetCode: 0
Status:   OK  
CheckDir: DESeq2.Rcheck
Warnings: 0

Command output

##############################################################################
##############################################################################
###
### Running command:
###
###   /Library/Frameworks/R.framework/Resources/bin/R CMD check --install=check:DESeq2.install-out.txt --library=/Library/Frameworks/R.framework/Resources/library --no-vignettes --timings DESeq2_1.36.0.tar.gz
###
##############################################################################
##############################################################################


* using log directory ‘/Users/biocbuild/bbs-3.15-bioc/meat/DESeq2.Rcheck’
* using R version 4.2.0 (2022-04-22)
* using platform: x86_64-apple-darwin17.0 (64-bit)
* using session charset: UTF-8
* using option ‘--no-vignettes’
* checking for file ‘DESeq2/DESCRIPTION’ ... OK
* checking extension type ... Package
* this is package ‘DESeq2’ version ‘1.36.0’
* package encoding: UTF-8
* checking package namespace information ... OK
* checking package dependencies ... OK
* checking if this is a source package ... OK
* checking if there is a namespace ... OK
* checking for hidden files and directories ... OK
* checking for portable file names ... OK
* checking for sufficient/correct file permissions ... OK
* checking whether package ‘DESeq2’ can be installed ... OK
* checking installed package size ... OK
* checking package directory ... OK
* checking ‘build’ directory ... OK
* checking DESCRIPTION meta-information ... OK
* checking top-level files ... OK
* checking for left-over files ... OK
* checking index information ... OK
* checking package subdirectories ... OK
* checking R files for non-ASCII characters ... OK
* checking R files for syntax errors ... OK
* checking whether the package can be loaded ... OK
* checking whether the package can be loaded with stated dependencies ... OK
* checking whether the package can be unloaded cleanly ... OK
* checking whether the namespace can be loaded with stated dependencies ... OK
* checking whether the namespace can be unloaded cleanly ... OK
* checking dependencies in R code ... OK
* checking S3 generic/method consistency ... OK
* checking replacement functions ... OK
* checking foreign function calls ... OK
* checking R code for possible problems ... OK
* checking Rd files ... OK
* checking Rd metadata ... OK
* checking Rd cross-references ... OK
* checking for missing documentation entries ... OK
* checking for code/documentation mismatches ... OK
* checking Rd \usage sections ... OK
* checking Rd contents ... OK
* checking for unstated dependencies in examples ... OK
* checking line endings in C/C++/Fortran sources/headers ... OK
* checking line endings in Makefiles ... OK
* checking compilation flags in Makevars ... OK
* checking for GNU extensions in Makefiles ... OK
* checking for portable use of $(BLAS_LIBS) and $(LAPACK_LIBS) ... OK
* checking use of PKG_*FLAGS in Makefiles ... OK
* checking compiled code ... NOTE
Note: information on .o files is not available
* checking files in ‘vignettes’ ... OK
* checking examples ... OK
Examples with CPU (user + system) or elapsed time > 5s
            user system elapsed
results   16.664  0.097  17.592
DESeq     10.374  0.179  10.572
lfcShrink  6.680  0.030   6.721
* checking for unstated dependencies in ‘tests’ ... OK
* checking tests ...
  Running ‘testthat.R’
 OK
* checking for unstated dependencies in vignettes ... OK
* checking package vignettes in ‘inst/doc’ ... OK
* checking running R code from vignettes ... SKIPPED
* checking re-building of vignette outputs ... SKIPPED
* checking PDF version of manual ... OK
* DONE

Status: 1 NOTE
See
  ‘/Users/biocbuild/bbs-3.15-bioc/meat/DESeq2.Rcheck/00check.log’
for details.



Installation output

DESeq2.Rcheck/00install.out

##############################################################################
##############################################################################
###
### Running command:
###
###   /Library/Frameworks/R.framework/Resources/bin/R CMD INSTALL DESeq2
###
##############################################################################
##############################################################################


* installing to library ‘/Library/Frameworks/R.framework/Versions/4.2/Resources/library’
* installing *source* package ‘DESeq2’ ...
** using staged installation
** libs
clang++ -mmacosx-version-min=10.13 -std=gnu++14 -I"/Library/Frameworks/R.framework/Resources/include" -DNDEBUG  -I'/Library/Frameworks/R.framework/Versions/4.2/Resources/library/Rcpp/include' -I'/Library/Frameworks/R.framework/Versions/4.2/Resources/library/RcppArmadillo/include' -I/usr/local/include   -fPIC  -Wall -g -O2  -c DESeq2.cpp -o DESeq2.o
clang++ -mmacosx-version-min=10.13 -std=gnu++14 -I"/Library/Frameworks/R.framework/Resources/include" -DNDEBUG  -I'/Library/Frameworks/R.framework/Versions/4.2/Resources/library/Rcpp/include' -I'/Library/Frameworks/R.framework/Versions/4.2/Resources/library/RcppArmadillo/include' -I/usr/local/include   -fPIC  -Wall -g -O2  -c RcppExports.cpp -o RcppExports.o
clang++ -mmacosx-version-min=10.13 -std=gnu++14 -dynamiclib -Wl,-headerpad_max_install_names -undefined dynamic_lookup -single_module -multiply_defined suppress -L/Library/Frameworks/R.framework/Resources/lib -L/usr/local/lib -o DESeq2.so DESeq2.o RcppExports.o -L/Library/Frameworks/R.framework/Resources/lib -lRlapack -L/Library/Frameworks/R.framework/Resources/lib -lRblas -L/usr/local/gfortran/lib/gcc/x86_64-apple-darwin18/8.2.0 -L/usr/local/gfortran/lib -lgfortran -lquadmath -lm -F/Library/Frameworks/R.framework/.. -framework R -Wl,-framework -Wl,CoreFoundation
installing to /Library/Frameworks/R.framework/Versions/4.2/Resources/library/00LOCK-DESeq2/00new/DESeq2/libs
** R
** inst
** byte-compile and prepare package for lazy loading
** help
*** installing help indices
** building package indices
** installing vignettes
** testing if installed package can be loaded from temporary location
** checking absolute paths in shared objects and dynamic libraries
** testing if installed package can be loaded from final location
** testing if installed package keeps a record of temporary installation path
* DONE (DESeq2)

Tests output

DESeq2.Rcheck/tests/testthat.Rout


R version 4.2.0 (2022-04-22) -- "Vigorous Calisthenics"
Copyright (C) 2022 The R Foundation for Statistical Computing
Platform: x86_64-apple-darwin17.0 (64-bit)

R is free software and comes with ABSOLUTELY NO WARRANTY.
You are welcome to redistribute it under certain conditions.
Type 'license()' or 'licence()' for distribution details.

R is a collaborative project with many contributors.
Type 'contributors()' for more information and
'citation()' on how to cite R or R packages in publications.

Type 'demo()' for some demos, 'help()' for on-line help, or
'help.start()' for an HTML browser interface to help.
Type 'q()' to quit R.

> library("testthat")
> library("DESeq2")
Loading required package: S4Vectors
Loading required package: stats4
Loading required package: BiocGenerics

Attaching package: 'BiocGenerics'

The following objects are masked from 'package:stats':

    IQR, mad, sd, var, xtabs

The following objects are masked from 'package:base':

    Filter, Find, Map, Position, Reduce, anyDuplicated, append,
    as.data.frame, basename, cbind, colnames, dirname, do.call,
    duplicated, eval, evalq, get, grep, grepl, intersect, is.unsorted,
    lapply, mapply, match, mget, order, paste, pmax, pmax.int, pmin,
    pmin.int, rank, rbind, rownames, sapply, setdiff, sort, table,
    tapply, union, unique, unsplit, which.max, which.min


Attaching package: 'S4Vectors'

The following objects are masked from 'package:base':

    I, expand.grid, unname

Loading required package: IRanges
Loading required package: GenomicRanges
Loading required package: GenomeInfoDb
Loading required package: SummarizedExperiment
Loading required package: MatrixGenerics
Loading required package: matrixStats

Attaching package: 'MatrixGenerics'

The following objects are masked from 'package:matrixStats':

    colAlls, colAnyNAs, colAnys, colAvgsPerRowSet, colCollapse,
    colCounts, colCummaxs, colCummins, colCumprods, colCumsums,
    colDiffs, colIQRDiffs, colIQRs, colLogSumExps, colMadDiffs,
    colMads, colMaxs, colMeans2, colMedians, colMins, colOrderStats,
    colProds, colQuantiles, colRanges, colRanks, colSdDiffs, colSds,
    colSums2, colTabulates, colVarDiffs, colVars, colWeightedMads,
    colWeightedMeans, colWeightedMedians, colWeightedSds,
    colWeightedVars, rowAlls, rowAnyNAs, rowAnys, rowAvgsPerColSet,
    rowCollapse, rowCounts, rowCummaxs, rowCummins, rowCumprods,
    rowCumsums, rowDiffs, rowIQRDiffs, rowIQRs, rowLogSumExps,
    rowMadDiffs, rowMads, rowMaxs, rowMeans2, rowMedians, rowMins,
    rowOrderStats, rowProds, rowQuantiles, rowRanges, rowRanks,
    rowSdDiffs, rowSds, rowSums2, rowTabulates, rowVarDiffs, rowVars,
    rowWeightedMads, rowWeightedMeans, rowWeightedMedians,
    rowWeightedSds, rowWeightedVars

Loading required package: Biobase
Welcome to Bioconductor

    Vignettes contain introductory material; view with
    'browseVignettes()'. To cite Bioconductor, see
    'citation("Biobase")', and for packages 'citation("pkgname")'.


Attaching package: 'Biobase'

The following object is masked from 'package:MatrixGenerics':

    rowMedians

The following objects are masked from 'package:matrixStats':

    anyMissing, rowMedians

> test_check("DESeq2")

warning: solve(): system is singular (rcond: 3.26655e-17); attempting approx solution

warning: solve(): system is singular (rcond: 4.76056e-17); attempting approx solution

warning: solve(): system is singular (rcond: 5.55852e-17); attempting approx solution

warning: solve(): system is singular (rcond: 7.17196e-17); attempting approx solution

warning: solve(): system is singular (rcond: 8.25357e-17); attempting approx solution

warning: solve(): system is singular (rcond: 3.93241e-17); attempting approx solution

warning: solve(): system is singular (rcond: 3.57211e-17); attempting approx solution

warning: solve(): system is singular (rcond: 3.63879e-17); attempting approx solution

warning: solve(): system is singular (rcond: 3.57211e-17); attempting approx solution

warning: solve(): system is singular (rcond: 3.63879e-17); attempting approx solution

warning: solve(): system is singular (rcond: 3.57211e-17); attempting approx solution

warning: solve(): system is singular (rcond: 3.63879e-17); attempting approx solution

warning: solve(): system is singular (rcond: 3.57211e-17); attempting approx solution

warning: solve(): system is singular (rcond: 3.63879e-17); attempting approx solution
[ FAIL 0 | WARN 0 | SKIP 3 | PASS 231 ]

══ Skipped tests ═══════════════════════════════════════════════════════════════
• empty test (3)

[ FAIL 0 | WARN 0 | SKIP 3 | PASS 231 ]
Warning message:
call dbDisconnect() when finished working with a connection 
> 
> proc.time()
   user  system elapsed 
375.286   4.160 394.679 

Example timings

DESeq2.Rcheck/DESeq2-Ex.timings

nameusersystemelapsed
DESeq10.374 0.17910.572
DESeqDataSet0.3930.0010.395
coef4.3080.0954.406
collapseReplicates0.7030.0040.708
counts0.6410.0010.643
design0.3490.0010.351
dispersionFunction3.1060.0523.159
estimateDispersions2.2750.0082.287
estimateDispersionsGeneEst2.2910.0092.302
estimateSizeFactors1.5570.0041.562
estimateSizeFactorsForMatrix0.3210.0010.321
fpkm1.4600.0041.466
fpm1.0910.0031.095
integrateWithSingleCell0.0000.0000.001
lfcShrink6.6800.0306.721
makeExampleDESeqDataSet0.3230.0010.325
nbinomLRT3.6140.0073.623
nbinomWaldTest3.6890.0113.707
normalizationFactors3.7190.0413.764
plotCounts0.7470.0020.751
plotDispEsts2.4510.0072.462
plotMA4.3150.0124.333
plotPCA3.8030.0143.885
plotSparsity0.7170.0040.756
results16.664 0.09717.592
rlog2.1120.0052.119
summary4.5410.0304.579
unmix0.7620.0030.768
varianceStabilizingTransformation1.5950.0041.601
vst1.9540.0051.960