Back to Build/check report for BioC 3.15
ABCDEF[G]HIJKLMNOPQRSTUVWXYZ

This page was generated on 2022-06-27 11:09:56 -0400 (Mon, 27 Jun 2022).

HostnameOSArch (*)R versionInstalled pkgs
nebbiolo1Linux (Ubuntu 20.04.4 LTS)x86_644.2.0 (2022-04-22) -- "Vigorous Calisthenics" 4380
Click on any hostname to see more info about the system (e.g. compilers)      (*) as reported by 'uname -p', except on Windows and Mac OS X

BUILD results for ggbio on nebbiolo1


To the developers/maintainers of the ggbio package:
- Please allow up to 24 hours (and sometimes 48 hours) for your latest push to git@git.bioconductor.org:packages/ggbio.git to
reflect on this report. See How and When does the builder pull? When will my changes propagate? for more information.
- Make sure to use the following settings in order to reproduce any error or warning you see on this page.

raw results

Package 798/2140HostnameOS / ArchINSTALLBUILDCHECKBUILD BIN
ggbio 1.44.1  (landing page)
Michael Lawrence
Snapshot Date: 2022-06-26 13:55:11 -0400 (Sun, 26 Jun 2022)
git_url: https://git.bioconductor.org/packages/ggbio
git_branch: RELEASE_3_15
git_last_commit: 0301d94
git_last_commit_date: 2022-06-22 15:18:55 -0400 (Wed, 22 Jun 2022)
nebbiolo1Linux (Ubuntu 20.04.4 LTS) / x86_64  OK    OK    WARNINGS  UNNEEDED, same version is already published

Summary

Package: ggbio
Version: 1.44.1
Command: /home/biocbuild/bbs-3.15-bioc/R/bin/R CMD build --keep-empty-dirs --no-resave-data ggbio
StartedAt: 2022-06-26 16:32:16 -0400 (Sun, 26 Jun 2022)
EndedAt: 2022-06-26 16:36:37 -0400 (Sun, 26 Jun 2022)
EllapsedTime: 261.1 seconds
RetCode: 0
Status:   OK  
PackageFile: ggbio_1.44.1.tar.gz
PackageFileSize: 3.086 MiB

Command output

##############################################################################
##############################################################################
###
### Running command:
###
###   /home/biocbuild/bbs-3.15-bioc/R/bin/R CMD build --keep-empty-dirs --no-resave-data ggbio
###
##############################################################################
##############################################################################


* checking for file ‘ggbio/DESCRIPTION’ ... OK
* preparing ‘ggbio’:
* checking DESCRIPTION meta-information ... OK
* installing the package to build vignettes
* creating vignettes ... OK
* checking for LF line-endings in source and make files and shell scripts
* checking for empty or unneeded directories
* building ‘ggbio_1.44.1.tar.gz’