Back to Multiple platform build/check report for BioC 3.15 |
|
This page was generated on 2022-05-25 12:05:05 -0400 (Wed, 25 May 2022).
Hostname | OS | Arch (*) | R version | Installed pkgs |
---|---|---|---|---|
nebbiolo1 | Linux (Ubuntu 20.04.4 LTS) | x86_64 | 4.2.0 (2022-04-22) -- "Vigorous Calisthenics" | 4380 |
palomino3 | Windows Server 2022 Datacenter | x64 | 4.2.0 (2022-04-22 ucrt) -- "Vigorous Calisthenics" | 4155 |
merida1 | macOS 10.14.6 Mojave | x86_64 | 4.2.0 (2022-04-22) -- "Vigorous Calisthenics" | 4221 |
Click on any hostname to see more info about the system (e.g. compilers) (*) as reported by 'uname -p', except on Windows and Mac OS X |
To the developers/maintainers of the biovizBase package: - Please allow up to 24 hours (and sometimes 48 hours) for your latest push to git@git.bioconductor.org:packages/biovizBase.git to reflect on this report. See How and When does the builder pull? When will my changes propagate? for more information. - Make sure to use the following settings in order to reproduce any error or warning you see on this page. |
Package 201/2140 | Hostname | OS / Arch | INSTALL | BUILD | CHECK | BUILD BIN | ||||||||
biovizBase 1.44.0 (landing page) Michael Lawrence
| nebbiolo1 | Linux (Ubuntu 20.04.4 LTS) / x86_64 | OK | OK | WARNINGS | ![]() | ||||||||
palomino3 | Windows Server 2022 Datacenter / x64 | OK | OK | WARNINGS | OK | ![]() | ||||||||
merida1 | macOS 10.14.6 Mojave / x86_64 | OK | OK | WARNINGS | OK | ![]() | ||||||||
Package: biovizBase |
Version: 1.44.0 |
Command: /home/biocbuild/bbs-3.15-bioc/R/bin/R CMD build --keep-empty-dirs --no-resave-data biovizBase |
StartedAt: 2022-05-24 15:58:01 -0400 (Tue, 24 May 2022) |
EndedAt: 2022-05-24 15:59:07 -0400 (Tue, 24 May 2022) |
EllapsedTime: 65.3 seconds |
RetCode: 0 |
Status: OK |
PackageFile: biovizBase_1.44.0.tar.gz |
PackageFileSize: 2.212 MiB |
############################################################################## ############################################################################## ### ### Running command: ### ### /home/biocbuild/bbs-3.15-bioc/R/bin/R CMD build --keep-empty-dirs --no-resave-data biovizBase ### ############################################################################## ############################################################################## * checking for file ‘biovizBase/DESCRIPTION’ ... OK * preparing ‘biovizBase’: * checking DESCRIPTION meta-information ... OK * cleaning src * installing the package to build vignettes * creating vignettes ... OK * cleaning src * checking for LF line-endings in source and make files and shell scripts * checking for empty or unneeded directories * building ‘biovizBase_1.44.0.tar.gz’