Back to Multiple platform build/check report for BioC 3.15
[A]BCDEFGHIJKLMNOPQRSTUVWXYZ

This page was generated on 2022-06-24 12:07:04 -0400 (Fri, 24 Jun 2022).

HostnameOSArch (*)R versionInstalled pkgs
nebbiolo1Linux (Ubuntu 20.04.4 LTS)x86_644.2.0 (2022-04-22) -- "Vigorous Calisthenics" 4380
palomino3Windows Server 2022 Datacenterx644.2.0 (2022-04-22 ucrt) -- "Vigorous Calisthenics" 4156
merida1macOS 10.14.6 Mojavex86_644.2.0 (2022-04-22) -- "Vigorous Calisthenics" 4221
Click on any hostname to see more info about the system (e.g. compilers)      (*) as reported by 'uname -p', except on Windows and Mac OS X

BUILD BIN results for ATACseqQC on merida1


To the developers/maintainers of the ATACseqQC package:
- Please allow up to 24 hours (and sometimes 48 hours) for your latest push to git@git.bioconductor.org:packages/ATACseqQC.git to
reflect on this report. See How and When does the builder pull? When will my changes propagate? for more information.
- Make sure to use the following settings in order to reproduce any error or warning you see on this page.

raw results

Package 93/2140HostnameOS / ArchINSTALLBUILDCHECKBUILD BIN
ATACseqQC 1.20.2  (landing page)
Jianhong Ou
Snapshot Date: 2022-06-23 13:55:15 -0400 (Thu, 23 Jun 2022)
git_url: https://git.bioconductor.org/packages/ATACseqQC
git_branch: RELEASE_3_15
git_last_commit: 067730d
git_last_commit_date: 2022-05-02 10:02:56 -0400 (Mon, 02 May 2022)
nebbiolo1Linux (Ubuntu 20.04.4 LTS) / x86_64  OK    OK    OK  UNNEEDED, same version is already published
palomino3Windows Server 2022 Datacenter / x64  OK    OK    OK    OK  UNNEEDED, same version is already published
merida1macOS 10.14.6 Mojave / x86_64  OK    OK    OK    OK  UNNEEDED, same version is already published

Summary

Package: ATACseqQC
Version: 1.20.2
Command: rm -rf ATACseqQC.buildbin-libdir && mkdir ATACseqQC.buildbin-libdir && /Users/biocbuild/BBS/utils/build-universal.sh ATACseqQC_1.20.2.tar.gz /Library/Frameworks/R.framework/Resources/bin/R ATACseqQC.buildbin-libdir
StartedAt: 2022-06-24 10:58:12 -0400 (Fri, 24 Jun 2022)
EndedAt: 2022-06-24 11:00:11 -0400 (Fri, 24 Jun 2022)
EllapsedTime: 118.4 seconds
RetCode: 0
Status:   OK  
PackageFile: ATACseqQC_1.20.2.tgz
PackageFileSize: 13.6 MiB

Command output

##############################################################################
##############################################################################
###
### Running command:
###
###   rm -rf ATACseqQC.buildbin-libdir && mkdir ATACseqQC.buildbin-libdir && /Users/biocbuild/BBS/utils/build-universal.sh ATACseqQC_1.20.2.tar.gz /Library/Frameworks/R.framework/Resources/bin/R ATACseqQC.buildbin-libdir
###
##############################################################################
##############################################################################


>>>>>>> 
>>>>>>> INSTALLATION WITH 'R CMD INSTALL --preclean --no-multiarch --library=ATACseqQC.buildbin-libdir ATACseqQC_1.20.2.tar.gz'
>>>>>>> 

* installing *source* package ‘ATACseqQC’ ...
** using staged installation
** R
** inst
** byte-compile and prepare package for lazy loading
** help
*** installing help indices
** building package indices
** installing vignettes
** testing if installed package can be loaded from temporary location
** testing if installed package can be loaded from final location
** testing if installed package keeps a record of temporary installation path
* DONE (ATACseqQC)