Back to Multiple platform build/check report for BioC 3.15
ABCDEFG[H]IJKLMNOPQRSTUVWXYZ

This page was generated on 2022-08-08 13:19:03 -0400 (Mon, 08 Aug 2022).

HostnameOSArch (*)R versionInstalled pkgs
nebbiolo1Linux (Ubuntu 20.04.4 LTS)x86_644.2.1 (2022-06-23) -- "Funny-Looking Kid" 4362
merida1macOS 10.14.6 Mojavex86_644.2.1 (2022-06-23) -- "Funny-Looking Kid" 4180
Click on any hostname to see more info about the system (e.g. compilers)      (*) as reported by 'uname -p', except on Windows and Mac OS X

All results for package HiCDCPlus


To the developers/maintainers of the HiCDCPlus package:
- Please allow up to 24 hours (and sometimes 48 hours) for your latest push to git@git.bioconductor.org:packages/HiCDCPlus.git to
reflect on this report. See How and When does the builder pull? When will my changes propagate? for more information.
- Make sure to use the following settings in order to reproduce any error or warning you see on this page.

raw results

Package 893/2140HostnameOS / ArchINSTALLBUILDCHECKBUILD BIN
HiCDCPlus 1.4.2  (landing page)
Merve Sahin
Snapshot Date: 2022-08-07 13:55:12 -0400 (Sun, 07 Aug 2022)
git_url: https://git.bioconductor.org/packages/HiCDCPlus
git_branch: RELEASE_3_15
git_last_commit: 70d7860
git_last_commit_date: 2022-06-06 10:44:47 -0400 (Mon, 06 Jun 2022)
nebbiolo1Linux (Ubuntu 20.04.4 LTS) / x86_64  OK    OK    OK  UNNEEDED, same version is already published
merida1macOS 10.14.6 Mojave / x86_64  OK    OK    OK    OK  UNNEEDED, same version is already published