Back to Multiple platform build/check report for BioC 3.15
ABCDEFGHIJKLM[N]OPQRSTUVWXYZ

This page was generated on 2022-08-12 13:23:22 -0400 (Fri, 12 Aug 2022).

HostnameOSArch (*)R versionInstalled pkgs
nebbiolo1Linux (Ubuntu 20.04.4 LTS)x86_644.2.1 (2022-06-23) -- "Funny-Looking Kid" 4364
palomino3Windows Server 2022 Datacenterx644.2.1 (2022-06-23 ucrt) -- "Funny-Looking Kid" 4117
merida1macOS 10.14.6 Mojavex86_644.2.1 (2022-06-23) -- "Funny-Looking Kid" 4182
Click on any hostname to see more info about the system (e.g. compilers)      (*) as reported by 'uname -p', except on Windows and Mac OS X

BUILD BIN results for normr on merida1


To the developers/maintainers of the normr package:
- Please allow up to 24 hours (and sometimes 48 hours) for your latest push to git@git.bioconductor.org:packages/normr.git to
reflect on this report. See How and When does the builder pull? When will my changes propagate? for more information.
- Make sure to use the following settings in order to reproduce any error or warning you see on this page.

raw results

Package 1337/2140HostnameOS / ArchINSTALLBUILDCHECKBUILD BIN
normr 1.22.0  (landing page)
Johannes Helmuth
Snapshot Date: 2022-08-11 13:55:06 -0400 (Thu, 11 Aug 2022)
git_url: https://git.bioconductor.org/packages/normr
git_branch: RELEASE_3_15
git_last_commit: b5d82ba
git_last_commit_date: 2022-04-26 11:33:08 -0400 (Tue, 26 Apr 2022)
nebbiolo1Linux (Ubuntu 20.04.4 LTS) / x86_64  OK    OK    WARNINGS  UNNEEDED, same version is already published
palomino3Windows Server 2022 Datacenter / x64  OK    OK    WARNINGS    OK  UNNEEDED, same version is already published
merida1macOS 10.14.6 Mojave / x86_64  OK    OK    WARNINGS    OK  UNNEEDED, same version is already published

Summary

Package: normr
Version: 1.22.0
Command: rm -rf normr.buildbin-libdir && mkdir normr.buildbin-libdir && /Users/biocbuild/BBS/utils/build-universal.sh normr_1.22.0.tar.gz /Library/Frameworks/R.framework/Resources/bin/R normr.buildbin-libdir
StartedAt: 2022-08-12 11:07:17 -0400 (Fri, 12 Aug 2022)
EndedAt: 2022-08-12 11:08:56 -0400 (Fri, 12 Aug 2022)
EllapsedTime: 99.0 seconds
RetCode: 0
Status:   OK  
PackageFile: normr_1.22.0.tgz
PackageFileSize: 4.075 MiB

Command output

##############################################################################
##############################################################################
###
### Running command:
###
###   rm -rf normr.buildbin-libdir && mkdir normr.buildbin-libdir && /Users/biocbuild/BBS/utils/build-universal.sh normr_1.22.0.tar.gz /Library/Frameworks/R.framework/Resources/bin/R normr.buildbin-libdir
###
##############################################################################
##############################################################################


>>>>>>> 
>>>>>>> INSTALLATION WITH 'R CMD INSTALL --preclean --no-multiarch --library=normr.buildbin-libdir normr_1.22.0.tar.gz'
>>>>>>> 

* installing *source* package ‘normr’ ...
** using staged installation
** libs
clang++ -mmacosx-version-min=10.13 -std=gnu++11 -I"/Library/Frameworks/R.framework/Resources/include" -DNDEBUG  -D_GLIBCXX_USE_C99 -I'/Library/Frameworks/R.framework/Versions/4.2/Resources/library/Rcpp/include' -I/usr/local/include   -fPIC  -Wall -g -O2  -c RcppExports.cpp -o RcppExports.o
clang++ -mmacosx-version-min=10.13 -std=gnu++11 -I"/Library/Frameworks/R.framework/Resources/include" -DNDEBUG  -D_GLIBCXX_USE_C99 -I'/Library/Frameworks/R.framework/Versions/4.2/Resources/library/Rcpp/include' -I/usr/local/include   -fPIC  -Wall -g -O2  -c em.cpp -o em.o
clang -mmacosx-version-min=10.13 -I"/Library/Frameworks/R.framework/Resources/include" -DNDEBUG  -D_GLIBCXX_USE_C99 -I'/Library/Frameworks/R.framework/Versions/4.2/Resources/library/Rcpp/include' -I/usr/local/include   -fPIC  -Wall -g -O2  -c normr_init.c -o normr_init.o
clang++ -mmacosx-version-min=10.13 -std=gnu++11 -dynamiclib -Wl,-headerpad_max_install_names -undefined dynamic_lookup -single_module -multiply_defined suppress -L/Library/Frameworks/R.framework/Resources/lib -L/usr/local/lib -o normr.so RcppExports.o em.o normr_init.o -D_GLIBCXX_USE_C99 -F/Library/Frameworks/R.framework/.. -framework R -Wl,-framework -Wl,CoreFoundation
installing to /Users/biocbuild/bbs-3.15-bioc/meat/normr.buildbin-libdir/00LOCK-normr/00new/normr/libs
** R
** inst
** byte-compile and prepare package for lazy loading
Creating a new generic function for ‘getClasses’ in package ‘normr’
** help
*** installing help indices
** building package indices
** installing vignettes
** testing if installed package can be loaded from temporary location
** checking absolute paths in shared objects and dynamic libraries
** testing if installed package can be loaded from final location
** testing if installed package keeps a record of temporary installation path
* DONE (normr)


>>>>>>> 
>>>>>>> FIXING LINKS FOR normr.buildbin-libdir/normr/libs/normr.so
>>>>>>> 

install_name_tool -change "/usr/local/lib/libgcc_s.1.dylib" "/Library/Frameworks/R.framework/Versions/4.2/Resources/lib/libgcc_s.1.dylib" "normr.buildbin-libdir/normr/libs/normr.so"
install_name_tool -change "/usr/local/lib/libgfortran.5.dylib" "/Library/Frameworks/R.framework/Versions/4.2/Resources/lib/libgfortran.5.dylib" "normr.buildbin-libdir/normr/libs/normr.so"
install_name_tool -change "/usr/local/lib/libquadmath.0.dylib" "/Library/Frameworks/R.framework/Versions/4.2/Resources/lib/libquadmath.0.dylib" "normr.buildbin-libdir/normr/libs/normr.so"