Back to Multiple platform build/check report for BioC 3.15
ABCDEFGHIJKLMNO[P]QRSTUVWXYZ

This page was generated on 2022-08-08 13:19:47 -0400 (Mon, 08 Aug 2022).

HostnameOSArch (*)R versionInstalled pkgs
nebbiolo1Linux (Ubuntu 20.04.4 LTS)x86_644.2.1 (2022-06-23) -- "Funny-Looking Kid" 4362
merida1macOS 10.14.6 Mojavex86_644.2.1 (2022-06-23) -- "Funny-Looking Kid" 4180
Click on any hostname to see more info about the system (e.g. compilers)      (*) as reported by 'uname -p', except on Windows and Mac OS X

BUILD results for proBAMr on nebbiolo1


To the developers/maintainers of the proBAMr package:
- Please allow up to 24 hours (and sometimes 48 hours) for your latest push to git@git.bioconductor.org:packages/proBAMr.git to
reflect on this report. See How and When does the builder pull? When will my changes propagate? for more information.
- Make sure to use the following settings in order to reproduce any error or warning you see on this page.

raw results

Package 1495/2140HostnameOS / ArchINSTALLBUILDCHECKBUILD BIN
proBAMr 1.30.0  (landing page)
Xiaojing Wang
Snapshot Date: 2022-08-07 13:55:12 -0400 (Sun, 07 Aug 2022)
git_url: https://git.bioconductor.org/packages/proBAMr
git_branch: RELEASE_3_15
git_last_commit: efcd524
git_last_commit_date: 2022-04-26 11:22:00 -0400 (Tue, 26 Apr 2022)
nebbiolo1Linux (Ubuntu 20.04.4 LTS) / x86_64  OK    OK    OK  UNNEEDED, same version is already published
merida1macOS 10.14.6 Mojave / x86_64  OK    OK    OK    OK  UNNEEDED, same version is already published

Summary

Package: proBAMr
Version: 1.30.0
Command: /home/biocbuild/bbs-3.15-bioc/R/bin/R CMD build --keep-empty-dirs --no-resave-data proBAMr
StartedAt: 2022-08-07 17:33:59 -0400 (Sun, 07 Aug 2022)
EndedAt: 2022-08-07 17:35:43 -0400 (Sun, 07 Aug 2022)
EllapsedTime: 104.5 seconds
RetCode: 0
Status:   OK  
PackageFile: proBAMr_1.30.0.tar.gz
PackageFileSize: 809.7 KiB

Command output

##############################################################################
##############################################################################
###
### Running command:
###
###   /home/biocbuild/bbs-3.15-bioc/R/bin/R CMD build --keep-empty-dirs --no-resave-data proBAMr
###
##############################################################################
##############################################################################


* checking for file ‘proBAMr/DESCRIPTION’ ... OK
* preparing ‘proBAMr’:
* checking DESCRIPTION meta-information ... OK
* installing the package to build vignettes
* creating vignettes ... OK
* checking for LF line-endings in source and make files and shell scripts
* checking for empty or unneeded directories
* building ‘proBAMr_1.30.0.tar.gz’