Back to Multiple platform build/check report for BioC 3.15 |
|
This page was generated on 2022-08-08 13:19:32 -0400 (Mon, 08 Aug 2022).
Hostname | OS | Arch (*) | R version | Installed pkgs |
---|---|---|---|---|
nebbiolo1 | Linux (Ubuntu 20.04.4 LTS) | x86_64 | 4.2.1 (2022-06-23) -- "Funny-Looking Kid" | 4362 |
merida1 | macOS 10.14.6 Mojave | x86_64 | 4.2.1 (2022-06-23) -- "Funny-Looking Kid" | 4180 |
Click on any hostname to see more info about the system (e.g. compilers) (*) as reported by 'uname -p', except on Windows and Mac OS X |
To the developers/maintainers of the GeneStructureTools package: - Please allow up to 24 hours (and sometimes 48 hours) for your latest push to git@git.bioconductor.org:packages/GeneStructureTools.git to reflect on this report. See How and When does the builder pull? When will my changes propagate? for more information. - Make sure to use the following settings in order to reproduce any error or warning you see on this page. |
Package 757/2140 | Hostname | OS / Arch | INSTALL | BUILD | CHECK | BUILD BIN | ||||||||
GeneStructureTools 1.16.0 (landing page) Beth Signal
| nebbiolo1 | Linux (Ubuntu 20.04.4 LTS) / x86_64 | OK | OK | OK | ![]() | ||||||||
merida1 | macOS 10.14.6 Mojave / x86_64 | OK | OK | OK | OK | ![]() | ||||||||
Package: GeneStructureTools |
Version: 1.16.0 |
Command: /home/biocbuild/bbs-3.15-bioc/R/bin/R CMD check --install=check:GeneStructureTools.install-out.txt --library=/home/biocbuild/bbs-3.15-bioc/R/library --no-vignettes --timings GeneStructureTools_1.16.0.tar.gz |
StartedAt: 2022-08-07 20:08:00 -0400 (Sun, 07 Aug 2022) |
EndedAt: 2022-08-07 20:13:55 -0400 (Sun, 07 Aug 2022) |
EllapsedTime: 355.2 seconds |
RetCode: 0 |
Status: OK |
CheckDir: GeneStructureTools.Rcheck |
Warnings: 0 |
############################################################################## ############################################################################## ### ### Running command: ### ### /home/biocbuild/bbs-3.15-bioc/R/bin/R CMD check --install=check:GeneStructureTools.install-out.txt --library=/home/biocbuild/bbs-3.15-bioc/R/library --no-vignettes --timings GeneStructureTools_1.16.0.tar.gz ### ############################################################################## ############################################################################## * using log directory ‘/home/biocbuild/bbs-3.15-bioc/meat/GeneStructureTools.Rcheck’ * using R version 4.2.1 (2022-06-23) * using platform: x86_64-pc-linux-gnu (64-bit) * using session charset: UTF-8 * using option ‘--no-vignettes’ * checking for file ‘GeneStructureTools/DESCRIPTION’ ... OK * checking extension type ... Package * this is package ‘GeneStructureTools’ version ‘1.16.0’ * package encoding: UTF-8 * checking package namespace information ... OK * checking package dependencies ... OK * checking if this is a source package ... OK * checking if there is a namespace ... OK * checking for hidden files and directories ... OK * checking for portable file names ... OK * checking for sufficient/correct file permissions ... OK * checking whether package ‘GeneStructureTools’ can be installed ... OK * checking installed package size ... OK * checking package directory ... OK * checking ‘build’ directory ... OK * checking DESCRIPTION meta-information ... OK * checking top-level files ... OK * checking for left-over files ... OK * checking index information ... OK * checking package subdirectories ... OK * checking R files for non-ASCII characters ... OK * checking R files for syntax errors ... OK * checking whether the package can be loaded ... OK * checking whether the package can be loaded with stated dependencies ... OK * checking whether the package can be unloaded cleanly ... OK * checking whether the namespace can be loaded with stated dependencies ... OK * checking whether the namespace can be unloaded cleanly ... OK * checking dependencies in R code ... OK * checking S3 generic/method consistency ... OK * checking replacement functions ... OK * checking foreign function calls ... OK * checking R code for possible problems ... OK * checking Rd files ... OK * checking Rd metadata ... OK * checking Rd cross-references ... OK * checking for missing documentation entries ... OK * checking for code/documentation mismatches ... OK * checking Rd \usage sections ... OK * checking Rd contents ... OK * checking for unstated dependencies in examples ... OK * checking files in ‘vignettes’ ... OK * checking examples ... OK Examples with CPU (user + system) or elapsed time > 5s user system elapsed leafcutterTranscriptChangeSummary 22.071 0.488 22.561 whippetTranscriptChangeSummary 13.789 0.216 14.007 alternativeIntronUsage 5.081 0.222 5.303 * checking for unstated dependencies in vignettes ... OK * checking package vignettes in ‘inst/doc’ ... OK * checking running R code from vignettes ... SKIPPED * checking re-building of vignette outputs ... SKIPPED * checking PDF version of manual ... OK * DONE Status: OK
GeneStructureTools.Rcheck/00install.out
############################################################################## ############################################################################## ### ### Running command: ### ### /home/biocbuild/bbs-3.15-bioc/R/bin/R CMD INSTALL GeneStructureTools ### ############################################################################## ############################################################################## * installing to library ‘/home/biocbuild/bbs-3.15-bioc/R/library’ * installing *source* package ‘GeneStructureTools’ ... ** using staged installation ** R ** inst ** byte-compile and prepare package for lazy loading ** help *** installing help indices ** building package indices ** installing vignettes ** testing if installed package can be loaded from temporary location ** testing if installed package can be loaded from final location ** testing if installed package keeps a record of temporary installation path * DONE (GeneStructureTools)
GeneStructureTools.Rcheck/GeneStructureTools-Ex.timings
name | user | system | elapsed | |
DEXSeqIdsToGeneIds | 0.000 | 0.003 | 0.003 | |
UTR2UTR53 | 3.045 | 0.123 | 3.171 | |
addBroadTypes | 0.162 | 0.013 | 0.175 | |
addIntronInTranscript | 1.955 | 0.132 | 2.087 | |
alternativeIntronUsage | 5.081 | 0.222 | 5.303 | |
annotateGeneModel | 0.764 | 0.017 | 0.781 | |
attrChangeAltSpliced | 1.078 | 0.040 | 1.119 | |
coordinates-methods | 0.070 | 0.019 | 0.089 | |
diffSplicingResults-methods | 0.082 | 0.016 | 0.097 | |
exonsToTranscripts | 0.219 | 0.008 | 0.228 | |
filterGtfOverlap | 0.210 | 0.008 | 0.218 | |
filterWhippetEvents | 0.072 | 0.015 | 0.086 | |
findDEXexonType | 2.703 | 0.088 | 2.791 | |
findExonContainingTranscripts | 0.387 | 0.014 | 0.402 | |
findIntronContainingTranscripts | 1.724 | 0.158 | 1.883 | |
findJunctionPairs | 1.327 | 0.033 | 1.360 | |
formatWhippetEvents | 0.011 | 0.006 | 0.017 | |
getOrfs | 0.565 | 0.028 | 0.593 | |
getUOrfs | 0.440 | 0.024 | 0.464 | |
junctions-methods | 0.065 | 0.019 | 0.083 | |
leafcutterTranscriptChangeSummary | 22.071 | 0.488 | 22.561 | |
makeGeneModel | 0.141 | 0.004 | 0.145 | |
maxLocation | 0.000 | 0.003 | 0.003 | |
orfDiff | 1.622 | 0.052 | 1.673 | |
orfSimilarity | 0.001 | 0.000 | 0.001 | |
overlapTypes | 3.048 | 0.008 | 3.057 | |
readCounts-methods | 0.067 | 0.018 | 0.086 | |
readWhippetDIFFfiles | 0.003 | 0.006 | 0.008 | |
readWhippetDataSet | 0.066 | 0.016 | 0.082 | |
readWhippetJNCfiles | 0.032 | 0.005 | 0.037 | |
readWhippetPSIfiles | 0.014 | 0.008 | 0.023 | |
removeDuplicateTranscripts | 0.326 | 0.004 | 0.330 | |
removeSameExon | 0.198 | 0.000 | 0.198 | |
removeVersion | 0 | 0 | 0 | |
reorderExonNumbers | 0.158 | 0.006 | 0.163 | |
replaceJunction | 4.205 | 0.046 | 4.249 | |
skipExonInTranscript | 1.533 | 0.022 | 1.555 | |
summariseExonTypes | 3.491 | 0.061 | 3.552 | |
transcriptChangeSummary | 1.679 | 0.031 | 1.708 | |
whippetTranscriptChangeSummary | 13.789 | 0.216 | 14.007 | |