Back to Multiple platform build/check report for BioC 3.15
AB[C]DEFGHIJKLMNOPQRSTUVWXYZ

This page was generated on 2022-05-23 12:06:12 -0400 (Mon, 23 May 2022).

HostnameOSArch (*)R versionInstalled pkgs
nebbiolo1Linux (Ubuntu 20.04.4 LTS)x86_644.2.0 (2022-04-22) -- "Vigorous Calisthenics" 4380
palomino3Windows Server 2022 Datacenterx644.2.0 (2022-04-22 ucrt) -- "Vigorous Calisthenics" 4155
merida1macOS 10.14.6 Mojavex86_644.2.0 (2022-04-22) -- "Vigorous Calisthenics" 4221
Click on any hostname to see more info about the system (e.g. compilers)      (*) as reported by 'uname -p', except on Windows and Mac OS X

INSTALL results for ChromSCape on palomino3


To the developers/maintainers of the ChromSCape package:
- Please allow up to 24 hours (and sometimes 48 hours) for your latest push to git@git.bioconductor.org:packages/ChromSCape.git to
reflect on this report. See How and When does the builder pull? When will my changes propagate? for more information.
- Make sure to use the following settings in order to reproduce any error or warning you see on this page.

raw results

Package 321/2140HostnameOS / ArchINSTALLBUILDCHECKBUILD BIN
ChromSCape 1.6.0  (landing page)
Pacome Prompsy
Snapshot Date: 2022-05-22 13:55:15 -0400 (Sun, 22 May 2022)
git_url: https://git.bioconductor.org/packages/ChromSCape
git_branch: RELEASE_3_15
git_last_commit: f0f1527
git_last_commit_date: 2022-04-26 12:09:05 -0400 (Tue, 26 Apr 2022)
nebbiolo1Linux (Ubuntu 20.04.4 LTS) / x86_64  OK    OK    WARNINGS  UNNEEDED, same version is already published
palomino3Windows Server 2022 Datacenter / x64  OK    OK    WARNINGS    OK  UNNEEDED, same version is already published
merida1macOS 10.14.6 Mojave / x86_64  OK    OK    WARNINGS    OK  UNNEEDED, same version is already published

Summary

Package: ChromSCape
Version: 1.6.0
Command: F:\biocbuild\bbs-3.15-bioc\R\bin\R.exe CMD INSTALL ChromSCape
StartedAt: 2022-05-22 16:18:22 -0400 (Sun, 22 May 2022)
EndedAt: 2022-05-22 16:19:34 -0400 (Sun, 22 May 2022)
EllapsedTime: 72.1 seconds
RetCode: 0
Status:   OK  

Command output

##############################################################################
##############################################################################
###
### Running command:
###
###   F:\biocbuild\bbs-3.15-bioc\R\bin\R.exe CMD INSTALL ChromSCape
###
##############################################################################
##############################################################################


* installing to library 'F:/biocbuild/bbs-3.15-bioc/R/library'
* installing *source* package 'ChromSCape' ...
** using staged installation
** libs
g++ -std=gnu++11  -I"F:/biocbuild/bbs-3.15-bioc/R/include" -DNDEBUG  -I'F:/biocbuild/bbs-3.15-bioc/R/library/Rcpp/include'   -I"C:/rtools42/x86_64-w64-mingw32.static.posix/include"     -O2 -Wall  -mfpmath=sse -msse2 -mstackrealign  -c RcppExports.cpp -o RcppExports.o
g++ -std=gnu++11  -I"F:/biocbuild/bbs-3.15-bioc/R/include" -DNDEBUG  -I'F:/biocbuild/bbs-3.15-bioc/R/library/Rcpp/include'   -I"C:/rtools42/x86_64-w64-mingw32.static.posix/include"     -O2 -Wall  -mfpmath=sse -msse2 -mstackrealign  -c as_dist.cpp -o as_dist.o
g++ -std=gnu++11 -shared -s -static-libgcc -o ChromSCape.dll tmp.def RcppExports.o as_dist.o -LC:/rtools42/x86_64-w64-mingw32.static.posix/lib/x64 -LC:/rtools42/x86_64-w64-mingw32.static.posix/lib -LF:/biocbuild/bbs-3.15-bioc/R/bin/x64 -lR
installing to F:/biocbuild/bbs-3.15-bioc/R/library/00LOCK-ChromSCape/00new/ChromSCape/libs/x64
** R
** data
** inst
** byte-compile and prepare package for lazy loading
** help
*** installing help indices
** building package indices
** installing vignettes
** testing if installed package can be loaded from temporary location
** testing if installed package can be loaded from final location
** testing if installed package keeps a record of temporary installation path
* DONE (ChromSCape)