Back to Multiple platform build/check report for BioC 3.15
ABCD[E]FGHIJKLMNOPQRSTUVWXYZ

This page was generated on 2022-05-16 11:06:09 -0400 (Mon, 16 May 2022).

HostnameOSArch (*)R versionInstalled pkgs
nebbiolo1Linux (Ubuntu 20.04.4 LTS)x86_644.2.0 (2022-04-22) -- "Vigorous Calisthenics" 4379
palomino3Windows Server 2022 Datacenterx644.2.0 (2022-04-22 ucrt) -- "Vigorous Calisthenics" 4153
merida1macOS 10.14.6 Mojavex86_644.2.0 (2022-04-22) -- "Vigorous Calisthenics" 4220
Click on any hostname to see more info about the system (e.g. compilers)      (*) as reported by 'uname -p', except on Windows and Mac OS X

INSTALL results for epivizr on palomino3


To the developers/maintainers of the epivizr package:
- Please allow up to 24 hours (and sometimes 48 hours) for your latest push to git@git.bioconductor.org:packages/epivizr.git to
reflect on this report. See How and When does the builder pull? When will my changes propagate? for more information.
- Make sure to use the following settings in order to reproduce any error or warning you see on this page.

raw results

Package 616/2140HostnameOS / ArchINSTALLBUILDCHECKBUILD BIN
epivizr 2.26.0  (landing page)
Hector Corrada Bravo
Snapshot Date: 2022-05-15 13:55:12 -0400 (Sun, 15 May 2022)
git_url: https://git.bioconductor.org/packages/epivizr
git_branch: RELEASE_3_15
git_last_commit: 2d145e2
git_last_commit_date: 2022-04-26 11:16:37 -0400 (Tue, 26 Apr 2022)
nebbiolo1Linux (Ubuntu 20.04.4 LTS) / x86_64  OK    OK    WARNINGS  UNNEEDED, same version is already published
palomino3Windows Server 2022 Datacenter / x64  OK    OK    WARNINGS    OK  UNNEEDED, same version is already published
merida1macOS 10.14.6 Mojave / x86_64  OK    OK    WARNINGS    OK  UNNEEDED, same version is already published

Summary

Package: epivizr
Version: 2.26.0
Command: F:\biocbuild\bbs-3.15-bioc\R\bin\R.exe CMD INSTALL epivizr
StartedAt: 2022-05-15 16:24:10 -0400 (Sun, 15 May 2022)
EndedAt: 2022-05-15 16:25:03 -0400 (Sun, 15 May 2022)
EllapsedTime: 52.8 seconds
RetCode: 0
Status:   OK  

Command output

##############################################################################
##############################################################################
###
### Running command:
###
###   F:\biocbuild\bbs-3.15-bioc\R\bin\R.exe CMD INSTALL epivizr
###
##############################################################################
##############################################################################


* installing to library 'F:/biocbuild/bbs-3.15-bioc/R/library'
* installing *source* package 'epivizr' ...
** using staged installation
** R
** data
** inst
** byte-compile and prepare package for lazy loading
Warning: replacing previous import 'GenomicFeatures::proteinToGenome' by 'ensembldb::proteinToGenome' when loading 'epivizrData'
** help
*** installing help indices
** building package indices
** installing vignettes
** testing if installed package can be loaded from temporary location
Warning: replacing previous import 'GenomicFeatures::proteinToGenome' by 'ensembldb::proteinToGenome' when loading 'epivizrData'
** testing if installed package can be loaded from final location
Warning: replacing previous import 'GenomicFeatures::proteinToGenome' by 'ensembldb::proteinToGenome' when loading 'epivizrData'
** testing if installed package keeps a record of temporary installation path
* DONE (epivizr)