Back to Multiple platform build/check report for BioC 3.15
ABCDEF[G]HIJKLMNOPQRSTUVWXYZ

This page was generated on 2022-08-08 13:20:21 -0400 (Mon, 08 Aug 2022).

HostnameOSArch (*)R versionInstalled pkgs
nebbiolo1Linux (Ubuntu 20.04.4 LTS)x86_644.2.1 (2022-06-23) -- "Funny-Looking Kid" 4362
merida1macOS 10.14.6 Mojavex86_644.2.1 (2022-06-23) -- "Funny-Looking Kid" 4180
Click on any hostname to see more info about the system (e.g. compilers)      (*) as reported by 'uname -p', except on Windows and Mac OS X

BUILD results for genotypeeval on merida1


To the developers/maintainers of the genotypeeval package:
- Please allow up to 24 hours (and sometimes 48 hours) for your latest push to git@git.bioconductor.org:packages/genotypeeval.git to
reflect on this report. See How and When does the builder pull? When will my changes propagate? for more information.
- Make sure to use the following settings in order to reproduce any error or warning you see on this page.

raw results

Package 782/2140HostnameOS / ArchINSTALLBUILDCHECKBUILD BIN
genotypeeval 1.28.0  (landing page)
Jennifer Tom
Snapshot Date: 2022-08-07 13:55:12 -0400 (Sun, 07 Aug 2022)
git_url: https://git.bioconductor.org/packages/genotypeeval
git_branch: RELEASE_3_15
git_last_commit: 7ffec7f
git_last_commit_date: 2022-04-26 11:26:16 -0400 (Tue, 26 Apr 2022)
nebbiolo1Linux (Ubuntu 20.04.4 LTS) / x86_64  OK    OK    WARNINGS  UNNEEDED, same version is already published
merida1macOS 10.14.6 Mojave / x86_64  OK    OK    WARNINGS    OK  UNNEEDED, same version is already published

Summary

Package: genotypeeval
Version: 1.28.0
Command: /Library/Frameworks/R.framework/Resources/bin/R CMD build --keep-empty-dirs --no-resave-data genotypeeval
StartedAt: 2022-08-07 18:33:18 -0400 (Sun, 07 Aug 2022)
EndedAt: 2022-08-07 18:33:20 -0400 (Sun, 07 Aug 2022)
EllapsedTime: 2.1 seconds
RetCode: 0
Status:   OK  
PackageFile: genotypeeval_1.28.0.tar.gz
PackageFileSize: 403.5 KiB

Command output

##############################################################################
##############################################################################
###
### Running command:
###
###   /Library/Frameworks/R.framework/Resources/bin/R CMD build --keep-empty-dirs --no-resave-data genotypeeval
###
##############################################################################
##############################################################################


* checking for file ‘genotypeeval/DESCRIPTION’ ... OK
* preparing ‘genotypeeval’:
* checking DESCRIPTION meta-information ... OK
* checking for LF line-endings in source and make files and shell scripts
* checking for empty or unneeded directories
Omitted ‘LazyData’ from DESCRIPTION
* building ‘genotypeeval_1.28.0.tar.gz’