Back to Multiple platform build/check report for BioC 3.15
ABCDEFGHIJKLMNOPQRSTUV[W]XYZ

This page was generated on 2022-08-15 13:23:49 -0400 (Mon, 15 Aug 2022).

HostnameOSArch (*)R versionInstalled pkgs
nebbiolo1Linux (Ubuntu 20.04.4 LTS)x86_644.2.1 (2022-06-23) -- "Funny-Looking Kid" 4365
palomino3Windows Server 2022 Datacenterx644.2.1 (2022-06-23 ucrt) -- "Funny-Looking Kid" 4118
merida1macOS 10.14.6 Mojavex86_644.2.1 (2022-06-23) -- "Funny-Looking Kid" 4183
Click on any hostname to see more info about the system (e.g. compilers)      (*) as reported by 'uname -p', except on Windows and Mac OS X

BUILD results for wavClusteR on merida1


To the developers/maintainers of the wavClusteR package:
- Please allow up to 24 hours (and sometimes 48 hours) for your latest push to git@git.bioconductor.org:packages/wavClusteR.git to
reflect on this report. See How and When does the builder pull? When will my changes propagate? for more information.
- Make sure to use the following settings in order to reproduce any error or warning you see on this page.

raw results

Package 2116/2140HostnameOS / ArchINSTALLBUILDCHECKBUILD BIN
wavClusteR 2.30.0  (landing page)
Federico Comoglio
Snapshot Date: 2022-08-14 13:55:13 -0400 (Sun, 14 Aug 2022)
git_url: https://git.bioconductor.org/packages/wavClusteR
git_branch: RELEASE_3_15
git_last_commit: d2d52b1
git_last_commit_date: 2022-04-26 11:20:03 -0400 (Tue, 26 Apr 2022)
nebbiolo1Linux (Ubuntu 20.04.4 LTS) / x86_64  OK    OK    OK  UNNEEDED, same version is already published
palomino3Windows Server 2022 Datacenter / x64  OK    OK    OK    OK  UNNEEDED, same version is already published
merida1macOS 10.14.6 Mojave / x86_64  OK    OK    OK    OK  UNNEEDED, same version is already published

Summary

Package: wavClusteR
Version: 2.30.0
Command: /Library/Frameworks/R.framework/Resources/bin/R CMD build --keep-empty-dirs --no-resave-data wavClusteR
StartedAt: 2022-08-14 22:22:46 -0400 (Sun, 14 Aug 2022)
EndedAt: 2022-08-14 22:24:31 -0400 (Sun, 14 Aug 2022)
EllapsedTime: 104.4 seconds
RetCode: 0
Status:   OK  
PackageFile: wavClusteR_2.30.0.tar.gz
PackageFileSize: 695.8 KiB

Command output

##############################################################################
##############################################################################
###
### Running command:
###
###   /Library/Frameworks/R.framework/Resources/bin/R CMD build --keep-empty-dirs --no-resave-data wavClusteR
###
##############################################################################
##############################################################################


* checking for file ‘wavClusteR/DESCRIPTION’ ... OK
* preparing ‘wavClusteR’:
* checking DESCRIPTION meta-information ... OK
* installing the package to build vignettes
* creating vignettes ... OK
* checking for LF line-endings in source and make files and shell scripts
* checking for empty or unneeded directories
* looking to see if a ‘data/datalist’ file should be added
* building ‘wavClusteR_2.30.0.tar.gz’