Back to Multiple platform build/check report for BioC 3.15
A[B]CDEFGHIJKLMNOPQRSTUVWXYZ

This page was generated on 2022-05-23 12:07:31 -0400 (Mon, 23 May 2022).

HostnameOSArch (*)R versionInstalled pkgs
nebbiolo1Linux (Ubuntu 20.04.4 LTS)x86_644.2.0 (2022-04-22) -- "Vigorous Calisthenics" 4380
palomino3Windows Server 2022 Datacenterx644.2.0 (2022-04-22 ucrt) -- "Vigorous Calisthenics" 4155
merida1macOS 10.14.6 Mojavex86_644.2.0 (2022-04-22) -- "Vigorous Calisthenics" 4221
Click on any hostname to see more info about the system (e.g. compilers)      (*) as reported by 'uname -p', except on Windows and Mac OS X

INSTALL results for biomvRCNS on merida1


To the developers/maintainers of the biomvRCNS package:
- Please allow up to 24 hours (and sometimes 48 hours) for your latest push to git@git.bioconductor.org:packages/biomvRCNS.git to
reflect on this report. See How and When does the builder pull? When will my changes propagate? for more information.
- Make sure to use the following settings in order to reproduce any error or warning you see on this page.

raw results

Package 191/2140HostnameOS / ArchINSTALLBUILDCHECKBUILD BIN
biomvRCNS 1.36.0  (landing page)
Yang Du
Snapshot Date: 2022-05-22 13:55:15 -0400 (Sun, 22 May 2022)
git_url: https://git.bioconductor.org/packages/biomvRCNS
git_branch: RELEASE_3_15
git_last_commit: 0e9de50
git_last_commit_date: 2022-04-26 11:13:39 -0400 (Tue, 26 Apr 2022)
nebbiolo1Linux (Ubuntu 20.04.4 LTS) / x86_64  OK    OK    OK  UNNEEDED, same version is already published
palomino3Windows Server 2022 Datacenter / x64  OK    OK    OK    OK  UNNEEDED, same version is already published
merida1macOS 10.14.6 Mojave / x86_64  OK    OK    OK    OK  UNNEEDED, same version is already published

Summary

Package: biomvRCNS
Version: 1.36.0
Command: /Library/Frameworks/R.framework/Resources/bin/R CMD INSTALL biomvRCNS
StartedAt: 2022-05-22 16:24:17 -0400 (Sun, 22 May 2022)
EndedAt: 2022-05-22 16:25:59 -0400 (Sun, 22 May 2022)
EllapsedTime: 101.6 seconds
RetCode: 0
Status:   OK  

Command output

##############################################################################
##############################################################################
###
### Running command:
###
###   /Library/Frameworks/R.framework/Resources/bin/R CMD INSTALL biomvRCNS
###
##############################################################################
##############################################################################


* installing to library ‘/Library/Frameworks/R.framework/Versions/4.2/Resources/library’
* installing *source* package ‘biomvRCNS’ ...
** using staged installation
** libs
clang -mmacosx-version-min=10.13 -I"/Library/Frameworks/R.framework/Resources/include" -DNDEBUG   -I/usr/local/include   -fPIC  -Wall -g -O2  -c biomvRCNS.c -o biomvRCNS.o
clang -mmacosx-version-min=10.13 -dynamiclib -Wl,-headerpad_max_install_names -undefined dynamic_lookup -single_module -multiply_defined suppress -L/Library/Frameworks/R.framework/Resources/lib -L/usr/local/lib -o biomvRCNS.so biomvRCNS.o -F/Library/Frameworks/R.framework/.. -framework R -Wl,-framework -Wl,CoreFoundation
installing to /Library/Frameworks/R.framework/Versions/4.2/Resources/library/00LOCK-biomvRCNS/00new/biomvRCNS/libs
** R
** data
** inst
** byte-compile and prepare package for lazy loading
** help
*** installing help indices
** building package indices
** installing vignettes
** testing if installed package can be loaded from temporary location
** checking absolute paths in shared objects and dynamic libraries
** testing if installed package can be loaded from final location
** testing if installed package keeps a record of temporary installation path
* DONE (biomvRCNS)