Back to Multiple platform build/check report for BioC 3.15
ABCDEFGHIJKLMNOPQ[R]STUVWXYZ

This page was generated on 2022-08-10 15:40:53 -0400 (Wed, 10 Aug 2022).

HostnameOSArch (*)R versionInstalled pkgs
nebbiolo1Linux (Ubuntu 20.04.4 LTS)x86_644.2.1 (2022-06-23) -- "Funny-Looking Kid" 4363
merida1macOS 10.14.6 Mojavex86_644.2.1 (2022-06-23) -- "Funny-Looking Kid" 4181
Click on any hostname to see more info about the system (e.g. compilers)      (*) as reported by 'uname -p', except on Windows and Mac OS X

BUILD results for Rhisat2 on merida1


To the developers/maintainers of the Rhisat2 package:
- Please allow up to 24 hours (and sometimes 48 hours) for your latest push to git@git.bioconductor.org:packages/Rhisat2.git to
reflect on this report. See How and When does the builder pull? When will my changes propagate? for more information.
- Make sure to use the following settings in order to reproduce any error or warning you see on this page.

raw results

Package 1646/2140HostnameOS / ArchINSTALLBUILDCHECKBUILD BIN
Rhisat2 1.12.0  (landing page)
Charlotte Soneson
Snapshot Date: 2022-08-09 13:55:12 -0400 (Tue, 09 Aug 2022)
git_url: https://git.bioconductor.org/packages/Rhisat2
git_branch: RELEASE_3_15
git_last_commit: 8a93852
git_last_commit_date: 2022-04-26 11:52:48 -0400 (Tue, 26 Apr 2022)
nebbiolo1Linux (Ubuntu 20.04.4 LTS) / x86_64  OK    OK    WARNINGS  UNNEEDED, same version is already published
merida1macOS 10.14.6 Mojave / x86_64  OK    OK    OK    OK  UNNEEDED, same version is already published

Summary

Package: Rhisat2
Version: 1.12.0
Command: /Library/Frameworks/R.framework/Resources/bin/R CMD build --keep-empty-dirs --no-resave-data Rhisat2
StartedAt: 2022-08-09 21:00:19 -0400 (Tue, 09 Aug 2022)
EndedAt: 2022-08-09 21:04:02 -0400 (Tue, 09 Aug 2022)
EllapsedTime: 223.6 seconds
RetCode: 0
Status:   OK  
PackageFile: Rhisat2_1.12.0.tar.gz
PackageFileSize: 3.921 MiB

Command output

##############################################################################
##############################################################################
###
### Running command:
###
###   /Library/Frameworks/R.framework/Resources/bin/R CMD build --keep-empty-dirs --no-resave-data Rhisat2
###
##############################################################################
##############################################################################


* checking for file ‘Rhisat2/DESCRIPTION’ ... OK
* preparing ‘Rhisat2’:
* checking DESCRIPTION meta-information ... OK
* cleaning src
* installing the package to build vignettes
* creating vignettes ... OK
* cleaning src
* checking for LF line-endings in source and make files and shell scripts
* checking for empty or unneeded directories
* building ‘Rhisat2_1.12.0.tar.gz’