Back to Multiple platform build/check report for BioC 3.15
ABCDEFGHIJKL[M]NOPQRSTUVWXYZ

This page was generated on 2022-07-01 12:06:48 -0400 (Fri, 01 Jul 2022).

HostnameOSArch (*)R versionInstalled pkgs
nebbiolo1Linux (Ubuntu 20.04.4 LTS)x86_644.2.0 (2022-04-22) -- "Vigorous Calisthenics" 4380
palomino3Windows Server 2022 Datacenterx644.2.0 (2022-04-22 ucrt) -- "Vigorous Calisthenics" 4156
merida1macOS 10.14.6 Mojavex86_644.2.0 (2022-04-22) -- "Vigorous Calisthenics" 4221
Click on any hostname to see more info about the system (e.g. compilers)      (*) as reported by 'uname -p', except on Windows and Mac OS X

BUILD BIN results for MethReg on palomino3


To the developers/maintainers of the MethReg package:
- Please allow up to 24 hours (and sometimes 48 hours) for your latest push to git@git.bioconductor.org:packages/MethReg.git to
reflect on this report. See How and When does the builder pull? When will my changes propagate? for more information.
- Make sure to use the following settings in order to reproduce any error or warning you see on this page.

raw results

Package 1144/2140HostnameOS / ArchINSTALLBUILDCHECKBUILD BIN
MethReg 1.6.0  (landing page)
Tiago Silva
Snapshot Date: 2022-06-30 13:55:04 -0400 (Thu, 30 Jun 2022)
git_url: https://git.bioconductor.org/packages/MethReg
git_branch: RELEASE_3_15
git_last_commit: 41583fc
git_last_commit_date: 2022-04-26 12:08:37 -0400 (Tue, 26 Apr 2022)
nebbiolo1Linux (Ubuntu 20.04.4 LTS) / x86_64  OK    OK    WARNINGS  UNNEEDED, same version is already published
palomino3Windows Server 2022 Datacenter / x64  OK    OK    WARNINGS    OK  UNNEEDED, same version is already published
merida1macOS 10.14.6 Mojave / x86_64  OK    OK    WARNINGS    OK  UNNEEDED, same version is already published

Summary

Package: MethReg
Version: 1.6.0
Command: rm -rf MethReg.buildbin-libdir && mkdir MethReg.buildbin-libdir && F:\biocbuild\bbs-3.15-bioc\R\bin\R.exe CMD INSTALL --build --library=MethReg.buildbin-libdir MethReg_1.6.0.tar.gz
StartedAt: 2022-07-01 05:23:16 -0400 (Fri, 01 Jul 2022)
EndedAt: 2022-07-01 05:23:57 -0400 (Fri, 01 Jul 2022)
EllapsedTime: 41.4 seconds
RetCode: 0
Status:   OK  
PackageFile: MethReg_1.6.0.zip
PackageFileSize: 4.145 MiB

Command output

##############################################################################
##############################################################################
###
### Running command:
###
###   rm -rf MethReg.buildbin-libdir && mkdir MethReg.buildbin-libdir && F:\biocbuild\bbs-3.15-bioc\R\bin\R.exe CMD INSTALL --build --library=MethReg.buildbin-libdir MethReg_1.6.0.tar.gz
###
##############################################################################
##############################################################################


* installing *source* package 'MethReg' ...
** using staged installation
** R
** data
*** moving datasets to lazyload DB
** inst
** byte-compile and prepare package for lazy loading
** help
*** installing help indices
** building package indices
** installing vignettes
** testing if installed package can be loaded from temporary location
** testing if installed package can be loaded from final location
** testing if installed package keeps a record of temporary installation path
* MD5 sums
packaged installation of 'MethReg' as MethReg_1.6.0.zip
* DONE (MethReg)