Back to Multiple platform build/check report for BioC 3.15
ABCDEFGHIJKLMNOPQR[S]TUVWXYZ

This page was generated on 2022-08-12 13:23:47 -0400 (Fri, 12 Aug 2022).

HostnameOSArch (*)R versionInstalled pkgs
nebbiolo1Linux (Ubuntu 20.04.4 LTS)x86_644.2.1 (2022-06-23) -- "Funny-Looking Kid" 4364
palomino3Windows Server 2022 Datacenterx644.2.1 (2022-06-23 ucrt) -- "Funny-Looking Kid" 4117
merida1macOS 10.14.6 Mojavex86_644.2.1 (2022-06-23) -- "Funny-Looking Kid" 4182
Click on any hostname to see more info about the system (e.g. compilers)      (*) as reported by 'uname -p', except on Windows and Mac OS X

INSTALL results for StructuralVariantAnnotation on merida1


To the developers/maintainers of the StructuralVariantAnnotation package:
- Please allow up to 24 hours (and sometimes 48 hours) for your latest push to git@git.bioconductor.org:packages/StructuralVariantAnnotation.git to
reflect on this report. See How and When does the builder pull? When will my changes propagate? for more information.
- Make sure to use the following settings in order to reproduce any error or warning you see on this page.

raw results

Package 1948/2140HostnameOS / ArchINSTALLBUILDCHECKBUILD BIN
StructuralVariantAnnotation 1.12.0  (landing page)
Daniel Cameron
Snapshot Date: 2022-08-11 13:55:06 -0400 (Thu, 11 Aug 2022)
git_url: https://git.bioconductor.org/packages/StructuralVariantAnnotation
git_branch: RELEASE_3_15
git_last_commit: 3777c65
git_last_commit_date: 2022-04-26 11:56:16 -0400 (Tue, 26 Apr 2022)
nebbiolo1Linux (Ubuntu 20.04.4 LTS) / x86_64  OK    OK    OK  UNNEEDED, same version is already published
palomino3Windows Server 2022 Datacenter / x64  OK    OK    OK    OK  UNNEEDED, same version is already published
merida1macOS 10.14.6 Mojave / x86_64  OK    OK    OK    OK  UNNEEDED, same version is already published

Summary

Package: StructuralVariantAnnotation
Version: 1.12.0
Command: /Library/Frameworks/R.framework/Resources/bin/R CMD INSTALL StructuralVariantAnnotation
StartedAt: 2022-08-11 16:12:09 -0400 (Thu, 11 Aug 2022)
EndedAt: 2022-08-11 16:13:24 -0400 (Thu, 11 Aug 2022)
EllapsedTime: 75.7 seconds
RetCode: 0
Status:   OK  

Command output

##############################################################################
##############################################################################
###
### Running command:
###
###   /Library/Frameworks/R.framework/Resources/bin/R CMD INSTALL StructuralVariantAnnotation
###
##############################################################################
##############################################################################


* installing to library ‘/Library/Frameworks/R.framework/Versions/4.2/Resources/library’
* installing *source* package ‘StructuralVariantAnnotation’ ...
** using staged installation
** R
** inst
** byte-compile and prepare package for lazy loading
** help
*** installing help indices
** building package indices
** installing vignettes
** testing if installed package can be loaded from temporary location
** testing if installed package can be loaded from final location
** testing if installed package keeps a record of temporary installation path
* DONE (StructuralVariantAnnotation)