Back to Multiple platform build/check report for BioC 3.15
AB[C]DEFGHIJKLMNOPQRSTUVWXYZ

This page was generated on 2022-05-18 12:07:55 -0400 (Wed, 18 May 2022).

HostnameOSArch (*)R versionInstalled pkgs
nebbiolo1Linux (Ubuntu 20.04.4 LTS)x86_644.2.0 (2022-04-22) -- "Vigorous Calisthenics" 4379
palomino3Windows Server 2022 Datacenterx644.2.0 (2022-04-22 ucrt) -- "Vigorous Calisthenics" 4154
merida1macOS 10.14.6 Mojavex86_644.2.0 (2022-04-22) -- "Vigorous Calisthenics" 4220
Click on any hostname to see more info about the system (e.g. compilers)      (*) as reported by 'uname -p', except on Windows and Mac OS X

BUILD BIN results for ChromSCape on merida1


To the developers/maintainers of the ChromSCape package:
- Please allow up to 24 hours (and sometimes 48 hours) for your latest push to git@git.bioconductor.org:packages/ChromSCape.git to
reflect on this report. See How and When does the builder pull? When will my changes propagate? for more information.
- Make sure to use the following settings in order to reproduce any error or warning you see on this page.

raw results

Package 321/2140HostnameOS / ArchINSTALLBUILDCHECKBUILD BIN
ChromSCape 1.6.0  (landing page)
Pacome Prompsy
Snapshot Date: 2022-05-17 13:55:01 -0400 (Tue, 17 May 2022)
git_url: https://git.bioconductor.org/packages/ChromSCape
git_branch: RELEASE_3_15
git_last_commit: f0f1527
git_last_commit_date: 2022-04-26 12:09:05 -0400 (Tue, 26 Apr 2022)
nebbiolo1Linux (Ubuntu 20.04.4 LTS) / x86_64  OK    OK    WARNINGS  UNNEEDED, same version is already published
palomino3Windows Server 2022 Datacenter / x64  OK    OK    WARNINGS    OK  UNNEEDED, same version is already published
merida1macOS 10.14.6 Mojave / x86_64  OK    OK    WARNINGS    OK  UNNEEDED, same version is already published

Summary

Package: ChromSCape
Version: 1.6.0
Command: rm -rf ChromSCape.buildbin-libdir && mkdir ChromSCape.buildbin-libdir && /Users/biocbuild/BBS/utils/build-universal.sh ChromSCape_1.6.0.tar.gz /Library/Frameworks/R.framework/Resources/bin/R ChromSCape.buildbin-libdir
StartedAt: 2022-05-18 09:52:42 -0400 (Wed, 18 May 2022)
EndedAt: 2022-05-18 09:54:30 -0400 (Wed, 18 May 2022)
EllapsedTime: 107.9 seconds
RetCode: 0
Status:   OK  
PackageFile: ChromSCape_1.6.0.tgz
PackageFileSize: 5.77 MiB

Command output

##############################################################################
##############################################################################
###
### Running command:
###
###   rm -rf ChromSCape.buildbin-libdir && mkdir ChromSCape.buildbin-libdir && /Users/biocbuild/BBS/utils/build-universal.sh ChromSCape_1.6.0.tar.gz /Library/Frameworks/R.framework/Resources/bin/R ChromSCape.buildbin-libdir
###
##############################################################################
##############################################################################


>>>>>>> 
>>>>>>> INSTALLATION WITH 'R CMD INSTALL --preclean --no-multiarch --library=ChromSCape.buildbin-libdir ChromSCape_1.6.0.tar.gz'
>>>>>>> 

* installing *source* package ‘ChromSCape’ ...
** using staged installation
** libs
clang++ -mmacosx-version-min=10.13 -std=gnu++14 -I"/Library/Frameworks/R.framework/Resources/include" -DNDEBUG  -I'/Library/Frameworks/R.framework/Versions/4.2/Resources/library/Rcpp/include' -I/usr/local/include   -fPIC  -Wall -g -O2  -c RcppExports.cpp -o RcppExports.o
clang++ -mmacosx-version-min=10.13 -std=gnu++14 -I"/Library/Frameworks/R.framework/Resources/include" -DNDEBUG  -I'/Library/Frameworks/R.framework/Versions/4.2/Resources/library/Rcpp/include' -I/usr/local/include   -fPIC  -Wall -g -O2  -c as_dist.cpp -o as_dist.o
clang++ -mmacosx-version-min=10.13 -std=gnu++14 -dynamiclib -Wl,-headerpad_max_install_names -undefined dynamic_lookup -single_module -multiply_defined suppress -L/Library/Frameworks/R.framework/Resources/lib -L/usr/local/lib -o ChromSCape.so RcppExports.o as_dist.o -F/Library/Frameworks/R.framework/.. -framework R -Wl,-framework -Wl,CoreFoundation
installing to /Users/biocbuild/bbs-3.15-bioc/meat/ChromSCape.buildbin-libdir/00LOCK-ChromSCape/00new/ChromSCape/libs
** R
** data
** inst
** byte-compile and prepare package for lazy loading
** help
*** installing help indices
** building package indices
** installing vignettes
** testing if installed package can be loaded from temporary location
** checking absolute paths in shared objects and dynamic libraries
** testing if installed package can be loaded from final location
** testing if installed package keeps a record of temporary installation path
* DONE (ChromSCape)


>>>>>>> 
>>>>>>> FIXING LINKS FOR ChromSCape.buildbin-libdir/ChromSCape/libs/ChromSCape.so
>>>>>>> 

install_name_tool -change "/usr/local/lib/libgcc_s.1.dylib" "/Library/Frameworks/R.framework/Versions/4.2/Resources/lib/libgcc_s.1.dylib" "ChromSCape.buildbin-libdir/ChromSCape/libs/ChromSCape.so"
install_name_tool -change "/usr/local/lib/libgfortran.5.dylib" "/Library/Frameworks/R.framework/Versions/4.2/Resources/lib/libgfortran.5.dylib" "ChromSCape.buildbin-libdir/ChromSCape/libs/ChromSCape.so"
install_name_tool -change "/usr/local/lib/libquadmath.0.dylib" "/Library/Frameworks/R.framework/Versions/4.2/Resources/lib/libquadmath.0.dylib" "ChromSCape.buildbin-libdir/ChromSCape/libs/ChromSCape.so"