Back to Multiple platform build/check report for BioC 3.15
ABCDEFGHIJKL[M]NOPQRSTUVWXYZ

This page was generated on 2022-05-20 12:04:39 -0400 (Fri, 20 May 2022).

HostnameOSArch (*)R versionInstalled pkgs
nebbiolo1Linux (Ubuntu 20.04.4 LTS)x86_644.2.0 (2022-04-22) -- "Vigorous Calisthenics" 4380
palomino3Windows Server 2022 Datacenterx644.2.0 (2022-04-22 ucrt) -- "Vigorous Calisthenics" 4155
merida1macOS 10.14.6 Mojavex86_644.2.0 (2022-04-22) -- "Vigorous Calisthenics" 4221
Click on any hostname to see more info about the system (e.g. compilers)      (*) as reported by 'uname -p', except on Windows and Mac OS X

All results for package minfi


To the developers/maintainers of the minfi package:
- Please allow up to 24 hours (and sometimes 48 hours) for your latest push to git@git.bioconductor.org:packages/minfi.git to
reflect on this report. See How and When does the builder pull? When will my changes propagate? for more information.
- Make sure to use the following settings in order to reproduce any error or warning you see on this page.

raw results

Package 1186/2140HostnameOS / ArchINSTALLBUILDCHECKBUILD BIN
minfi 1.42.0  (landing page)
Kasper Daniel Hansen
Snapshot Date: 2022-05-19 13:55:15 -0400 (Thu, 19 May 2022)
git_url: https://git.bioconductor.org/packages/minfi
git_branch: RELEASE_3_15
git_last_commit: 30fc705
git_last_commit_date: 2022-04-26 11:09:22 -0400 (Tue, 26 Apr 2022)
nebbiolo1Linux (Ubuntu 20.04.4 LTS) / x86_64  OK    OK    OK  UNNEEDED, same version is already published
palomino3Windows Server 2022 Datacenter / x64  OK    OK    OK    OK  UNNEEDED, same version is already published
merida1macOS 10.14.6 Mojave / x86_64  OK    OK    OK    OK  UNNEEDED, same version is already published

Results for Bioconductor software packages that depend directly on package minfi

QUICK STATSOS / ArchINSTALLBUILDCHECKBUILD BIN
nebbiolo1Linux (Ubuntu 20.04.4 LTS) / x86_64
0020
0020
00614
palomino3Windows Server 2022 Datacenter / x64
0019
0118
00612
0018
merida1macOS 10.14.6 Mojave / x86_64
0020
0020
10613
0020
Package 1/20HostnameOS / ArchINSTALLBUILDCHECKBUILD BIN
bigmelon 1.22.0  (landing page)
Tyler J. Gorrie-Stone
git_last_commit: 94e8b0f
git_last_commit_date: 2022-04-26 11:35:38 -0400
nebbiolo1Linux (Ubuntu 20.04.4 LTS) / x86_64  OK    OK    WARNINGS  UNNEEDED, same version is already published
palomino3Windows Server 2022 Datacenter / x64  OK    OK    WARNINGS    OK  UNNEEDED, same version is already published
merida1macOS 10.14.6 Mojave / x86_64  OK    OK    WARNINGS    OK  UNNEEDED, same version is already published
Package 2/20HostnameOS / ArchINSTALLBUILDCHECKBUILD BIN
ChAMP 2.26.0  (landing page)
Yuan Tian
git_last_commit: 1548910
git_last_commit_date: 2022-04-26 11:16:54 -0400
nebbiolo1Linux (Ubuntu 20.04.4 LTS) / x86_64  OK    OK    WARNINGS  UNNEEDED, same version is already published
palomino3Windows Server 2022 Datacenter / x64  OK    OK    WARNINGS    OK  NO, package depends on 'DMRcate' which is not available
merida1macOS 10.14.6 Mojave / x86_64  OK    OK    WARNINGS    OK  UNNEEDED, same version is already published
Package 3/20HostnameOS / ArchINSTALLBUILDCHECKBUILD BIN
conumee 1.30.0  (landing page)
Volker Hovestadt
git_last_commit: d79a2eb
git_last_commit_date: 2022-04-26 11:25:02 -0400
nebbiolo1Linux (Ubuntu 20.04.4 LTS) / x86_64  OK    OK    OK  UNNEEDED, same version is already published
palomino3Windows Server 2022 Datacenter / x64... NOT SUPPORTED ...
merida1macOS 10.14.6 Mojave / x86_64  OK    OK    TIMEOUT    OK  
Package 4/20HostnameOS / ArchINSTALLBUILDCHECKBUILD BIN
DMRcate 2.10.0  (landing page)
Tim Peters
git_last_commit: 81e8370
git_last_commit_date: 2022-04-26 11:18:02 -0400
nebbiolo1Linux (Ubuntu 20.04.4 LTS) / x86_64  OK    OK    OK  UNNEEDED, same version is already published
palomino3Windows Server 2022 Datacenter / x64  OK    OK    OK    OK  NO, package depends on 'DSS' which is not available
merida1macOS 10.14.6 Mojave / x86_64  OK    OK    OK    OK  UNNEEDED, same version is already published
Package 5/20HostnameOS / ArchINSTALLBUILDCHECKBUILD BIN
ENmix 1.32.0  (landing page)
Zongli Xu
git_last_commit: 7abd1c3
git_last_commit_date: 2022-04-26 11:25:08 -0400
nebbiolo1Linux (Ubuntu 20.04.4 LTS) / x86_64  OK    OK    OK  UNNEEDED, same version is already published
palomino3Windows Server 2022 Datacenter / x64  OK    OK    OK    OK  UNNEEDED, same version is already published
merida1macOS 10.14.6 Mojave / x86_64  OK    OK    OK    OK  UNNEEDED, same version is already published
Package 6/20HostnameOS / ArchINSTALLBUILDCHECKBUILD BIN
epimutacions 1.0.0  (landing page)
Leire Abarrategui
git_last_commit: 517bef8
git_last_commit_date: 2022-04-26 12:22:47 -0400
nebbiolo1Linux (Ubuntu 20.04.4 LTS) / x86_64  OK    OK    OK  UNNEEDED, same version is already published
palomino3Windows Server 2022 Datacenter / x64  OK    OK    OK    OK  UNNEEDED, same version is already published
merida1macOS 10.14.6 Mojave / x86_64  OK    OK    OK    OK  UNNEEDED, same version is already published
Package 7/20HostnameOS / ArchINSTALLBUILDCHECKBUILD BIN
funtooNorm 1.20.0  (landing page)
Kathleen Klein
git_last_commit: cac6b4f
git_last_commit_date: 2022-04-26 11:38:31 -0400
nebbiolo1Linux (Ubuntu 20.04.4 LTS) / x86_64  OK    OK    WARNINGS  UNNEEDED, same version is already published
palomino3Windows Server 2022 Datacenter / x64  OK    OK    WARNINGS    OK  UNNEEDED, same version is already published
merida1macOS 10.14.6 Mojave / x86_64  OK    OK    WARNINGS    OK  UNNEEDED, same version is already published
Package 8/20HostnameOS / ArchINSTALLBUILDCHECKBUILD BIN
MEAL 1.26.0  (landing page)
Xavier EscribĂ  Montagut
git_last_commit: bac7355
git_last_commit_date: 2022-04-26 11:27:39 -0400
nebbiolo1Linux (Ubuntu 20.04.4 LTS) / x86_64  OK    OK    WARNINGS  UNNEEDED, same version is already published
palomino3Windows Server 2022 Datacenter / x64  OK    OK    WARNINGS    OK  UNNEEDED, same version is already published
merida1macOS 10.14.6 Mojave / x86_64  OK    OK    WARNINGS    OK  UNNEEDED, same version is already published
Package 9/20HostnameOS / ArchINSTALLBUILDCHECKBUILD BIN
MEAT 1.8.0  (landing page)
Sarah Voisin
git_last_commit: f77426c
git_last_commit_date: 2022-04-26 12:02:27 -0400
nebbiolo1Linux (Ubuntu 20.04.4 LTS) / x86_64  OK    OK    WARNINGS  UNNEEDED, same version is already published
palomino3Windows Server 2022 Datacenter / x64  OK    OK    WARNINGS    OK  UNNEEDED, same version is already published
merida1macOS 10.14.6 Mojave / x86_64  OK    OK    WARNINGS    OK  UNNEEDED, same version is already published
Package 10/20HostnameOS / ArchINSTALLBUILDCHECKBUILD BIN
MethylAid 1.30.0  (landing page)
L.J.Sinke
git_last_commit: 0d3c069
git_last_commit_date: 2022-04-26 11:19:56 -0400
nebbiolo1Linux (Ubuntu 20.04.4 LTS) / x86_64  OK    OK    OK  UNNEEDED, same version is already published
palomino3Windows Server 2022 Datacenter / x64  OK    OK    OK    OK  UNNEEDED, same version is already published
merida1macOS 10.14.6 Mojave / x86_64  OK    OK    OK    OK  UNNEEDED, same version is already published
Package 11/20HostnameOS / ArchINSTALLBUILDCHECKBUILD BIN
methylCC 1.10.0  (landing page)
Stephanie C. Hicks
git_last_commit: cf69213
git_last_commit_date: 2022-04-26 11:59:50 -0400
nebbiolo1Linux (Ubuntu 20.04.4 LTS) / x86_64  OK    OK    OK  UNNEEDED, same version is already published
palomino3Windows Server 2022 Datacenter / x64  OK    OK    OK    OK  UNNEEDED, same version is already published
merida1macOS 10.14.6 Mojave / x86_64  OK    OK    OK    OK  UNNEEDED, same version is already published
Package 12/20HostnameOS / ArchINSTALLBUILDCHECKBUILD BIN
methylclock 1.2.0  (landing page)
Dolors Pelegri-Siso
git_last_commit: 890be0a
git_last_commit_date: 2022-04-26 12:16:55 -0400
nebbiolo1Linux (Ubuntu 20.04.4 LTS) / x86_64  OK    OK    OK  UNNEEDED, same version is already published
palomino3Windows Server 2022 Datacenter / x64  OK    ERROR  skippedskipped
merida1macOS 10.14.6 Mojave / x86_64  OK    OK    OK    OK  UNNEEDED, same version is already published
Package 13/20HostnameOS / ArchINSTALLBUILDCHECKBUILD BIN
methylumi 2.42.0  (landing page)
Sean Davis
git_last_commit: 73e9c7f
git_last_commit_date: 2022-04-26 11:03:01 -0400
nebbiolo1Linux (Ubuntu 20.04.4 LTS) / x86_64  OK    OK    OK  UNNEEDED, same version is already published
palomino3Windows Server 2022 Datacenter / x64  OK    OK    OK    OK  UNNEEDED, same version is already published
merida1macOS 10.14.6 Mojave / x86_64  OK    OK    OK    OK  UNNEEDED, same version is already published
Package 14/20HostnameOS / ArchINSTALLBUILDCHECKBUILD BIN
missMethyl 1.30.0  (landing page)
Belinda Phipson
git_last_commit: 7348466
git_last_commit_date: 2022-04-26 11:20:40 -0400
nebbiolo1Linux (Ubuntu 20.04.4 LTS) / x86_64  OK    OK    OK  UNNEEDED, same version is already published
palomino3Windows Server 2022 Datacenter / x64  OK    OK    OK    OK  UNNEEDED, same version is already published
merida1macOS 10.14.6 Mojave / x86_64  OK    OK    OK    OK  UNNEEDED, same version is already published
Package 15/20HostnameOS / ArchINSTALLBUILDCHECKBUILD BIN
quantro 1.30.0  (landing page)
Stephanie Hicks
git_last_commit: e756c43
git_last_commit_date: 2022-04-26 11:21:03 -0400
nebbiolo1Linux (Ubuntu 20.04.4 LTS) / x86_64  OK    OK    OK  UNNEEDED, same version is already published
palomino3Windows Server 2022 Datacenter / x64  OK    OK    OK    OK  UNNEEDED, same version is already published
merida1macOS 10.14.6 Mojave / x86_64  OK    OK    OK    OK  UNNEEDED, same version is already published
Package 16/20HostnameOS / ArchINSTALLBUILDCHECKBUILD BIN
recountmethylation 1.6.0  (landing page)
Sean K Maden
git_last_commit: f1b1245
git_last_commit_date: 2022-04-26 12:08:06 -0400
nebbiolo1Linux (Ubuntu 20.04.4 LTS) / x86_64  OK    OK    WARNINGS  UNNEEDED, same version is already published
palomino3Windows Server 2022 Datacenter / x64  OK    OK    WARNINGS    OK  UNNEEDED, same version is already published
merida1macOS 10.14.6 Mojave / x86_64  OK    OK    WARNINGS    OK  UNNEEDED, same version is already published
Package 17/20HostnameOS / ArchINSTALLBUILDCHECKBUILD BIN
REMP 1.20.1  (landing page)
Yinan Zheng
git_last_commit: 58547b6
git_last_commit_date: 2022-05-13 05:55:06 -0400
nebbiolo1Linux (Ubuntu 20.04.4 LTS) / x86_64  OK    OK    OK  UNNEEDED, same version is already published
palomino3Windows Server 2022 Datacenter / x64  OK    OK    OK    OK  UNNEEDED, same version is already published
merida1macOS 10.14.6 Mojave / x86_64  OK    OK    OK    OK  UNNEEDED, same version is already published
Package 18/20HostnameOS / ArchINSTALLBUILDCHECKBUILD BIN
shinyepico 1.4.2  (landing page)
Octavio Morante-Palacios
git_last_commit: 731c058
git_last_commit_date: 2022-05-18 14:37:19 -0400
nebbiolo1Linux (Ubuntu 20.04.4 LTS) / x86_64  OK    OK    OK  YES
palomino3Windows Server 2022 Datacenter / x64  OK    OK    OK    OK  YES
merida1macOS 10.14.6 Mojave / x86_64  OK    OK    OK    OK  YES
Package 19/20HostnameOS / ArchINSTALLBUILDCHECKBUILD BIN
shinyMethyl 1.32.0  (landing page)
Jean-Philippe Fortin
git_last_commit: eedc4ce
git_last_commit_date: 2022-04-26 11:20:28 -0400
nebbiolo1Linux (Ubuntu 20.04.4 LTS) / x86_64  OK    OK    OK  UNNEEDED, same version is already published
palomino3Windows Server 2022 Datacenter / x64  OK    OK    OK    OK  UNNEEDED, same version is already published
merida1macOS 10.14.6 Mojave / x86_64  OK    OK    OK    OK  UNNEEDED, same version is already published
Package 20/20HostnameOS / ArchINSTALLBUILDCHECKBUILD BIN
skewr 1.28.0  (landing page)
Ryan Putney
git_last_commit: fd2672c
git_last_commit_date: 2022-04-26 11:23:56 -0400
nebbiolo1Linux (Ubuntu 20.04.4 LTS) / x86_64  OK    OK    OK  UNNEEDED, same version is already published
palomino3Windows Server 2022 Datacenter / x64  OK    OK    OK    OK  UNNEEDED, same version is already published
merida1macOS 10.14.6 Mojave / x86_64  OK    OK    OK    OK  UNNEEDED, same version is already published