Long report

Multiple platform build/check report for BioC 3.15

This page was generated on 2022-05-16 11:08:42 -0400 (Mon, 16 May 2022).

Approx. Package Snapshot Date (git pull): 2022-05-15 13:55:12 -0400 (Sun, 15 May 2022)

Package status is indicated by one of the following glyphs
  TIMEOUT  
INSTALL, BUILD, CHECK or BUILD BIN of package took more than 40 minutes
  ERROR  
Bad DESCRIPTION file, or INSTALL, BUILD or BUILD BIN of package failed, or CHECK produced errors
  WARNINGS  
CHECK of package produced warnings
  OK  
INSTALL, BUILD, CHECK and BUILD BIN of package went OK
  NA  
INSTALL, BUILD, CHECK or BUILD BIN result is not available because of an anomaly in the Build System
Click on any glyph in the report below to access the detailed report.
A
ABCDEFGHIJKLMNOPQRSTUVWXYZ
PackageMaintainerINSTALL/BUILD/CHECK
1/2140a4 1.44.0  (landing page)Laure Cougnaud  OK  
2/2140a4Base 1.44.0  (landing page)Laure Cougnaud  OK  
3/2140a4Classif 1.44.0  (landing page)Laure Cougnaud  OK  
4/2140a4Core 1.44.0  (landing page)Laure Cougnaud  OK  
5/2140a4Preproc 1.44.0  (landing page)Laure Cougnaud  OK  
6/2140a4Reporting 1.44.0  (landing page)Laure Cougnaud  OK  
7/2140ABAEnrichment 1.26.0  (landing page)Steffi Grote  ERROR  
8/2140ABarray 1.64.0  (landing page)Yongming Andrew Sun  OK  
9/2140abseqR 1.14.0  (landing page)JiaHong Fong  OK  
10/2140ABSSeq 1.50.0  (landing page)Wentao Yang  OK  
11/2140acde 1.26.0  (landing page)Juan Pablo Acosta  OK  
12/2140ACE 1.14.0  (landing page)Jos B Poell  OK  
13/2140aCGH 1.74.0  (landing page)Peter Dimitrov  OK  
14/2140ACME 2.52.0  (landing page)Sean Davis  WARNINGS  
15/2140ADaCGH2 2.36.0  (landing page)Ramon Diaz-Uriarte  OK  
16/2140ADAM 1.12.0  (landing page)Jose Luiz Rybarczyk Filho  OK  
17/2140ADAMgui 1.12.0  (landing page)Jose Luiz Rybarczyk Filho  OK  
18/2140adductomicsR 1.12.0  (landing page)Josie Hayes  WARNINGS  
19/2140ADImpute 1.6.0  (landing page)Ana Carolina Leote  WARNINGS  
20/2140adSplit 1.66.0  (landing page)Claudio Lottaz  OK  
21/2140AffiXcan 1.14.0  (landing page)Alessandro Lussana  OK  
22/2140affxparser 1.68.1  (landing page)Kasper Daniel Hansen  WARNINGS  
23/2140affy 1.74.0  (landing page)Rafael A. Irizarry  WARNINGS  
24/2140affycomp 1.72.0  (landing page)Rafael A. Irizarry  OK  
25/2140AffyCompatible 1.56.0  (landing page)Martin Morgan  OK  
26/2140affyContam 1.54.0  (landing page)V. Carey  OK  
27/2140affycoretools 1.68.1  (landing page)James W. MacDonald  OK  
28/2140affyILM 1.48.0  (landing page)Myriam Kroll and Fabrice Berger  OK  
29/2140affyio 1.66.0  (landing page)Ben Bolstad  WARNINGS  
30/2140affylmGUI 1.70.0  (landing page)Gordon Smyth  OK  
31/2140affyPLM 1.72.0  (landing page)Ben Bolstad  ERROR  
32/2140AffyRNADegradation 1.42.0  (landing page)Mario Fasold  OK  
33/2140AGDEX 1.44.0  (landing page)Cuilan lani Gao  OK  
34/2140aggregateBioVar 1.6.0  (landing page)Jason Ratcliff  OK  
35/2140agilp 3.28.0  (landing page)Benny Chain  OK  
36/2140AgiMicroRna 2.46.0  (landing page)Pedro Lopez-Romero  OK  
37/2140AIMS 1.28.0  (landing page)Eric R Paquet  OK  
38/2140airpart 1.4.0  (landing page)Wancen Mu  OK  
39/2140ALDEx2 1.28.1  (landing page)Greg Gloor  OK  
40/2140alevinQC 1.12.0  (landing page)Charlotte Soneson  OK  
41/2140AllelicImbalance 1.34.0  (landing page)Jesper R Gadin  OK  
42/2140AlphaBeta 1.10.0  (landing page)Yadollah Shahryary Dizaji  OK  
43/2140alpine 1.22.0  (landing page)Michael Love  OK  
44/2140AlpsNMR 3.6.0  (landing page)Sergio Oller Moreno  OK  
45/2140altcdfenvs 2.58.0  (landing page)Laurent Gautier  OK  
46/2140AMARETTO 1.12.0  (landing page)Olivier Gevaert  OK  
47/2140AMOUNTAIN 1.22.0  (landing page)Dong Li  OK  
48/2140amplican 1.18.0  (landing page)Eivind Valen  OK  
49/2140Anaquin 2.20.0  (landing page)Ted Wong  OK  
50/2140ANCOMBC 1.6.0  (landing page)Huang Lin  OK  
51/2140AneuFinder 1.24.0  (landing page)Aaron Taudt  WARNINGS  
52/2140ANF 1.18.0  (landing page)Tianle Ma  OK  
53/2140animalcules 1.12.0  (landing page)Yue Zhao  WARNINGS  
54/2140annaffy 1.68.0  (landing page)Colin A. Smith  WARNINGS  
55/2140annmap 1.38.0  (landing page)Chris Wirth  WARNINGS  
56/2140annotate 1.74.0  (landing page)Bioconductor Package Maintainer  OK  
57/2140AnnotationDbi 1.58.0  (landing page)Bioconductor Package Maintainer  OK  
58/2140AnnotationFilter 1.20.0  (landing page)Bioconductor Package Maintainer  OK  
59/2140AnnotationForge 1.38.0  (landing page)Bioconductor Package Maintainer  OK  
60/2140AnnotationHub 3.4.0  (landing page)Bioconductor Package Maintainer  WARNINGS  
61/2140AnnotationHubData 1.26.1  (landing page)Bioconductor Package Maintainer  WARNINGS  
62/2140annotationTools 1.70.0  (landing page)Alexandre Kuhn  OK  
63/2140annotatr 1.22.0  (landing page)Raymond G. Cavalcante  OK  
64/2140anota 1.44.0  (landing page)Ola Larsson  OK  
65/2140anota2seq 1.18.0  (landing page)Christian Oertlin , Julie Lorent  OK  
66/2140antiProfiles 1.36.0  (landing page)Hector Corrada Bravo  OK  
67/2140AnVIL 1.8.1  (landing page)Martin Morgan  OK  
68/2140AnVILBilling 1.6.0  (landing page)Vince Carey  OK  
69/2140AnVILPublish 1.6.0  (landing page)Martin Morgan  OK  
70/2140APAlyzer 1.10.0  (landing page)Ruijia Wang  WARNINGS  
71/2140apComplex 2.62.0  (landing page)Denise Scholtens  OK  
72/2140apeglm 1.18.0  (landing page)Anqi Zhu  OK  
73/2140APL 1.0.0  (landing page)Elzbieta Gralinska  OK  
74/2140appreci8R 1.14.0  (landing page)Sarah Sandmann  OK  
75/2140aroma.light 3.26.0  (landing page)Henrik Bengtsson  OK  
76/2140ArrayExpress 1.56.0  (landing page)Suhaib Mohammed  OK  
77/2140ArrayExpressHTS 1.46.0  (landing page)Angela Goncalves , Andrew Tikhonov  WARNINGS  
78/2140arrayMvout 1.54.0  (landing page)V. Carey  OK  
79/2140arrayQuality 1.74.0  (landing page)Agnes Paquet  WARNINGS  
80/2140arrayQualityMetrics 3.52.0  (landing page)Mike Smith  OK  
81/2140ARRmNormalization 1.36.0  (landing page)Jean-Philippe Fortin  OK  
82/2140artMS 1.14.0  (landing page)David Jimenez-Morales  OK  
83/2140ASAFE 1.22.0  (landing page)Qian Zhang  OK  
84/2140ASEB 1.40.0  (landing page)Likun Wang  WARNINGS  
85/2140ASGSCA 1.30.0  (landing page)Hela Romdhani  OK  
86/2140ASICS 2.12.0  (landing page)Gaëlle Lefort  WARNINGS  
87/2140ASpediaFI 1.10.0  (landing page)Doyeong Yu  OK  
88/2140ASpli 2.6.0  (landing page)Estefania Mancini  OK  
89/2140AssessORF 1.14.0  (landing page)Deepank Korandla  OK  
90/2140ASSET 2.14.0  (landing page)Samsiddhi Bhattacharjee  OK  
91/2140ASSIGN 1.32.0  (landing page)Ying Shen , W. Evan Johnson  OK  
92/2140ASURAT 1.0.0  (landing page)Keita Iida  OK  
93/2140ATACseqQC 1.20.2  (landing page)Jianhong Ou  OK  
94/2140atena 1.2.0  (landing page)Beatriz Calvo-Serra  OK  
95/2140atSNP 1.12.0  (landing page)Sunyoung Shin  OK  
96/2140attract 1.48.0  (landing page)Samuel Zimmerman  OK  
97/2140AUCell 1.18.0  (landing page)Sara Aibar  OK  
98/2140autonomics 1.4.0  (landing page)Aditya Bhagwat  WARNINGS  
99/2140Autotuner 1.10.0  (landing page)Craig McLean  ERROR  
100/2140AWFisher 1.10.0  (landing page)Zhiguang Huo  OK  
101/2140awst 1.4.0  (landing page)Davide Risso  OK  
B
ABCDEFGHIJKLMNOPQRSTUVWXYZ
PackageMaintainerINSTALL/BUILD/CHECK
102/2140BaalChIP 1.22.0  (landing page)Ines de Santiago  WARNINGS  
103/2140BAC 1.56.0  (landing page)Raphael Gottardo  OK  
104/2140bacon 1.24.0  (landing page)Maarten van Iterson  OK  
105/2140BADER 1.34.0  (landing page)Andreas Neudecker  OK  
106/2140BadRegionFinder 1.24.0  (landing page)Sarah Sandmann  OK  
107/2140BAGS 2.36.0  (landing page)Alejandro Quiroz-Zarate  OK  
108/2140ballgown 2.28.0  (landing page)Jack Fu  OK  
109/2140bambu 2.2.0  (landing page)Ying Chen  OK  
110/2140bamsignals 1.28.0  (landing page)Johannes Helmuth  OK  
111/2140BANDITS 1.12.0  (landing page)Simone Tiberi  OK  
112/2140bandle 1.0.0  (landing page)Oliver M. Crook  OK  
113/2140banocc 1.20.0  (landing page)George Weingart  ERROR  
114/2140barcodetrackR 1.4.0  (landing page)Diego Alexander Espinoza  OK  
115/2140basecallQC 1.20.0  (landing page)Thomas Carroll  OK  
116/2140BaseSpaceR 1.40.0  (landing page)Jared O'Connell  OK  
117/2140Basic4Cseq 1.32.0  (landing page)Carolin Walter  OK  
118/2140BASiCS 2.8.0  (landing page)Alan O'Callaghan  OK  
119/2140BasicSTARRseq 1.24.0  (landing page)Annika Buerger  OK  
120/2140basilisk 1.8.0  (landing page)Aaron Lun  OK  
121/2140basilisk.utils 1.8.0  (landing page)Aaron Lun  OK  
122/2140batchelor 1.12.0  (landing page)Aaron Lun  OK  
123/2140BatchQC 1.24.0  (landing page)Solaiappan Manimaran  OK  
124/2140BayesKnockdown 1.22.0  (landing page)William Chad Young  OK  
125/2140BayesSpace 1.6.0  (landing page)Matt Stone  OK  
126/2140bayNorm 1.14.0  (landing page)Wenhao Tang  OK  
127/2140baySeq 2.30.0  (landing page)Thomas J. Hardcastle  OK  
128/2140BBCAnalyzer 1.26.0  (landing page)Sarah Sandmann  WARNINGS  
129/2140BCRANK 1.58.0  (landing page)Adam Ameur  OK  
130/2140bcSeq 1.18.0  (landing page)Jiaxing Lin  WARNINGS  
131/2140BDMMAcorrect 1.14.0  (landing page)ZHENWEI DAI  OK  
132/2140beachmat 2.12.0  (landing page)Aaron Lun  OK  
133/2140beadarray 2.46.0  (landing page)Mark Dunning  OK  
134/2140beadarraySNP 1.62.0  (landing page)Jan Oosting  OK  
135/2140BeadDataPackR 1.48.0  (landing page)Mike Smith  OK  
136/2140BEARscc 1.16.0  (landing page)Benjamin Schuster-Boeckler  OK  
137/2140BEAT 1.34.0  (landing page)Kemal Akman  OK  
138/2140BEclear 2.12.0  (landing page)David Rasp  OK  
139/2140beer 1.0.0  (landing page)Athena Chen  OK  
140/2140benchdamic 1.2.0  (landing page)Matteo Calgaro  OK  
141/2140BgeeCall 1.12.1  (landing page)Julien Wollbrett  OK  
142/2140BgeeDB 2.22.0  (landing page)Julien Wollbrett , Julien Roux , Andrea Komljenovic , Frederic Bastian  OK  
143/2140BGmix 1.56.0  (landing page)Alex Lewin  WARNINGS  
144/2140bgx 1.62.0  (landing page)Ernest Turro  WARNINGS  
145/2140BHC 1.48.0  (landing page)Rich Savage  WARNINGS  
146/2140BicARE 1.54.0  (landing page)Pierre Gestraud  OK  
147/2140BiFET 1.16.0  (landing page)Ahrim Youn  OK  
148/2140BiGGR 1.32.0  (landing page)Anand K. Gavai  OK  
149/2140bigmelon 1.22.0  (landing page)Tyler J. Gorrie-Stone  WARNINGS  
150/2140bigPint 1.12.0  (landing page)Lindsay Rutter  WARNINGS  
151/2140BindingSiteFinder 1.2.0  (landing page)Mirko Brüggemann  OK  
152/2140bioassayR 1.34.0  (landing page)Daniela Cassol  OK  
153/2140Biobase 2.56.0  (landing page)Bioconductor Package Maintainer  OK  
154/2140biobroom 1.28.0  (landing page)John D. Storey and Andrew J. Bass  WARNINGS  
155/2140biobtreeR 1.8.0  (landing page)Tamer Gur  OK  
156/2140bioCancer 1.24.01  (landing page)Karim Mezhoud  OK  
157/2140BiocCheck 1.32.0  (landing page)Bioconductor Package Maintainer  OK  
158/2140BiocDockerManager 1.8.0  (landing page)Bioconductor Package Maintainer  OK  
159/2140BiocFileCache 2.4.0  (landing page)Lori Shepherd  OK  
160/2140BiocGenerics 0.42.0  (landing page)Bioconductor Package Maintainer  WARNINGS  
161/2140biocGraph 1.58.0  (landing page)Florian Hahne  OK  
162/2140BiocIO 1.6.0  (landing page)Bioconductor Package Maintainer  OK  
163/2140BiocNeighbors 1.14.0  (landing page)Aaron Lun  OK  
164/2140BiocOncoTK 1.16.0  (landing page)VJ Carey  WARNINGS  
165/2140BioCor 1.20.0  (landing page)Lluís Revilla Sancho  OK  
166/2140BiocParallel 1.30.2  (landing page)Bioconductor Package Maintainer  ERROR  
167/2140BiocPkgTools 1.14.0  (landing page)Sean Davis  OK  
168/2140BiocSet 1.10.0  (landing page)Kayla Morrell  OK  
169/2140BiocSingular 1.12.0  (landing page)Aaron Lun  OK  
170/2140BiocSklearn 1.18.0  (landing page)Vince Carey  OK  
171/2140BiocStyle 2.24.0  (landing page)Bioconductor Package  OK  
172/2140biocthis 1.6.0  (landing page)Leonardo Collado-Torres  OK  
173/2140BiocVersion 3.15.2  (landing page)Bioconductor Package Maintainer  OK  
174/2140biocViews 1.64.0  (landing page)Bioconductor Package Maintainer  OK  
175/2140BiocWorkflowTools 1.22.0  (landing page)Mike Smith  OK  
176/2140biodb 1.4.0  (landing page)Pierrick Roger  OK  
177/2140biodbChebi 1.2.0  (landing page)Pierrick Roger  OK  
178/2140biodbExpasy 1.0.0  (landing page)Pierrick Roger  OK  
179/2140biodbHmdb 1.2.0  (landing page)Pierrick Roger  ERROR  
180/2140biodbKegg 1.2.0  (landing page)Pierrick Roger  OK  
181/2140biodbLipidmaps 1.2.0  (landing page)Pierrick Roger  OK  
182/2140biodbMirbase 1.0.0  (landing page)Pierrick Roger  ERROR  
183/2140biodbNcbi 1.0.0  (landing page)Pierrick Roger  OK  
184/2140biodbNci 1.0.0  (landing page)Pierrick Roger  OK  
185/2140biodbUniprot 1.2.0  (landing page)Pierrick Roger  OK  
186/2140bioDist 1.68.0  (landing page)Bioconductor Package Maintainer  OK  
187/2140biomaRt 2.52.0  (landing page)Mike Smith  OK  
188/2140biomformat 1.24.0  (landing page)Paul J. McMurdie  WARNINGS  
189/2140BioMM 1.12.0  (landing page)Junfang Chen  OK  
190/2140BioMVCClass 1.64.0  (landing page)Elizabeth Whalen  OK  
191/2140biomvRCNS 1.36.0  (landing page)Yang Du  OK  
192/2140BioNERO 1.4.0  (landing page)Fabricio Almeida-Silva  OK  
193/2140BioNet 1.56.0  (landing page)Marcus Dittrich  OK  
194/2140BioNetStat 1.16.0  (landing page)Vinicius Jardim  OK  
195/2140BioPlex 1.2.0  (landing page)Ludwig Geistlinger  OK  
196/2140BioQC 1.24.0  (landing page)Jitao David Zhang  OK  
197/2140biosigner 1.24.0  (landing page)Philippe Rinaudo , Etienne Thevenot  OK  
198/2140Biostrings 2.64.0  (landing page)H. Pagès  WARNINGS  
199/2140BioTIP 1.10.0  (landing page)Yuxi (Jennifer) Sun , Zhezhen Wang , and X Holly Yang  WARNINGS  
200/2140biotmle 1.20.0  (landing page)Nima Hejazi  OK  
201/2140biovizBase 1.44.0  (landing page)Michael Lawrence  WARNINGS  
202/2140BiRewire 3.28.0  (landing page)Andrea Gobbi  WARNINGS  
203/2140biscuiteer 1.10.0  (landing page)Jacob Morrison  WARNINGS  
204/2140BiSeq 1.36.0  (landing page)Katja Hebestreit  OK  
205/2140BitSeq 1.40.0  (landing page)Antti Honkela , Panagiotis Papastamoulis  WARNINGS  
206/2140blacksheepr 1.10.0  (landing page)RugglesLab  OK  
207/2140blima 1.30.0  (landing page)Vojtěch Kulvait  WARNINGS  
208/2140BLMA 1.20.0  (landing page)Hung Nguyen  OK  
209/2140BloodGen3Module 1.4.0  (landing page)Darawan Rinchai  WARNINGS  
210/2140bluster 1.6.0  (landing page)Aaron Lun  OK  
211/2140bnbc 1.18.0  (landing page)Kipper Fletez-Brant  OK  
212/2140bnem 1.4.0  (landing page)Martin Pirkl  OK  
213/2140BOBaFIT 1.0.0  (landing page)Gaia Mazzocchetti  OK  
214/2140borealis 1.0.0  (landing page)Garrett Jenkinson  ERROR  
215/2140BPRMeth 1.22.0  (landing page)Chantriolnt-Andreas Kapourani  OK  
216/2140BRAIN 1.42.0  (landing page)Piotr Dittwald  WARNINGS  
217/2140brainflowprobes 1.10.0  (landing page)Amanda Price  OK  
218/2140BrainSABER 1.6.0  (landing page)USD Biomedical Engineering  OK  
219/2140branchpointer 1.22.0  (landing page)Beth Signal  OK  
220/2140breakpointR 1.14.0  (landing page)David Porubsky  OK  
221/2140brendaDb 1.10.0  (landing page)Yi Zhou  OK  
222/2140BRGenomics 1.8.0  (landing page)Mike DeBerardine  WARNINGS  
223/2140bridge 1.60.0  (landing page)Raphael Gottardo  WARNINGS  
224/2140BridgeDbR 2.6.0  (landing page)Egon Willighagen  OK  
225/2140BrowserViz 2.18.0  (landing page)Paul Shannon  OK  
226/2140BSgenome 1.64.0  (landing page)H. Pagès  WARNINGS  
227/2140bsseq 1.32.0  (landing page)Kasper Daniel Hansen  OK  
228/2140BubbleTree 2.26.0  (landing page)Todd Creasy , Wei Zhu  OK  
229/2140BufferedMatrix 1.60.0  (landing page)Ben Bolstad  WARNINGS  
230/2140BufferedMatrixMethods 1.60.0  (landing page)Ben Bolstad  OK  
231/2140bugsigdbr 1.2.0  (landing page)Ludwig Geistlinger  OK  
232/2140BUMHMM 1.20.0  (landing page)Alina Selega  OK  
233/2140bumphunter 1.38.0  (landing page)Tamilselvi Guharaj  OK  
234/2140BumpyMatrix 1.4.0  (landing page)Aaron Lun  OK  
235/2140BUS 1.52.0  (landing page)Yuanhua Liu  OK  
236/2140BUScorrect 1.14.0  (landing page)Xiangyu Luo  OK  
237/2140BUSpaRse 1.10.0  (landing page)Lambda Moses  OK  
238/2140BUSseq 1.2.0  (landing page)Fangda Song  OK  
C
ABCDEFGHIJKLMNOPQRSTUVWXYZ
PackageMaintainerINSTALL/BUILD/CHECK
239/2140CAEN 1.4.0  (landing page)Zhou Yan  OK  
240/2140CAFE 1.32.0  (landing page)Sander Bollen  WARNINGS  
241/2140CAGEfightR 1.16.0  (landing page)Malte Thodberg  OK  
242/2140cageminer 1.2.0  (landing page)Fabrício Almeida-Silva  OK  
243/2140CAGEr 2.2.0  (landing page)Charles Plessy  OK  
244/2140calm 1.10.0  (landing page)Kun Liang  OK  
245/2140CAMERA 1.52.0  (landing page)Steffen Neumann  OK  
246/2140canceR 1.30.01  (landing page)Karim Mezhoud  OK  
247/2140cancerclass 1.40.0  (landing page)Daniel Kosztyla  WARNINGS  
248/2140CancerInSilico 2.16.0  (landing page)Thomas D. Sherman  OK  
249/2140CancerSubtypes 1.22.0  (landing page)Taosheng Xu  OK  
250/2140CAnD 1.28.0  (landing page)Caitlin McHugh  ERROR  
251/2140caOmicsV 1.26.0  (landing page)Henry Zhang  ERROR  
252/2140Cardinal 2.14.0  (landing page)Kylie A. Bemis  OK  
253/2140CARNIVAL 2.6.0  (landing page)Attila Gabor  OK  
254/2140casper 2.30.0  (landing page)David Rossell  WARNINGS  
255/2140CATALYST 1.20.0  (landing page)Helena L. Crowell  OK  
256/2140Category 2.62.0  (landing page)Bioconductor Package Maintainer  OK  
257/2140categoryCompare 1.40.0  (landing page)Robert M. Flight  OK  
258/2140CausalR 1.28.0  (landing page)Glyn Bradley , Steven Barrett  OK  
259/2140cbaf 1.18.0  (landing page)Arman Shahrisa  OK  
260/2140CBEA 1.0.0  (landing page)Quang Nguyen  OK  
261/2140cBioPortalData 2.8.0  (landing page)Marcel Ramos  OK  
262/2140cbpManager 1.4.0  (landing page)Arsenij Ustjanzew  WARNINGS  
263/2140ccfindR 1.16.0  (landing page)Jun Woo  OK  
264/2140ccmap 1.22.0  (landing page)Alex Pickering  WARNINGS  
265/2140CCPROMISE 1.22.0  (landing page)Xueyuan Cao  WARNINGS  
266/2140ccrepe 1.32.0  (landing page)Emma Schwager ,Craig Bielski, George Weingart  OK  
267/2140celaref 1.14.0  (landing page)Sarah Williams  OK  
268/2140celda 1.12.0  (landing page)Joshua Campbell  OK  
269/2140CellaRepertorium 1.6.0  (landing page)Andrew McDavid  OK  
270/2140CellBarcode 1.2.0  (landing page)Wenjie Sun  OK  
271/2140cellbaseR 1.20.0  (landing page)Mohammed OE Abdallah  OK  
272/2140CellBench 1.12.0  (landing page)Shian Su  OK  
273/2140cellHTS2 2.60.0  (landing page)Joseph Barry  OK  
274/2140CelliD 1.4.0  (landing page)Akira Cortal  WARNINGS  
275/2140cellity 1.24.0  (landing page)Tomislav Ilicic  OK  
276/2140CellMapper 1.22.0  (landing page)Brad Nelms  WARNINGS  
277/2140cellmigRation 1.4.0  (landing page)Waldir Leoncio  OK  
278/2140CellMixS 1.12.0  (landing page)Almut Lütge  OK  
279/2140CellNOptR 1.42.0  (landing page)Attila Gabor  OK  
280/2140cellscape 1.20.0  (landing page)Maia Smith  WARNINGS  
281/2140CellScore 1.16.0  (landing page)Nancy Mah  OK  
282/2140CellTrails 1.14.0  (landing page)Daniel Ellwanger  OK  
283/2140cellTree 1.26.0  (landing page)David duVerle  OK  
284/2140cellxgenedp 1.0.0  (landing page)Martin Morgan  OK  
285/2140CEMiTool 1.20.0  (landing page)Helder Nakaya  OK  
286/2140censcyt 1.4.0  (landing page)Reto Gerber  OK  
287/2140Cepo 1.2.0  (landing page)Hani Jieun Kim  WARNINGS  
288/2140ceRNAnetsim 1.8.0  (landing page)Selcen Ari Yuka  OK  
289/2140CeTF 1.8.0  (landing page)Carlos Alberto Oliveira de Biagi Junior  OK  
290/2140CexoR 1.34.0  (landing page)Pedro Madrigal  OK  
291/2140CFAssay 1.30.0  (landing page)Herbert Braselmann  OK  
292/2140cfDNAPro 1.2.0  (landing page)Haichao Wang  OK  
293/2140CGEN 3.32.0  (landing page)Justin Lee  OK  
294/2140CGHbase 1.56.0  (landing page)Mark van de Wiel  OK  
295/2140CGHcall 2.58.0  (landing page)Mark van de Wiel  WARNINGS  
296/2140cghMCR 1.54.0  (landing page)J. Zhang  WARNINGS  
297/2140CGHnormaliter 1.50.0  (landing page)Bart P.P. van Houte  OK  
298/2140CGHregions 1.54.0  (landing page)Sjoerd Vosse  OK  
299/2140ChAMP 2.26.0  (landing page)Yuan Tian  WARNINGS  
300/2140ChemmineOB 1.34.0  (landing page)Thomas Girke  WARNINGS  
301/2140ChemmineR 3.48.0  (landing page)Thomas Girke  WARNINGS  
302/2140CHETAH 1.12.0  (landing page)Jurrian de Kanter  ERROR  
303/2140ChIC 1.16.0  (landing page)Carmen Maria Livi  OK  
304/2140Chicago 1.24.0  (landing page)Mikhail Spivakov  OK  
305/2140chimeraviz 1.22.0  (landing page)Stian Lågstad  OK  
306/2140ChIPanalyser 1.18.0  (landing page)Patrick C.N. Martin  OK  
307/2140ChIPComp 1.26.0  (landing page)Li Chen  OK  
308/2140chipenrich 2.20.0  (landing page)Raymond G. Cavalcante  OK  
309/2140ChIPexoQual 1.20.0  (landing page)Rene Welch  OK  
310/2140ChIPpeakAnno 3.30.0  (landing page)Jianhong Ou  OK  
311/2140ChIPQC 1.32.0  (landing page)Tom Carroll , Rory Stark  WARNINGS  
312/2140ChIPseeker 1.32.0  (landing page)Guangchuang Yu  OK  
313/2140chipseq 1.46.0  (landing page)Bioconductor Package Maintainer  WARNINGS  
314/2140ChIPseqR 1.50.0  (landing page)Peter Humburg  OK  
315/2140ChIPsim 1.50.0  (landing page)Peter Humburg  OK  
316/2140ChIPXpress 1.40.0  (landing page)George Wu  OK  
317/2140chopsticks 1.62.0  (landing page)Hin-Tak Leung  WARNINGS  
318/2140chromDraw 2.26.0  (landing page)Jan Janecka  WARNINGS  
319/2140ChromHeatMap 1.50.0  (landing page)Tim F. Rayner  OK  
320/2140chromPlot 1.24.0  (landing page)Karen Y. Orostica  WARNINGS  
321/2140ChromSCape 1.6.0  (landing page)Pacome Prompsy  WARNINGS  
322/2140chromstaR 1.22.0  (landing page)Aaron Taudt  OK  
323/2140chromswitch 1.18.0  (landing page)Selin Jessa  OK  
324/2140chromVAR 1.18.0  (landing page)Alicia Schep  OK  
325/2140CHRONOS 1.24.0  (landing page)Panos Balomenos  OK  
326/2140cicero 1.14.0  (landing page)Hannah Pliner  OK  
327/2140CIMICE 1.4.0  (landing page)Nicolò Rossi  OK  
328/2140CINdex 1.24.0  (landing page)Yuriy Gusev  WARNINGS  
329/2140circRNAprofiler 1.10.0  (landing page)Simona Aufiero  OK  
330/2140cisPath 1.36.0  (landing page)Likun Wang  WARNINGS  
331/2140CiteFuse 1.8.0  (landing page)Yingxin Lin  WARNINGS  
332/2140ClassifyR 3.0.3  (landing page)Dario Strbenac  OK  
333/2140cleanUpdTSeq 1.34.0  (landing page)Jianhong Ou ; Lihua Julie Zhu  OK  
334/2140cleaver 1.34.0  (landing page)Sebastian Gibb  OK  
335/2140clippda 1.46.0  (landing page)Stephen Nyangoma  WARNINGS  
336/2140clipper 1.36.0  (landing page)Paolo Martini  OK  
337/2140cliProfiler 1.2.0  (landing page)You Zhou  OK  
338/2140cliqueMS 1.10.0  (landing page)Oriol Senan Campos  OK  
339/2140Clomial 1.32.0  (landing page)Habil Zare  OK  
340/2140Clonality 1.44.0  (landing page)Irina Ostrovnaya  OK  
341/2140clonotypeR 1.34.0  (landing page)Charles Plessy  WARNINGS  
342/2140clst 1.44.0  (landing page)Noah Hoffman  WARNINGS  
343/2140clstutils 1.44.0  (landing page)Noah Hoffman  WARNINGS  
344/2140CluMSID 1.12.0  (landing page)Tobias Depke  OK  
345/2140clustComp 1.24.0  (landing page)Aurora Torrente  OK  
346/2140clusterExperiment 2.16.0  (landing page)Elizabeth Purdom  WARNINGS  
347/2140ClusterJudge 1.18.0  (landing page)Adrian Pasculescu  OK  
348/2140clusterProfiler 4.4.1  (landing page)Guangchuang Yu  OK  
349/2140clusterSeq 1.20.0  (landing page)Thomas J. Hardcastle  OK  
350/2140ClusterSignificance 1.24.0  (landing page)Jason T Serviss  OK  
351/2140clusterStab 1.68.0  (landing page)James W. MacDonald  OK  
352/2140clustifyr 1.8.0  (landing page)Kent Riemondy  OK  
353/2140CMA 1.54.0  (landing page)Roman Hornung  OK  
354/2140cmapR 1.8.0  (landing page)Ted Natoli  OK  
355/2140cn.farms 1.44.0  (landing page)Andreas Mitterecker  OK  
356/2140cn.mops 1.42.0  (landing page)Gundula Povysil  OK  
357/2140CNAnorm 1.42.0  (landing page)Stefano Berri  OK  
358/2140CNEr 1.32.0  (landing page)Ge Tan  WARNINGS  
359/2140CNORdt 1.38.0  (landing page)A. MacNamara  OK  
360/2140CNORfeeder 1.36.0  (landing page)E.Gjerga  ERROR  
361/2140CNORfuzzy 1.38.0  (landing page)T. Cokelaer  OK  
362/2140CNORode 1.38.0  (landing page)Attila Gabor  OK  
363/2140CNTools 1.52.0  (landing page)J. Zhang  OK  
364/2140CNVfilteR 1.10.0  (landing page)Jose Marcos Moreno-Cabrera  OK  
365/2140CNVgears 1.4.0  (landing page)Simone Montalbano  OK  
366/2140cnvGSA 1.40.0  (landing page)Joseph Lugo  OK  
367/2140CNViz 1.4.0  (landing page)Rebecca Greenblatt  OK  
368/2140CNVMetrics 1.0.0  (landing page)Astrid Deschênes  OK  
369/2140CNVPanelizer 1.28.0  (landing page)Thomas Wolf  OK  
370/2140CNVRanger 1.12.0  (landing page)Ludwig Geistlinger  OK  
371/2140CNVrd2 1.34.0  (landing page)Hoang Tan Nguyen  OK  
372/2140CoCiteStats 1.68.0  (landing page)Bioconductor Package Maintainer  OK  
373/2140COCOA 2.10.0  (landing page)John Lawson  OK  
374/2140codelink 1.64.0  (landing page)Diego Diez  OK  
375/2140CODEX 1.28.0  (landing page)Yuchao Jiang  OK  
376/2140coexnet 1.18.0  (landing page)Juan David Henao  ERROR  
377/2140CoGAPS 3.16.0  (landing page)Elana J. Fertig  WARNINGS  
378/2140cogena 1.30.0  (landing page)Zhilong Jia  WARNINGS  
379/2140cogeqc 1.0.0  (landing page)Fabrício Almeida-Silva  OK  
380/2140Cogito 1.2.0  (landing page)Annika Bürger  OK  
381/2140coGPS 1.40.0  (landing page)Yingying Wei  OK  
382/2140COHCAP 1.42.0  (landing page)Charles Warden  OK  
383/2140cola 2.2.0  (landing page)Zuguang Gu  OK  
384/2140comapr 1.0.0  (landing page)Ruqian Lyu  OK  
385/2140combi 1.8.0  (landing page)Stijn Hawinkel  OK  
386/2140coMET 1.28.0  (landing page)Tiphaine Martin  OK  
387/2140coMethDMR 1.0.0  (landing page)Fernanda Veitzman  OK  
388/2140compartmap 1.14.0  (landing page)Benjamin Johnson  OK  
389/2140COMPASS 1.34.0  (landing page)Greg Finak  OK  
390/2140compcodeR 1.32.0  (landing page)Charlotte Soneson  OK  
391/2140compEpiTools 1.30.0  (landing page)Kamal Kishore  WARNINGS  
392/2140ComplexHeatmap 2.12.0  (landing page)Zuguang Gu  OK  
393/2140CompoundDb 1.0.1  (landing page)Johannes Rainer  OK  
394/2140ComPrAn 1.4.0  (landing page)Petra Palenikova  OK  
395/2140conclus 1.4.0  (landing page)Ilyess Rachedi  ERROR  
396/2140condiments 1.4.0  (landing page)Hector Roux de Bezieux  OK  
397/2140CONFESS 1.24.0  (landing page)Diana LOW  ERROR  
398/2140consensus 1.14.0  (landing page)Tim Peters  OK  
399/2140ConsensusClusterPlus 1.60.0  (landing page)Matt Wilkerson  OK  
400/2140consensusDE 1.14.0  (landing page)Ashley J. Waardenberg  OK  
401/2140consensusOV 1.18.0  (landing page)Benjamin Haibe-Kains  OK  
402/2140consensusSeekeR 1.24.0  (landing page)Astrid Deschenes  OK  
403/2140CONSTANd 1.4.0  (landing page)Dirk Valkenborg  OK  
404/2140contiBAIT 1.24.0  (landing page)Kieran O'Neill  WARNINGS  
405/2140conumee 1.30.0  (landing page)Volker Hovestadt  TIMEOUT  
406/2140convert 1.72.0  (landing page)Yee Hwa (Jean) Yang  OK  
407/2140copa 1.64.0  (landing page)James W. MacDonald  OK  
408/2140copynumber 1.36.0  (landing page)Gro Nilsen  ERROR  
409/2140CopyNumberPlots 1.12.0  (landing page)Bernat Gel  OK  
410/2140CopywriteR 2.28.0  (landing page)Oscar Krijgsman  OK  
411/2140coRdon 1.14.0  (landing page)Anamaria Elek  OK  
412/2140CoRegNet 1.34.0  (landing page)Remy Nicolle  WARNINGS  
413/2140CoreGx 2.0.0  (landing page)Benjamin Haibe-Kains  OK  
414/2140Cormotif 1.42.0  (landing page)Yingying Wei  OK  
415/2140corral 1.6.0  (landing page)Lauren Hsu  OK  
416/2140CORREP 1.62.0  (landing page)Dongxiao Zhu  OK  
417/2140coseq 1.20.0  (landing page)Andrea Rau  OK  
418/2140cosmiq 1.30.0  (landing page)David Fischer  OK  
419/2140cosmosR 1.4.0  (landing page)Attila Gabor  OK  
420/2140COSNet 1.30.0  (landing page)Marco Frasca  OK  
421/2140COTAN 1.0.0  (landing page)Galfrè Silvia Giulia  OK  
422/2140CountClust 1.24.0  (landing page)Kushal Dey  ERROR  
423/2140countsimQC 1.14.0  (landing page)Charlotte Soneson  OK  
424/2140covEB 1.22.0  (landing page)C. Pacini  OK  
425/2140CoverageView 1.34.0  (landing page)Ernesto Lowy  WARNINGS  
426/2140covRNA 1.22.0  (landing page)Lara Urban  OK  
427/2140cpvSNP 1.28.0  (landing page)Caitlin McHugh  OK  
428/2140cqn 1.42.0  (landing page)Kasper Daniel Hansen  OK  
429/2140CRImage 1.44.0  (landing page)Henrik Failmezger , Yinyin Yuan  OK  
430/2140crisprBase 1.0.0  (landing page)Jean-Philippe Fortin  OK  
431/2140crisprBowtie 1.0.0  (landing page)Jean-Philippe Fortin  OK  
432/2140crisprBwa 1.0.0  (landing page)Jean-Philippe Fortin  OK  
433/2140crisprScore 1.0.0  (landing page)Jean-Philippe Fortin  WARNINGS  
434/2140CRISPRseek 1.36.0  (landing page)Lihua Julie Zhu  TIMEOUT  
435/2140crisprseekplus 1.22.0  (landing page)Alper Kucukural  OK  
436/2140CrispRVariants 1.24.0  (landing page)Helen Lindsay  WARNINGS  
437/2140crlmm 1.54.0  (landing page)Benilton S Carvalho  OK  
438/2140crossmeta 1.22.0  (landing page)Alex Pickering  OK  
439/2140CSAR 1.48.0  (landing page)Jose M Muino  OK  
440/2140csaw 1.30.1  (landing page)Aaron Lun  OK  
441/2140csdR 1.2.0  (landing page)Jakob Peder Pettersen  OK  
442/2140CSSP 1.34.0  (landing page)Chandler Zuo  OK  
443/2140CSSQ 1.8.0  (landing page)Fan Lab at Georgia Institute of Technology  OK  
444/2140ctc 1.70.0  (landing page)Antoine Lucas  OK  
445/2140CTDquerier 2.4.0  (landing page)Xavier Escribà-Montagut  ERROR  
446/2140ctgGEM 1.8.0  (landing page)USD Biomedical Engineering  ERROR  
447/2140cTRAP 1.14.0  (landing page)Nuno Saraiva-Agostinho  WARNINGS  
448/2140ctsGE 1.22.0  (landing page)Michal Sharabi-Schwager  OK  
449/2140cummeRbund 2.38.0  (landing page)Loyal A. Goff  WARNINGS  
450/2140customCMPdb 1.6.0  (landing page)Yuzhu Duan  OK  
451/2140customProDB 1.36.0  (landing page)Xiaojing Wang  OK  
452/2140cyanoFilter 1.4.0  (landing page)Oluwafemi Olusoji  OK  
453/2140cycle 1.50.0  (landing page)Matthias Futschik  OK  
454/2140cydar 1.20.0  (landing page)Aaron Lun  OK  
455/2140CytoDx 1.16.0  (landing page)Zicheng Hu  OK  
456/2140CyTOFpower 1.2.0  (landing page)Anne-Maud Ferreira  OK  
457/2140CytoGLMM 1.4.0  (landing page)Christof Seiler  OK  
458/2140cytoKernel 1.2.0  (landing page)Tusharkanti Ghosh  OK  
459/2140cytolib 2.8.0  (landing page)Mike Jiang  OK  
460/2140cytomapper 1.8.0  (landing page)Nils Eling  OK  
461/2140cytoMEM 1.0.0  (landing page)Jonathan Irish  OK  
462/2140CytoML 2.8.0  (landing page)Mike Jiang  WARNINGS  
463/2140CytoTree 1.6.0  (landing page)Yuting Dai  OK  
D
ABCDEFGHIJKLMNOPQRSTUVWXYZ
PackageMaintainerINSTALL/BUILD/CHECK
464/2140dada2 1.24.0  (landing page)Benjamin Callahan  OK  
465/2140dagLogo 1.34.0  (landing page)Jianhong Ou  OK  
466/2140daMA 1.68.0  (landing page)Jobst Landgrebe  OK  
467/2140DAMEfinder 1.8.0  (landing page)Stephany Orjuela  OK  
468/2140DaMiRseq 2.8.0  (landing page)Mattia Chiesa  OK  
469/2140DAPAR 1.28.0  (landing page)Samuel Wieczorek  OK  
470/2140DART 1.44.0  (landing page)Charles Shijie Zheng  OK  
471/2140dasper 1.6.0  (landing page)David Zhang  OK  
472/2140dcanr 1.12.0  (landing page)Dharmesh D. Bhuva  OK  
473/2140dce 1.4.0  (landing page)Kim Philipp Jablonski  OK  
474/2140dcGSA 1.24.0  (landing page)Jiehuan sun  WARNINGS  
475/2140ddCt 1.52.0  (landing page)Jitao David Zhang  OK  
476/2140ddPCRclust 1.16.0  (landing page)Benedikt G. Brink  ERROR  
477/2140dearseq 1.8.1  (landing page)Boris P. Hejblum  OK  
478/2140debCAM 1.14.0  (landing page)Lulu Chen  OK  
479/2140debrowser 1.24.0  (landing page)Alper Kucukural  OK  
480/2140DECIPHER 2.24.0  (landing page)Erik Wright  OK  
481/2140deco 1.12.0  (landing page)Francisco Jose Campos Laborie  OK  
482/2140DEComplexDisease 1.16.0  (landing page)Guofeng Meng  ERROR  
483/2140decompTumor2Sig 2.12.0  (landing page)Rosario M. Piro  OK  
484/2140DeconRNASeq 1.38.0  (landing page)Ting Gong  OK  
485/2140decontam 1.16.0  (landing page)Benjamin Callahan  OK  
486/2140deconvR 1.2.0  (landing page)İrem B. Gündüz  OK  
487/2140decoupleR 2.2.2  (landing page)Pau Badia-i-Mompel  ERROR  
488/2140DeepBlueR 1.22.0  (landing page)Felipe Albrecht , Markus List  OK  
489/2140DeepPINCS 1.4.0  (landing page)Dongmin Jung  OK  
490/2140deepSNV 1.42.0  (landing page)Moritz Gerstung  OK  
491/2140DEFormats 1.24.0  (landing page)Andrzej Oleś  OK  
492/2140DegNorm 1.6.0  (landing page)Ji-Ping Wang  OK  
493/2140DEGraph 1.48.0  (landing page)Laurent Jacob  OK  
494/2140DEGreport 1.32.0  (landing page)Lorena Pantano  OK  
495/2140DEGseq 1.50.0  (landing page)Likun Wang  OK  
496/2140DelayedArray 0.22.0  (landing page)Hervé Pagès  WARNINGS  
497/2140DelayedDataFrame 1.12.0  (landing page)Qian Liu  OK  
498/2140DelayedMatrixStats 1.18.0  (landing page)Peter Hickey  OK  
499/2140DelayedRandomArray 1.4.0  (landing page)Aaron Lun  OK  
500/2140DelayedTensor 1.2.0  (landing page)Koki Tsuyuzaki  WARNINGS  
501/2140deltaCaptureC 1.10.0  (landing page)Michael Shapiro  OK  
502/2140deltaGseg 1.36.0  (landing page)Diana Low  OK  
503/2140DeMAND 1.26.0  (landing page)Jung Hoon Woo , Mariano Alvarez  OK  
504/2140DeMixT 1.12.0  (landing page)Shuai Guo  WARNINGS  
505/2140densvis 1.6.0  (landing page)Alan O'Callaghan  OK  
506/2140DEP 1.18.0  (landing page)Arne Smits  WARNINGS  
507/2140DepecheR 1.12.0  (landing page)Jakob Theorell  ERROR  
508/2140DepInfeR 1.0.0  (landing page)Junyan Lu  OK  
509/2140DEqMS 1.14.0  (landing page)Yafeng Zhu  OK  
510/2140derfinder 1.30.0  (landing page)Leonardo Collado-Torres  ERROR  
511/2140derfinderHelper 1.30.0  (landing page)Leonardo Collado-Torres  OK  
512/2140derfinderPlot 1.30.0  (landing page)Leonardo Collado-Torres  OK  
513/2140DEScan2 1.16.0  (landing page)Dario Righelli  OK  
514/2140DESeq2 1.36.0  (landing page)Michael Love  OK  
515/2140DEsingle 1.16.0  (landing page)Zhun Miao  OK  
516/2140destiny 3.10.0  (landing page)Philipp Angerer  OK  
517/2140DEsubs 1.22.0  (landing page)Aristidis G. Vrahatis , Panos Balomenos  OK  
518/2140DEWSeq 1.10.0  (landing page)bioinformatics team Hentze  OK  
519/2140DExMA 1.4.0  (landing page)Juan Antonio Villatoro-García  OK  
520/2140DEXSeq 1.42.0  (landing page)Alejandro Reyes  OK  
521/2140DFP 1.54.0  (landing page)Rodrigo Alvarez-Glez  OK  
522/2140DIAlignR 2.4.0  (landing page)Shubham Gupta  OK  
523/2140DiffBind 3.6.1  (landing page)Rory Stark  OK  
524/2140diffcoexp 1.16.0  (landing page)Wenbin Wei  OK  
525/2140diffcyt 1.16.0  (landing page)Lukas M. Weber  OK  
526/2140DifferentialRegulation 1.0.2  (landing page)Simone Tiberi  OK  
527/2140diffGeneAnalysis 1.78.0  (landing page)Choudary Jagarlamudi  OK  
528/2140diffHic 1.28.0  (landing page)Aaron Lun  OK  
529/2140DiffLogo 2.20.0  (landing page)Hendrik Treutler  WARNINGS  
530/2140diffloop 1.24.0  (landing page)Caleb Lareau  WARNINGS  
531/2140diffuStats 1.16.0  (landing page)Sergio Picart-Armada  OK  
532/2140diffUTR 1.4.0  (landing page)Pierre-Luc Germain  OK  
533/2140diggit 1.28.0  (landing page)Mariano J Alvarez  WARNINGS  
534/2140Dino 1.2.0  (landing page)Jared Brown  OK  
535/2140dir.expiry 1.4.0  (landing page)Aaron Lun  OK  
536/2140Director 1.22.0  (landing page)Katherine Icay  TIMEOUT  
537/2140DirichletMultinomial 1.38.0  (landing page)Martin Morgan  OK  
538/2140discordant 1.20.0  (landing page)McGrath Max  OK  
539/2140DiscoRhythm 1.12.0  (landing page)Matthew Carlucci  OK  
540/2140distinct 1.8.0  (landing page)Simone Tiberi  OK  
541/2140dittoSeq 1.8.0  (landing page)Daniel Bunis  OK  
542/2140divergence 1.12.0  (landing page)Wikum Dinalankara , Luigi Marchionni  OK  
543/2140dks 1.42.0  (landing page)Jeffrey T. Leek  OK  
544/2140DMCFB 1.10.0  (landing page)Farhad Shokoohi  OK  
545/2140DMCHMM 1.18.0  (landing page)Farhad Shokoohi  WARNINGS  
546/2140DMRcaller 1.28.0  (landing page)Nicolae Radu Zabet  OK  
547/2140DMRcate 2.10.0  (landing page)Tim Peters  OK  
548/2140DMRforPairs 1.32.0  (landing page)Martin Rijlaarsdam  OK  
549/2140DMRScan 1.18.0  (landing page)Christian M Page  OK  
550/2140dmrseq 1.16.0  (landing page)Keegan Korthauer  OK  
551/2140DNABarcodeCompatibility 1.12.0  (landing page)Céline Trébeau  OK  
552/2140DNABarcodes 1.26.0  (landing page)Tilo Buschmann  WARNINGS  
553/2140DNAcopy 1.70.0  (landing page)Venkatraman E. Seshan  OK  
554/2140DNAshapeR 1.24.0  (landing page)Tsu-Pei Chiu  OK  
555/2140DominoEffect 1.16.0  (landing page)Marija Buljan  OK  
556/2140doppelgangR 1.24.0  (landing page)Levi Waldron  OK  
557/2140Doscheda 1.18.0  (landing page)Bruno Contrino  OK  
558/2140DOSE 3.22.0  (landing page)Guangchuang Yu  OK  
559/2140doseR 1.12.0  (landing page)ake.vastermark  OK  
560/2140dpeak 1.8.0  (landing page)Dongjun Chung  OK  
561/2140drawProteins 1.16.0  (landing page)Paul Brennan  OK  
562/2140DRIMSeq 1.24.0  (landing page)Malgorzata Nowicka  WARNINGS  
563/2140DriverNet 1.36.0  (landing page)Jiarui Ding  OK  
564/2140DropletUtils 1.16.0  (landing page)Jonathan Griffiths  OK  
565/2140drugTargetInteractions 1.4.0  (landing page)Thomas Girke  OK  
566/2140DrugVsDisease 2.38.0  (landing page)j. Saez-Rodriguez  OK  
567/2140DSS 2.44.0  (landing page)Hao Wu , Hao Feng  ERROR  
568/2140dStruct 1.2.0  (landing page)Krishna Choudhary  OK  
569/2140DTA 2.42.0  (landing page)Bjoern Schwalb  OK  
570/2140Dune 1.8.0  (landing page)Hector Roux de Bezieux  OK  
571/2140dupRadar 1.26.0  (landing page)Sergi Sayols , Holger Klein  OK  
572/2140dyebias 1.56.0  (landing page)Philip Lijnzaad  OK  
573/2140DynDoc 1.74.0  (landing page)Bioconductor Package Maintainer  OK  
E
ABCDEFGHIJKLMNOPQRSTUVWXYZ
PackageMaintainerINSTALL/BUILD/CHECK
574/2140easier 1.2.0  (landing page)Oscar Lapuente-Santana  OK  
575/2140easyreporting 1.8.0  (landing page)Dario Righelli  OK  
576/2140easyRNASeq 2.32.0  (landing page)Nicolas Delhomme  OK  
577/2140EBarrays 2.60.0  (landing page)Ming Yuan  OK  
578/2140EBcoexpress 1.40.0  (landing page)John A. Dawson  WARNINGS  
579/2140EBImage 4.38.0  (landing page)Andrzej Oleś  WARNINGS  
580/2140EBSEA 1.24.0  (landing page)Arfa Mehmood  OK  
581/2140EBSeq 1.36.0  (landing page)Ning Leng  OK  
582/2140EBSeqHMM 1.30.0  (landing page)Ning Leng  OK  
583/2140ecolitk 1.68.0  (landing page)Laurent Gautier  WARNINGS  
584/2140EDASeq 2.30.0  (landing page)Davide Risso  OK  
585/2140edge 2.28.0  (landing page)John D. Storey , Andrew J. Bass  WARNINGS  
586/2140edgeR 3.38.1  (landing page)Yunshun Chen , Gordon Smyth , Aaron Lun , Mark Robinson  OK  
587/2140eegc 1.22.0  (landing page)Xiaoyuan Zhou  WARNINGS  
588/2140EGAD 1.24.0  (landing page)Sara Ballouz  WARNINGS  
589/2140EGSEA 1.24.0  (landing page)Monther Alhamdoosh  WARNINGS  
590/2140eiR 1.36.0  (landing page)Thomas Girke  WARNINGS  
591/2140eisaR 1.8.0  (landing page)Michael Stadler  OK  
592/2140ELMER 2.20.0  (landing page)Tiago Chedraoui Silva  WARNINGS  
593/2140EMDomics 2.26.0  (landing page)Sadhika Malladi and Daniel Schmolze  OK  
594/2140EmpiricalBrownsMethod 1.24.0  (landing page)David Gibbs  OK  
595/2140EnhancedVolcano 1.14.0  (landing page)Kevin Blighe  OK  
596/2140enhancerHomologSearch 1.2.0  (landing page)Jianhong Ou  OK  
597/2140EnMCB 1.8.0  (landing page)Xin Yu  ERROR  
598/2140ENmix 1.32.0  (landing page)Zongli Xu  OK  
599/2140EnrichedHeatmap 1.26.0  (landing page)Zuguang Gu  OK  
600/2140EnrichmentBrowser 2.26.0  (landing page)Ludwig Geistlinger  OK  
601/2140enrichplot 1.16.1  (landing page)Guangchuang Yu  OK  
602/2140enrichTF 1.12.0  (landing page)Zheng Wei  OK  
603/2140ensembldb 2.20.1  (landing page)Johannes Rainer  OK  
604/2140ensemblVEP 1.38.0  (landing page)Bioconductor Package Maintainer  ERROR  
605/2140epialleleR 1.4.0  (landing page)Oleksii Nikolaienko  WARNINGS  
606/2140EpiCompare 1.0.0  (landing page)Sera Choi  OK  
607/2140epidecodeR 1.4.0  (landing page)Kandarp Joshi  OK  
608/2140EpiDISH 2.12.0  (landing page)Shijie C. Zheng  OK  
609/2140epigenomix 1.36.0  (landing page)Hans-Ulrich Klein  OK  
610/2140epigraHMM 1.4.0  (landing page)Pedro Baldoni  OK  
611/2140epihet 1.12.0  (landing page)Xiaowen Chen  OK  
612/2140epimutacions 1.0.0  (landing page)Leire Abarrategui  OK  
613/2140epiNEM 1.20.0  (landing page)Martin Pirkl  OK  
614/2140epistack 1.2.0  (landing page)DEVAILLY Guillaume  OK  
615/2140EpiTxDb 1.8.0  (landing page)Felix G.M. Ernst  OK  
616/2140epivizr 2.26.0  (landing page)Hector Corrada Bravo  WARNINGS  
617/2140epivizrChart 1.18.0  (landing page)Hector Corrada Bravo  OK  
618/2140epivizrData 1.24.0  (landing page)Hector Corrada Bravo  WARNINGS  
619/2140epivizrServer 1.24.0  (landing page)Hector Corrada Bravo  OK  
620/2140epivizrStandalone 1.24.0  (landing page)Hector Corrada Bravo  OK  
621/2140erccdashboard 1.30.0  (landing page)Sarah Munro  OK  
622/2140erma 1.12.0  (landing page)VJ Carey  OK  
623/2140ERSSA 1.14.0  (landing page)Zixuan Shao  OK  
624/2140esATAC 1.18.0  (landing page)Zheng Wei  WARNINGS  
625/2140escape 1.6.0  (landing page)Nick Borcherding  OK  
626/2140esetVis 1.22.0  (landing page)Laure Cougnaud  OK  
627/2140eudysbiome 1.26.0  (landing page)Xiaoyuan Zhou  OK  
628/2140evaluomeR 1.12.0  (landing page)José Antonio Bernabé-Díaz  OK  
629/2140EventPointer 3.4.0  (landing page)Juan A. Ferrer-Bonsoms  OK  
630/2140EWCE 1.4.0  (landing page)Alan Murphy  OK  
631/2140ExCluster 1.14.0  (landing page)R. Matthew Tanner  OK  
632/2140ExiMiR 2.38.0  (landing page)Sylvain Gubian  OK  
633/2140exomeCopy 1.42.0  (landing page)Michael Love  OK  
634/2140exomePeak2 1.8.0  (landing page)Zhen Wei  WARNINGS  
635/2140ExperimentHub 2.4.0  (landing page)Bioconductor Package Maintainer  OK  
636/2140ExperimentHubData 1.22.0  (landing page)Bioconductor Package Maintainer  OK  
637/2140ExperimentSubset 1.6.0  (landing page)Irzam Sarfraz  OK  
638/2140ExploreModelMatrix 1.8.0  (landing page)Charlotte Soneson  OK  
639/2140ExpressionAtlas 1.24.0  (landing page)Pedro Madrigal  OK  
640/2140extraChIPs 1.0.0  (landing page)Stephen Pederson  OK  
F
ABCDEFGHIJKLMNOPQRSTUVWXYZ
PackageMaintainerINSTALL/BUILD/CHECK
641/2140fabia 2.42.0  (landing page)Andreas Mitterecker  OK  
642/2140factDesign 1.72.0  (landing page)Denise Scholtens  OK  
643/2140FamAgg 1.24.0  (landing page)Johannes Rainer  OK  
644/2140famat 1.6.0  (landing page)Mathieu Charles  ERROR  
645/2140farms 1.48.0  (landing page)Djork-Arne Clevert  OK  
646/2140fastLiquidAssociation 1.32.0  (landing page)Tina Gunderson  WARNINGS  
647/2140FastqCleaner 1.14.0  (landing page)Leandro Roser  ERROR  
648/2140fastreeR 1.0.0  (landing page)Anestis Gkanogiannis  OK  
649/2140fastseg 1.42.0  (landing page)Guenter Klambauer  WARNINGS  
650/2140FCBF 2.4.0  (landing page)Tiago Lubiana  OK  
651/2140fCCAC 1.22.0  (landing page)Pedro Madrigal  OK  
652/2140fCI 1.26.0  (landing page)Shaojun Tang  OK  
653/2140fcoex 1.10.0  (landing page)Tiago Lubiana  WARNINGS  
654/2140fcScan 1.10.0  (landing page)Pierre Khoueiry Abdullah El-Kurdi  OK  
655/2140fdrame 1.68.0  (landing page)Effi Kenigsberg  OK  
656/2140FEAST 1.4.0  (landing page)Kenong Su  OK  
657/2140fedup 1.4.0  (landing page)Catherine Ross  OK  
658/2140FELLA 1.16.0  (landing page)Sergio Picart-Armada  OK  
659/2140ffpe 1.40.0  (landing page)Levi Waldron  OK  
660/2140fgga 1.4.0  (landing page)Spetale Flavio  OK  
661/2140FGNet 3.30.0  (landing page)Sara Aibar  WARNINGS  
662/2140fgsea 1.22.0  (landing page)Alexey Sergushichev  OK  
663/2140FilterFFPE 1.6.0  (landing page)Lanying Wei  OK  
664/2140FindIT2 1.2.2  (landing page)Guandong Shang  OK  
665/2140FISHalyseR 1.30.0  (landing page)Karesh Arunakirinathan  WARNINGS  
666/2140fishpond 2.2.0  (landing page)Michael Love  OK  
667/2140FitHiC 1.22.0  (landing page)Ruyu Tan  OK  
668/2140flagme 1.52.0  (landing page)Mark Robinson , Riccardo Romoli  WARNINGS  
669/2140FLAMES 1.2.0  (landing page)Voogd Oliver  ERROR  
670/2140flowAI 1.26.0  (landing page)Gianni Monaco  OK  
671/2140flowBeads 1.34.0  (landing page)Nikolas Pontikos  WARNINGS  
672/2140flowBin 1.32.0  (landing page)Kieran O'Neill  OK  
673/2140flowcatchR 1.30.0  (landing page)Federico Marini  OK  
674/2140flowCHIC 1.30.0  (landing page)Author: Joachim Schumann  OK  
675/2140flowCL 1.34.0  (landing page)Justin Meskas  OK  
676/2140flowClean 1.34.0  (landing page)Kipper Fletez-Brant  WARNINGS  
677/2140flowClust 3.34.0  (landing page)Greg Finak , Mike Jiang  WARNINGS  
678/2140flowCore 2.8.0  (landing page)Mike Jiang  OK  
679/2140flowCut 1.6.0  (landing page)Justin Meskas  OK  
680/2140flowCyBar 1.32.0  (landing page)Joachim Schumann  OK  
681/2140flowDensity 1.30.0  (landing page)Mehrnoush Malek  WARNINGS  
682/2140flowFP 1.54.0  (landing page)Herb Holyst  OK  
683/2140flowGraph 1.4.0  (landing page)Alice Yue  OK  
684/2140flowMap 1.34.0  (landing page)Chiaowen Joyce Hsiao  WARNINGS  
685/2140flowMatch 1.32.0  (landing page)Ariful Azad  OK  
686/2140flowMeans 1.56.0  (landing page)Nima Aghaeepour  OK  
687/2140flowMerge 2.44.0  (landing page)Greg Finak  OK  
688/2140flowPeaks 1.42.0  (landing page)Yongchao Ge  ERROR  
689/2140flowPloidy 1.22.0  (landing page)Tyler Smith  OK  
690/2140flowPlots 1.44.0  (landing page)N. Hawkins  OK  
691/2140FlowSOM 2.4.0  (landing page)Sofie Van Gassen  ERROR  
692/2140flowSpecs 1.10.0  (landing page)Jakob Theorell  OK  
693/2140flowStats 4.8.0  (landing page)Greg Finak , Mike Jiang , Jake Wagner  ERROR  
694/2140flowTime 1.20.0  (landing page)R. Clay Wright  OK  
695/2140flowTrans 1.48.0  (landing page)Greg Finak  OK  
696/2140flowUtils 1.60.0  (landing page)Josef Spidlen  ERROR  
697/2140flowViz 1.60.0  (landing page)Mike Jiang , Jake Wagner  OK  
698/2140flowVS 1.28.0  (landing page)Ariful Azad  OK  
699/2140flowWorkspace 4.8.0  (landing page)Greg Finak , Mike Jiang  WARNINGS  
700/2140fmcsR 1.38.0  (landing page)Thomas Girke  WARNINGS  
701/2140fmrs 1.6.0  (landing page)Farhad Shokoohi  OK  
702/2140fobitools 1.4.0  (landing page)Pol Castellano-Escuder  OK  
703/2140FoldGO 1.14.0  (landing page)Daniil Wiebe  OK  
704/2140FRASER 1.8.0  (landing page)Christian Mertes  OK  
705/2140frenchFISH 1.8.0  (landing page)Adam Berman  OK  
706/2140FRGEpistasis 1.32.0  (landing page)Futao Zhang  OK  
707/2140frma 1.48.0  (landing page)Matthew N. McCall  OK  
708/2140frmaTools 1.48.0  (landing page)Matthew N. McCall  OK  
709/2140FScanR 1.6.0  (landing page)Xiao Chen  OK  
710/2140FunChIP 1.22.0  (landing page)Alice Parodi  WARNINGS  
711/2140funtooNorm 1.20.0  (landing page)Kathleen Klein  WARNINGS  
G
ABCDEFGHIJKLMNOPQRSTUVWXYZ
PackageMaintainerINSTALL/BUILD/CHECK
712/2140GA4GHclient 1.20.0  (landing page)Welliton Souza  OK  
713/2140GA4GHshiny 1.18.0  (landing page)Welliton Souza  OK  
714/2140gaga 2.42.0  (landing page)David Rossell  WARNINGS  
715/2140gage 2.46.0  (landing page)Weijun Luo  WARNINGS  
716/2140gaggle 1.64.0  (landing page)Christopher Bare  OK  
717/2140gaia 2.40.0  (landing page)S. Morganella  ERROR  
718/2140GAPGOM 1.12.0  (landing page)Rezvan Ehsani  ERROR  
719/2140GAprediction 1.22.0  (landing page)Jon Bohlin  OK  
720/2140garfield 1.24.0  (landing page)Valentina Iotchkova  OK  
721/2140GARS 1.16.0  (landing page)Mattia Chiesa  WARNINGS  
722/2140GateFinder 1.16.0  (landing page)Nima Aghaeepour  OK  
723/2140GBScleanR 1.0.0  (landing page)Tomoyuki Furuta  OK  
724/2140gcapc 1.20.0  (landing page)Mingxiang Teng  OK  
725/2140gcatest 1.26.0  (landing page)Wei Hao , John D. Storey  OK  
726/2140gCrisprTools 2.2.0  (landing page)Russell Bainer  ERROR  
727/2140gcrma 2.68.0  (landing page)Z. Wu  OK  
728/2140GCSConnection 1.8.0  (landing page)Jiefei Wang  ERROR  
729/2140GCSFilesystem 1.6.0  (landing page)Jiefei Wang  WARNINGS  
730/2140GCSscore 1.10.0  (landing page)Guy M. Harris  OK  
731/2140GDCRNATools 1.16.0  (landing page)Ruidong Li  ERROR  
732/2140GDSArray 1.16.0  (landing page)Qian Liu  OK  
733/2140gdsfmt 1.32.0  (landing page)Xiuwen Zheng  OK  
734/2140GEM 1.22.0  (landing page)Hong Pan  OK  
735/2140gemini 1.10.0  (landing page)Sidharth Jain  OK  
736/2140genArise 1.72.0  (landing page)IFC Development Team  WARNINGS  
737/2140genbankr 1.24.0  (landing page)Gabriel Becker  OK  
738/2140GeneAccord 1.14.0  (landing page)Ariane L. Moore  OK  
739/2140geneAttribution 1.22.0  (landing page)Arthur Wuster  OK  
740/2140GeneBreak 1.26.0  (landing page)Evert van den Broek  OK  
741/2140geneClassifiers 1.20.0  (landing page)R Kuiper  OK  
742/2140GeneExpressionSignature 1.42.0  (landing page)Yang Cao  OK  
743/2140genefilter 1.78.0  (landing page)Bioconductor Package Maintainer  WARNINGS  
744/2140genefu 2.28.0  (landing page)Benjamin Haibe-Kains  OK  
745/2140GeneGA 1.46.0  (landing page)Zhenpeng Li  OK  
746/2140GeneGeneInteR 1.22.0  (landing page)Mathieu Emily  OK  
747/2140GeneMeta 1.68.0  (landing page)Bioconductor Package Maintainer  OK  
748/2140GeneNetworkBuilder 1.38.0  (landing page)Jianhong Ou  OK  
749/2140GeneOverlap 1.32.0  (landing page)António Miguel de Jesus Domingues, Max-Planck Institute for Cell Biology and Genetics  OK  
750/2140geneplast 1.22.0  (landing page)Mauro Castro  OK  
751/2140geneplotter 1.74.0  (landing page)Bioconductor Package Maintainer  OK  
752/2140geneRecommender 1.68.0  (landing page)Greg Hather  OK  
753/2140GeneRegionScan 1.52.0  (landing page)Lasse Folkersen  OK  
754/2140geneRxCluster 1.32.0  (landing page)Charles Berry  OK  
755/2140GeneSelectMMD 2.40.0  (landing page)Weiliang Qiu  WARNINGS  
756/2140GENESIS 2.26.0  (landing page)Stephanie M. Gogarten  OK  
757/2140GeneStructureTools 1.16.0  (landing page)Beth Signal  OK  
758/2140geNetClassifier 1.36.0  (landing page)Sara Aibar  OK  
759/2140GeneticsPed 1.58.0  (landing page)David Henderson  OK  
760/2140GeneTonic 2.0.0  (landing page)Federico Marini  OK  
761/2140geneXtendeR 1.22.0  (landing page)Bohdan Khomtchouk  WARNINGS  
762/2140GENIE3 1.18.0  (landing page)Van Anh Huynh-Thu  OK  
763/2140genoCN 1.48.0  (landing page)Wei Sun  WARNINGS  
764/2140GenoGAM 2.14.0  (landing page)Georg Stricker  ERROR  
765/2140genomation 1.28.0  (landing page)Altuna Akalin , Vedran Franke  WARNINGS  
766/2140GenomeInfoDb 1.32.2  (landing page)Bioconductor Package Maintainer  OK  
767/2140genomeIntervals 1.52.0  (landing page)Julien Gagneur  OK  
768/2140genomes 3.26.0  (landing page)Chris Stubben  OK  
769/2140GenomicAlignments 1.32.0  (landing page)Bioconductor Package Maintainer  OK  
770/2140GenomicDataCommons 1.20.1  (landing page)Sean Davis  OK  
771/2140GenomicDistributions 1.4.1  (landing page)Kristyna Kupkova  OK  
772/2140GenomicFeatures 1.48.1  (landing page)Bioconductor Package Maintainer  ERROR  
773/2140GenomicFiles 1.32.1  (landing page)Bioconductor Package Maintainer  OK  
774/2140genomicInstability 1.2.0  (landing page)Mariano Alvarez  OK  
775/2140GenomicInteractionNodes 1.0.0  (landing page)Jianhong Ou  OK  
776/2140GenomicInteractions 1.30.0  (landing page)Liz Ing-Simmons  OK  
777/2140GenomicOZone 1.10.0  (landing page)Hua Zhong, Mingzhou Song  OK  
778/2140GenomicRanges 1.48.0  (landing page)Bioconductor Package Maintainer  OK  
779/2140GenomicScores 2.8.0  (landing page)Robert Castelo  OK  
780/2140GenomicSuperSignature 1.4.0  (landing page)Sehyun Oh  WARNINGS  
781/2140GenomicTuples 1.30.0  (landing page)Peter Hickey  OK  
782/2140genotypeeval 1.28.0  (landing page)Jennifer Tom  WARNINGS  
783/2140genphen 1.24.0  (landing page)Simo Kitanovski  ERROR  
784/2140GenProSeq 1.0.0  (landing page)Dongmin Jung  ERROR  
785/2140GenVisR 1.28.0  (landing page)Zachary Skidmore  OK  
786/2140GeoDiff 1.2.0  (landing page)Nicole Ortogero  OK  
787/2140GEOexplorer 1.2.0  (landing page)Guy Hunt  OK  
788/2140GEOfastq 1.4.0  (landing page)Alex Pickering  OK  
789/2140GEOmetadb 1.58.0  (landing page)Jack Zhu  WARNINGS  
790/2140GeomxTools 3.0.1  (landing page)Nicole Ortogero  OK  
791/2140GEOquery 2.64.2  (landing page)Sean Davis  OK  
792/2140GEOsubmission 1.48.0  (landing page)Alexandre Kuhn  OK  
793/2140gep2pep 1.16.0  (landing page)Francesco Napolitano  OK  
794/2140gespeR 1.28.0  (landing page)Fabian Schmich  WARNINGS  
795/2140getDEE2 1.6.0  (landing page)Mark Ziemann  OK  
796/2140geva 1.4.0  (landing page)Itamar José Guimarães Nunes  OK  
797/2140GEWIST 1.40.0  (landing page)Wei Q. Deng  OK  
798/2140ggbio 1.44.0  (landing page)Michael Lawrence  WARNINGS  
799/2140ggcyto 1.24.0  (landing page)Mike Jiang ,Jake Wagner  OK  
800/2140ggmanh 1.0.0  (landing page)John Lee  ERROR  
801/2140ggmsa 1.2.1  (landing page)Lang Zhou  OK  
802/2140GGPA 1.8.0  (landing page)Dongjun Chung  OK  
803/2140ggspavis 1.2.0  (landing page)Lukas M. Weber  OK  
804/2140ggtree 3.4.0  (landing page)Guangchuang Yu  OK  
805/2140ggtreeExtra 1.6.0  (landing page)Shuangbin Xu  OK  
806/2140GIGSEA 1.14.0  (landing page)Shijia Zhu  OK  
807/2140girafe 1.48.0  (landing page)J. Toedling  OK  
808/2140GISPA 1.20.0  (landing page)Bhakti Dwivedi  OK  
809/2140GLAD 2.60.0  (landing page)Philippe Hupe  WARNINGS  
810/2140GladiaTOX 1.12.0  (landing page)PMP S.A. R Support  OK  
811/2140Glimma 2.6.0  (landing page)Shian Su  OK  
812/2140glmGamPoi 1.8.0  (landing page)Constantin Ahlmann-Eltze  OK  
813/2140glmSparseNet 1.14.1  (landing page)André Veríssimo  OK  
814/2140GlobalAncova 4.14.0  (landing page)Manuela Hummel  OK  
815/2140globalSeq 1.24.0  (landing page)Armin Rauschenberger  OK  
816/2140globaltest 5.50.0  (landing page)Jelle Goeman  OK  
817/2140gmapR 1.38.0  (landing page)Michael Lawrence  WARNINGS  
818/2140GmicR 1.10.0  (landing page)Richard Virgen-Slane  WARNINGS  
819/2140gmoviz 1.8.0  (landing page)Kathleen Zeglinski  OK  
820/2140GMRP 1.24.0  (landing page)Yuan-De Tan  WARNINGS  
821/2140GNET2 1.12.0  (landing page)Chen Chen  OK  
822/2140GOexpress 1.30.0  (landing page)Kevin Rue-Albrecht  OK  
823/2140GOfuncR 1.16.0  (landing page)Steffi Grote  WARNINGS  
824/2140GOpro 1.22.0  (landing page)Lidia Chrabaszcz  OK  
825/2140goProfiles 1.58.0  (landing page)Alex Sanchez  OK  
826/2140GOSemSim 2.22.0  (landing page)Guangchuang Yu  OK  
827/2140goseq 1.48.0  (landing page)Matthew Young , Nadia Davidson  OK  
828/2140GOSim 1.34.0  (landing page)Holger Froehlich  OK  
829/2140goSTAG 1.20.0  (landing page)Brian D. Bennett  OK  
830/2140GOstats 2.62.0  (landing page)Bioconductor Package Maintainer  OK  
831/2140GOsummaries 2.32.0  (landing page)Raivo Kolde  OK  
832/2140GOTHiC 1.32.0  (landing page)Borbala Mifsud  OK  
833/2140goTools 1.70.0  (landing page)Agnes Paquet  OK  
834/2140GPA 1.8.0  (landing page)Dongjun Chung  OK  
835/2140gpart 1.14.0  (landing page)Sun Ah Kim  ERROR  
836/2140gpls 1.68.0  (landing page)Bioconductor Package Maintainer  WARNINGS  
837/2140gprege 1.40.0  (landing page)Alfredo Kalaitzis  ERROR  
838/2140gpuMagic 1.12.0  (landing page)Jiefei Wang  OK  
839/2140GRaNIE 1.0.0  (landing page)Christian Arnold  WARNINGS  
840/2140granulator 1.4.0  (landing page)Sabina Pfister  OK  
841/2140graper 1.12.0  (landing page)Britta Velten  OK  
842/2140graph 1.74.0  (landing page)Bioconductor Package Maintainer  OK  
843/2140GraphAlignment 1.60.0  (landing page)Joern P. Meier  WARNINGS  
844/2140GraphAT 1.68.0  (landing page)Thomas LaFramboise  OK  
845/2140graphite 1.42.0  (landing page)Gabriele Sales  OK  
846/2140GraphPAC 1.38.0  (landing page)Gregory Ryslik  OK  
847/2140GRENITS 1.48.0  (landing page)Edward Morrissey  OK  
848/2140GreyListChIP 1.28.1  (landing page)Rory Stark  OK  
849/2140GRmetrics 1.22.0  (landing page)Nicholas Clark , Mario Medvedovic  OK  
850/2140groHMM 1.30.1  (landing page)Anusha Nagari , Tulip Nandu , W. Lee Kraus  OK  
851/2140GRridge 1.20.0  (landing page)Mark A. van de Wiel  ERROR  
852/2140GSALightning 1.24.0  (landing page)Billy Heung Wing Chang  OK  
853/2140GSAR 1.30.0  (landing page)Yasir Rahmatallah , Galina Glazko  OK  
854/2140GSCA 2.26.0  (landing page)Zhicheng Ji  OK  
855/2140gscreend 1.10.0  (landing page)Katharina Imkeller  OK  
856/2140GSEABase 1.58.0  (landing page)Bioconductor Package Maintainer  OK  
857/2140GSEABenchmarkeR 1.16.0  (landing page)Ludwig Geistlinger  OK  
858/2140GSEAlm 1.56.0  (landing page)Assaf Oron  OK  
859/2140GSEAmining 1.6.0  (landing page)Oriol Arqués  OK  
860/2140gsean 1.16.0  (landing page)Dongmin Jung  OK  
861/2140GSgalgoR 1.6.0  (landing page)Carlos Catania  OK  
862/2140GSReg 1.30.0  (landing page)Bahman Afsari , Elana J. Fertig  WARNINGS  
863/2140GSRI 2.44.0  (landing page)Julian Gehring  OK  
864/2140GSVA 1.44.0  (landing page)Justin Guinney  OK  
865/2140gtrellis 1.28.0  (landing page)Zuguang Gu  OK  
866/2140GUIDEseq 1.26.0  (landing page)Lihua Julie Zhu  OK  
867/2140Guitar 2.12.0  (landing page)Jia Meng  OK  
868/2140Gviz 1.40.1  (landing page)Robert Ivanek  OK  
869/2140GWAS.BAYES 1.6.0  (landing page)Jake Williams  OK  
870/2140gwascat 2.28.1  (landing page)VJ Carey  OK  
871/2140GWASTools 1.42.0  (landing page)Stephanie M. Gogarten  OK  
872/2140gwasurvivr 1.14.0  (landing page)Abbas Rizvi  OK  
873/2140GWENA 1.6.0  (landing page)Gwenaëlle Lemoine  TIMEOUT  
H
ABCDEFGHIJKLMNOPQRSTUVWXYZ
PackageMaintainerINSTALL/BUILD/CHECK
874/2140h5vc 2.30.0  (landing page)Paul Theodor Pyl  WARNINGS  
875/2140hapFabia 1.38.0  (landing page)Andreas Mitterecker  WARNINGS  
876/2140Harman 1.24.0  (landing page)Jason Ross  OK  
877/2140Harshlight 1.68.0  (landing page)Maurizio Pellegrino  OK  
878/2140hca 1.4.0  (landing page)Martin Morgan  OK  
879/2140HDF5Array 1.24.0  (landing page)Hervé Pagès  WARNINGS  
880/2140HDTD 1.30.0  (landing page)Anestis Touloumis  OK  
881/2140heatmaps 1.20.0  (landing page)Malcolm Perry  OK  
882/2140Heatplus 3.4.0  (landing page)Alexander Ploner  OK  
883/2140HelloRanges 1.22.0  (landing page)Michael Lawrence  OK  
884/2140HELP 1.54.0  (landing page)Reid F. Thompson  OK  
885/2140HEM 1.68.0  (landing page)HyungJun Cho  OK  
886/2140hermes 1.0.1  (landing page)Daniel Sabanés Bové  OK  
887/2140Herper 1.6.0  (landing page)Thomas Carroll  TIMEOUT  
888/2140HGC 1.4.0  (landing page)XGlab  WARNINGS  
889/2140hiAnnotator 1.30.0  (landing page)Nirav V Malani  OK  
890/2140HIBAG 1.32.0  (landing page)Xiuwen Zheng  OK  
891/2140HiCBricks 1.14.0  (landing page)Koustav Pal  OK  
892/2140HiCcompare 1.18.0  (landing page)John Stansfield , Mikhail Dozmorov  WARNINGS  
893/2140HiCDCPlus 1.4.1  (landing page)Merve Sahin  ERROR  
894/2140hierGWAS 1.26.0  (landing page)Laura Buzdugan  OK  
895/2140hierinf 1.14.0  (landing page)Claude Renaux  OK  
896/2140HilbertCurve 1.26.0  (landing page)Zuguang Gu  OK  
897/2140HilbertVis 1.54.0  (landing page)Simon Anders  WARNINGS  
898/2140HilbertVisGUI 1.54.0  (landing page)Simon Anders  WARNINGS  
899/2140HiLDA 1.10.0  (landing page)Zhi Yang  OK  
900/2140hipathia 2.12.0  (landing page)Marta R. Hidalgo  OK  
901/2140HIPPO 1.8.0  (landing page)Tae Kim  OK  
902/2140hiReadsProcessor 1.32.0  (landing page)Nirav V Malani  OK  
903/2140HIREewas 1.14.0  (landing page)Xiangyu Luo  OK  
904/2140HiTC 1.40.0  (landing page)Nicolas Servant  OK  
905/2140hmdbQuery 1.16.0  (landing page)VJ Carey  OK  
906/2140HMMcopy 1.38.0  (landing page)Daniel Lai  WARNINGS  
907/2140hopach 2.56.0  (landing page)Katherine S. Pollard  OK  
908/2140HPAanalyze 1.14.0  (landing page)Anh Nhat Tran  OK  
909/2140hpar 1.38.0  (landing page)Laurent Gatto  OK  
910/2140HPAStainR 1.6.0  (landing page)Tim O. Nieuwenhuis  OK  
911/2140HPiP 1.2.0  (landing page)Matineh Rahmatbakhsh  OK  
912/2140HTqPCR 1.50.0  (landing page)Heidi Dvinge  OK  
913/2140HTSeqGenie 4.26.0  (landing page)Jens Reeder  ERROR  
914/2140HTSFilter 1.36.0  (landing page)Andrea Rau  OK  
915/2140HubPub 1.4.0  (landing page)Kayla Interdonato  OK  
916/2140HumanTranscriptomeCompendium 1.12.0  (landing page)VJ Carey  OK  
917/2140hummingbird 1.6.0  (landing page)Eleni Adam  OK  
918/2140HybridMTest 1.40.0  (landing page)Demba Fofana  OK  
919/2140hypeR 1.12.0  (landing page)Anthony Federico  OK  
920/2140hyperdraw 1.48.0  (landing page)Paul Murrell  OK  
921/2140hypergraph 1.68.0  (landing page)Bioconductor Package Maintainer  OK  
I
ABCDEFGHIJKLMNOPQRSTUVWXYZ
PackageMaintainerINSTALL/BUILD/CHECK
922/2140iASeq 1.40.0  (landing page)Yingying Wei  OK  
923/2140iasva 1.14.0  (landing page)Donghyung Lee , Anthony Cheng  OK  
924/2140iBBiG 1.40.0  (landing page)Aedin Culhane  OK  
925/2140ibh 1.44.0  (landing page)Kircicegi Korkmaz  OK  
926/2140iBMQ 1.36.0  (landing page)Greg Imholte  WARNINGS  
927/2140iCARE 1.24.0  (landing page)Bill Wheeler  WARNINGS  
928/2140Icens 1.68.0  (landing page)Bioconductor Package Maintainer  OK  
929/2140icetea 1.14.0  (landing page)Vivek Bhardwaj  OK  
930/2140iCheck 1.26.0  (landing page)Weiliang Qiu  OK  
931/2140iChip 1.50.0  (landing page)Qianxing Mo  OK  
932/2140iClusterPlus 1.32.0  (landing page)Qianxing Mo , Ronglai Shen  WARNINGS  
933/2140iCNV 1.16.0  (landing page)Zilu Zhou  WARNINGS  
934/2140iCOBRA 1.24.1  (landing page)Charlotte Soneson  OK  
935/2140ideal 1.20.0  (landing page)Federico Marini  OK  
936/2140IdeoViz 1.32.0  (landing page)Shraddha Pai  WARNINGS  
937/2140idiogram 1.72.0  (landing page)Karl J. Dykema  OK  
938/2140idpr 1.6.0  (landing page)William M. McFadden  OK  
939/2140idr2d 1.10.0  (landing page)Konstantin Krismer  OK  
940/2140iGC 1.26.0  (landing page)Liang-Bo Wang  OK  
941/2140IgGeneUsage 1.10.0  (landing page)Simo Kitanovski  ERROR  
942/2140igvR 1.16.0  (landing page)Paul Shannon  WARNINGS  
943/2140IHW 1.24.0  (landing page)Nikos Ignatiadis  ERROR  
944/2140illuminaio 0.38.0  (landing page)Kasper Daniel Hansen  OK  
945/2140ILoReg 1.6.0  (landing page)Johannes Smolander  WARNINGS  
946/2140imageHTS 1.46.0  (landing page)Joseph Barry  ERROR  
947/2140IMAS 1.20.0  (landing page)Seonggyun Han  OK  
948/2140imcRtools 1.2.1  (landing page)Nils Eling  OK  
949/2140IMMAN 1.16.0  (landing page)Minoo Ashtiani  OK  
950/2140ImmuneSpaceR 1.24.0  (landing page)ImmuneSpace Package Maintainer  OK  
951/2140immunoClust 1.28.0  (landing page)Till Soerensen  OK  
952/2140immunotation 1.4.0  (landing page)Katharina Imkeller  OK  
953/2140IMPCdata 1.32.0  (landing page)Jeremy Mason  OK  
954/2140impute 1.70.0  (landing page)Balasubramanian Narasimhan  OK  
955/2140INDEED 2.10.0  (landing page)Ressom group  OK  
956/2140infercnv 1.12.0  (landing page)Christophe Georgescu  OK  
957/2140infinityFlow 1.6.0  (landing page)Etienne Becht  OK  
958/2140Informeasure 1.6.0  (landing page)Chu Pan  OK  
959/2140InPAS 2.4.0  (landing page)Jianhong Ou  OK  
960/2140INPower 1.32.0  (landing page)Bill Wheeler  OK  
961/2140INSPEcT 1.26.0  (landing page)Stefano de Pretis  OK  
962/2140InTAD 1.16.0  (landing page)Konstantin Okonechnikov  OK  
963/2140intansv 1.36.0  (landing page)Wen Yao  OK  
964/2140interacCircos 1.6.0  (landing page)Zhe Cui  OK  
965/2140InteractionSet 1.24.0  (landing page)Aaron Lun  WARNINGS  
966/2140InteractiveComplexHeatmap 1.4.0  (landing page)Zuguang Gu  OK  
967/2140interactiveDisplay 1.34.0  (landing page)Bioconductor Package Maintainer  OK  
968/2140interactiveDisplayBase 1.34.0  (landing page)Bioconductor Package Maintainer  OK  
969/2140InterCellar 2.2.0  (landing page)Marta Interlandi  OK  
970/2140IntEREst 1.20.0  (landing page)Ali Oghabian , Mikko Frilander  OK  
971/2140InterMineR 1.18.0  (landing page)InterMine Team  WARNINGS  
972/2140IntramiRExploreR 1.18.0  (landing page)Surajit Bhattacharya  WARNINGS  
973/2140inveRsion 1.44.0  (landing page)Alejandro Caceres  ERROR  
974/2140IONiseR 2.20.0  (landing page)Mike Smith  OK  
975/2140iPAC 1.40.0  (landing page)Gregory Ryslik  OK  
976/2140iPath 1.2.0  (landing page)Kenong Su  ERROR  
977/2140ipdDb 1.14.0  (landing page)Steffen Klasberg  OK  
978/2140IPO 1.22.0  (landing page)Thomas Riebenbauer  ERROR  
979/2140IRanges 2.30.0  (landing page)Bioconductor Package Maintainer  WARNINGS  
980/2140IRISFGM 1.4.0  (landing page)Yuzhou Chang  OK  
981/2140ISAnalytics 1.6.1  (landing page)Andrea Calabria  OK  
982/2140iSEE 2.8.0  (landing page)Kevin Rue-Albrecht  OK  
983/2140iSEEu 1.8.0  (landing page)Kevin Rue-Albrecht  WARNINGS  
984/2140iSeq 1.48.0  (landing page)Qianxing Mo  OK  
985/2140isobar 1.42.0  (landing page)Florian P Breitwieser  WARNINGS  
986/2140IsoCorrectoR 1.14.0  (landing page)Christian Kohler  OK  
987/2140IsoCorrectoRGUI 1.12.0  (landing page)Christian Kohler  OK  
988/2140IsoformSwitchAnalyzeR 1.18.0  (landing page)Kristoffer Vitting-Seerup  OK  
989/2140IsoGeneGUI 2.32.0  (landing page)Setia Pramana  ERROR  
990/2140ISoLDE 1.24.0  (landing page)Christelle Reynès  WARNINGS  
991/2140isomiRs 1.24.0  (landing page)Lorena Pantano  OK  
992/2140ITALICS 2.56.0  (landing page)Guillem Rigaill  OK  
993/2140iterativeBMA 1.54.0  (landing page)Ka Yee Yeung  OK  
994/2140iterativeBMAsurv 1.54.0  (landing page)Ka Yee Yeung  OK  
995/2140iterClust 1.18.0  (landing page)Hongxu Ding  OK  
996/2140iteremoval 1.16.0  (landing page)Jiacheng Chuan  ERROR  
997/2140IVAS 2.16.0  (landing page)Seonggyun Han  WARNINGS  
998/2140ivygapSE 1.18.0  (landing page)VJ Carey  OK  
999/2140IWTomics 1.20.0  (landing page)Marzia A Cremona  OK  
K
ABCDEFGHIJKLMNOPQRSTUVWXYZ
PackageMaintainerINSTALL/BUILD/CHECK
1000/2140karyoploteR 1.22.0  (landing page)Bernat Gel  OK  
1001/2140KBoost 1.4.0  (landing page)Luis F. Iglesias-Martinez  OK  
1002/2140KCsmart 2.54.0  (landing page)Jorma de Ronde  WARNINGS  
1003/2140kebabs 1.30.0  (landing page)Ulrich Bodenhofer  OK  
1004/2140KEGGgraph 1.56.0  (landing page)Jitao David Zhang  OK  
1005/2140KEGGlincs 1.22.0  (landing page)Shana White , Mario Medvedovic  OK  
1006/2140keggorthology 2.48.0  (landing page)VJ Carey  OK  
1007/2140KEGGREST 1.36.0  (landing page)Bioconductor Package Maintainer  OK  
1008/2140KinSwingR 1.14.0  (landing page)Ashley J. Waardenberg  OK  
1009/2140kissDE 1.16.0  (landing page)Aurélie Siberchicot  OK  
1010/2140KnowSeq 1.10.0  (landing page)Daniel Castillo-Secilla  TIMEOUT  
L
ABCDEFGHIJKLMNOPQRSTUVWXYZ
PackageMaintainerINSTALL/BUILD/CHECK
1011/2140LACE 2.0.0  (landing page)Davide Maspero  OK  
1012/2140lapmix 1.62.0  (landing page)Yann Ruffieux  OK  
1013/2140LBE 1.64.0  (landing page)Cyril Dalmasso  OK  
1014/2140ldblock 1.26.0  (landing page)VJ Carey  OK  
1015/2140LEA 3.8.0  (landing page)Olivier Francois  OK  
1016/2140LedPred 1.30.0  (landing page)Aitor Gonzalez  OK  
1017/2140lefser 1.6.0  (landing page)Asya Khleborodova  OK  
1018/2140les 1.46.0  (landing page)Julian Gehring  OK  
1019/2140levi 1.14.0  (landing page)Jose Luiz Rybarczyk Filho  OK  
1020/2140lfa 1.26.0  (landing page)Wei Hao , John D. Storey  WARNINGS  
1021/2140limma 3.52.1  (landing page)Gordon Smyth  OK  
1022/2140limmaGUI 1.72.0  (landing page)Gordon Smyth  OK  
1023/2140LineagePulse 1.16.0  (landing page)David S Fischer  WARNINGS  
1024/2140lineagespot 1.0.0  (landing page)Nikolaos Pechlivanis  OK  
1025/2140LinkHD 1.10.0  (landing page)"Laura M Zingaretti"  OK  
1026/2140Linnorm 2.20.0  (landing page)Ken Shun Hang Yip  OK  
1027/2140LinTInd 1.0.0  (landing page)Luyue Wang  OK  
1028/2140lionessR 1.10.0  (landing page)Ping-Han Hsieh  OK  
1029/2140lipidr 2.10.0  (landing page)Ahmed Mohamed  OK  
1030/2140LiquidAssociation 1.50.0  (landing page)Yen-Yi Ho  OK  
1031/2140lisaClust 1.4.0  (landing page)Ellis Patrick  OK  
1032/2140lmdme 1.38.0  (landing page)Cristobal Fresno  WARNINGS  
1033/2140LOBSTAHS 1.22.0  (landing page)Henry Holm  WARNINGS  
1034/2140loci2path 1.16.0  (landing page)Tianlei Xu  OK  
1035/2140logicFS 2.16.0  (landing page)Holger Schwender  OK  
1036/2140logitT 1.54.0  (landing page)Tobias Guennel  OK  
1037/2140LOLA 1.26.0  (landing page)Nathan Sheffield  OK  
1038/2140LoomExperiment 1.14.0  (landing page)Bioconductor Package Maintainer  OK  
1039/2140LowMACA 1.26.0  (landing page)Stefano de Pretis , Giorgio Melloni  ERROR  
1040/2140LPE 1.70.0  (landing page)Nitin Jain  OK  
1041/2140LPEadj 1.56.0  (landing page)Carl Murie  OK  
1042/2140lpNet 2.28.0  (landing page)Lars Kaderali  WARNINGS  
1043/2140lpsymphony 1.24.0  (landing page)Vladislav Kim  OK  
1044/2140LRBaseDbi 2.6.0  (landing page)Koki Tsuyuzaki  OK  
1045/2140LRcell 1.4.0  (landing page)Wenjing Ma  OK  
1046/2140lumi 2.48.0  (landing page)Lei Huang  WARNINGS  
1047/2140LymphoSeq 1.24.0  (landing page)David Coffey  OK  
M
ABCDEFGHIJKLMNOPQRSTUVWXYZ
PackageMaintainerINSTALL/BUILD/CHECK
1048/2140M3C 1.18.0  (landing page)Christopher John  OK  
1049/2140M3Drop 1.22.0  (landing page)Tallulah Andrews  WARNINGS  
1050/2140m6Aboost 1.2.0  (landing page)You Zhou  OK  
1051/2140maanova 1.66.0  (landing page)Keith Sheppard  WARNINGS  
1052/2140Maaslin2 1.10.0  (landing page)Lauren McIver  OK  
1053/2140Macarron 1.0.0  (landing page)Sagun Maharjan  ERROR  
1054/2140macat 1.70.0  (landing page)Joern Toedling  OK  
1055/2140maCorrPlot 1.66.0  (landing page)Alexander Ploner  OK  
1056/2140MACPET 1.16.0  (landing page)Ioannis Vardaxis  ERROR  
1057/2140MACSQuantifyR 1.10.0  (landing page)Raphaël Bonnet  OK  
1058/2140MACSr 1.4.0  (landing page)Qiang Hu  OK  
1059/2140made4 1.70.0  (landing page)Aedin Culhane  OK  
1060/2140MADSEQ 1.22.0  (landing page)Yu Kong  OK  
1061/2140maftools 2.12.0  (landing page)Anand Mayakonda  OK  
1062/2140MAGAR 1.4.0  (landing page)Michael Scherer  OK  
1063/2140MAGeCKFlute 2.0.0  (landing page)Wubing Zhang  OK  
1064/2140MAI 1.2.0  (landing page)Jonathan Dekermanjian  OK  
1065/2140maigesPack 1.60.0  (landing page)Gustavo H. Esteves  OK  
1066/2140MAIT 1.30.0  (landing page)Pol Sola-Santos  OK  
1067/2140makecdfenv 1.72.0  (landing page)James W. MacDonald  WARNINGS  
1068/2140MANOR 1.68.0  (landing page)Pierre Neuvial  WARNINGS  
1069/2140MantelCorr 1.66.0  (landing page)Brian Steinmeyer  OK  
1070/2140mAPKL 1.26.0  (landing page)Argiris Sakellariou  OK  
1071/2140maPredictDSC 1.34.0  (landing page)Adi Laurentiu Tarca  OK  
1072/2140mapscape 1.20.0  (landing page)Maia Smith  WARNINGS  
1073/2140marr 1.6.0  (landing page)Tusharkanti Ghosh  OK  
1074/2140marray 1.74.0  (landing page)Yee Hwa (Jean) Yang  OK  
1075/2140martini 1.16.0  (landing page)Hector Climente-Gonzalez  OK  
1076/2140maser 1.14.0  (landing page)Diogo F.T. Veiga  OK  
1077/2140maSigPro 1.68.0  (landing page)Maria Jose Nueda  OK  
1078/2140maskBAD 1.40.0  (landing page)Michael Dannemann  OK  
1079/2140MassArray 1.48.0  (landing page)Reid F. Thompson  OK  
1080/2140massiR 1.32.0  (landing page)Sam Buckberry  OK  
1081/2140MassSpecWavelet 1.62.0  (landing page)Sergio Oller Moreno  OK  
1082/2140MAST 1.22.0  (landing page)Andrew McDavid  OK  
1083/2140matchBox 1.38.0  (landing page)Luigi Marchionni , Anuj Gupta  OK  
1084/2140MatrixGenerics 1.8.0  (landing page)Peter Hickey  OK  
1085/2140MatrixQCvis 1.4.0  (landing page)Thomas Naake  OK  
1086/2140MatrixRider 1.28.0  (landing page)Elena Grassi  OK  
1087/2140matter 1.22.0  (landing page)Kylie A. Bemis  WARNINGS  
1088/2140MBAmethyl 1.30.0  (landing page)Tao Wang  OK  
1089/2140MBASED 1.30.0  (landing page)Oleg Mayba  OK  
1090/2140MBCB 1.50.0  (landing page)Jeff Allen  OK  
1091/2140MBECS 1.0.0  (landing page)Michael Olbrich  OK  
1092/2140mbkmeans 1.12.0  (landing page)Davide Risso  OK  
1093/2140mbOmic 1.0.0  (landing page)Congcong Gong  OK  
1094/2140mBPCR 1.50.0  (landing page)P.M.V. Rancoita  OK  
1095/2140MBQN 2.8.0  (landing page)Eva Brombacher  OK  
1096/2140MBttest 1.24.0  (landing page)Yuan-De Tan  OK  
1097/2140MCbiclust 1.20.0  (landing page)Robert Bentham  OK  
1098/2140mCSEA 1.16.0  (landing page)Jordi Martorell-Marugán  OK  
1099/2140mdp 1.16.0  (landing page)Helder Nakaya  OK  
1100/2140mdqc 1.58.0  (landing page)Gabriela Cohen-Freue  OK  
1101/2140MDTS 1.16.0  (landing page)Jack M.. Fu  OK  
1102/2140MEAL 1.26.0  (landing page)Xavier Escribà Montagut  WARNINGS  
1103/2140MeasurementError.cor 1.68.0  (landing page)Beiying Ding  OK  
1104/2140MEAT 1.8.0  (landing page)Sarah Voisin  WARNINGS  
1105/2140MEB 1.10.0  (landing page)Jiadi Zhu  OK  
1106/2140MEDIPS 1.48.0  (landing page)Lukas Chavez  OK  
1107/2140MEDME 1.56.0  (landing page)Mattia Pelizzola  WARNINGS  
1108/2140megadepth 1.6.0  (landing page)David Zhang  OK  
1109/2140MEIGOR 1.30.0  (landing page)Jose A. Egea  ERROR  
1110/2140Melissa 1.12.0  (landing page)C. A. Kapourani  OK  
1111/2140memes 1.4.1  (landing page)Spencer Nystrom  OK  
1112/2140Mergeomics 1.24.0  (landing page)Zeyneb Kurt  OK  
1113/2140MeSHDbi 1.32.0  (landing page)Koki Tsuyuzaki  OK  
1114/2140meshes 1.22.0  (landing page)Guangchuang Yu  OK  
1115/2140meshr 2.2.0  (landing page)Koki Tsuyuzaki  OK  
1116/2140MesKit 1.6.0  (landing page)Mengni Liu  WARNINGS  
1117/2140messina 1.32.0  (landing page)Mark Pinese  OK  
1118/2140Metab 1.30.0  (landing page)Raphael Aggio  OK  
1119/2140metabCombiner 1.6.0  (landing page)Hani Habra  WARNINGS  
1120/2140MetaboAnnotation 1.0.0  (landing page)Johannes Rainer  OK  
1121/2140MetaboCoreUtils 1.4.0  (landing page)Johannes Rainer  OK  
1122/2140metabolomicsWorkbenchR 1.6.0  (landing page)Gavin Rhys Lloyd  OK  
1123/2140metabomxtr 1.30.0  (landing page)Michael Nodzenski  OK  
1124/2140MetaboSignal 1.26.0  (landing page)Andrea Rodriguez-Martinez  OK  
1125/2140metaCCA 1.24.0  (landing page)Anna Cichonska  WARNINGS  
1126/2140MetaCyto 1.18.0  (landing page)Zicheng Hu  OK  
1127/2140metagene 2.28.0  (landing page)Charles Joly Beauparlant  WARNINGS  
1128/2140metagene2 1.12.0  (landing page)Eric Fournier  OK  
1129/2140metagenomeSeq 1.38.0  (landing page)Joseph N. Paulson  OK  
1130/2140metahdep 1.54.0  (landing page)John R. Stevens  WARNINGS  
1131/2140metaMS 1.32.0  (landing page)Yann Guitton  OK  
1132/2140MetaNeighbor 1.16.0  (landing page)Stephan Fischer  OK  
1133/2140metapod 1.4.0  (landing page)Aaron Lun  OK  
1134/2140metapone 1.2.0  (landing page)Tianwei Yu  OK  
1135/2140metaSeq 1.36.0  (landing page)Koki Tsuyuzaki  OK  
1136/2140metaseqR2 1.8.0  (landing page)Panagiotis Moulos  WARNINGS  
1137/2140metavizr 1.20.0  (landing page)Hector Corrada Bravo  ERROR  
1138/2140MetaVolcanoR 1.10.0  (landing page)Cesar Prada  OK  
1139/2140MetCirc 1.26.0  (landing page)Thomas Naake  OK  
1140/2140MethCP 1.10.0  (landing page)Boying Gong  ERROR  
1141/2140methimpute 1.18.0  (landing page)Aaron Taudt  OK  
1142/2140methInheritSim 1.18.0  (landing page)Pascal Belleau  OK  
1143/2140MethPed 1.24.0  (landing page)Helena Carén  OK  
1144/2140MethReg 1.6.0  (landing page)Tiago Silva  WARNINGS  
1145/2140methrix 1.10.0  (landing page)Anand Mayakonda  OK  
1146/2140MethTargetedNGS 1.28.0  (landing page)Muhammad Ahmer Jamil  OK  
1147/2140MethylAid 1.30.0  (landing page)L.J.Sinke  OK  
1148/2140methylCC 1.10.0  (landing page)Stephanie C. Hicks  OK  
1149/2140methylclock 1.2.0  (landing page)Dolors Pelegri-Siso  OK  
1150/2140methylGSA 1.14.0  (landing page)Xu Ren  OK  
1151/2140methylInheritance 1.20.0  (landing page)Astrid Deschênes  OK  
1152/2140methylKit 1.22.0  (landing page)Altuna Akalin , Alexander Gosdschan  WARNINGS  
1153/2140MethylMix 2.26.0  (landing page)Olivier Gevaert  OK  
1154/2140methylMnM 1.34.0  (landing page)Yan Zhou  OK  
1155/2140methylPipe 1.30.0  (landing page)Kamal Kishore  WARNINGS  
1156/2140methylscaper 1.4.0  (landing page)Bacher Rhonda  OK  
1157/2140MethylSeekR 1.36.0  (landing page)Lukas Burger  OK  
1158/2140methylSig 1.8.0  (landing page)Raymond G. Cavalcante  OK  
1159/2140methylumi 2.42.0  (landing page)Sean Davis  OK  
1160/2140MetID 1.14.0  (landing page)Zhenzhi Li  OK  
1161/2140MetNet 1.14.0  (landing page)Thomas Naake  OK  
1162/2140mfa 1.18.0  (landing page)Kieran Campbell  OK  
1163/2140Mfuzz 2.56.0  (landing page)Matthias Futschik  OK  
1164/2140MGFM 1.30.0  (landing page)Khadija El Amrani  OK  
1165/2140MGFR 1.22.0  (landing page)Khadija El Amrani  OK  
1166/2140mgsa 1.44.0  (landing page)Sebastian Bauer  OK  
1167/2140mia 1.4.0  (landing page)Felix G.M. Ernst  OK  
1168/2140miaSim 1.2.0  (landing page)Yagmur Simsek  OK  
1169/2140miaViz 1.4.0  (landing page)Felix G.M. Ernst  OK  
1170/2140MiChip 1.50.0  (landing page)Jonathon Blake  OK  
1171/2140microbiome 1.18.0  (landing page)Leo Lahti  OK  
1172/2140microbiomeDASim 1.10.0  (landing page)Justin Williams  OK  
1173/2140microbiomeExplorer 1.6.0  (landing page)Janina Reeder  ERROR  
1174/2140microbiomeMarker 1.2.0  (landing page)Yang Cao  OK  
1175/2140MicrobiomeProfiler 1.2.0  (landing page)Meijun Chen  OK  
1176/2140MicrobiotaProcess 1.8.0  (landing page)Shuangbin Xu  OK  
1177/2140microRNA 1.54.0  (landing page)"James F. Reid"  OK  
1178/2140midasHLA 1.4.0  (landing page)Maciej Migdał  OK  
1179/2140MIGSA 1.20.0  (landing page)Juan C. Rodriguez  OK  
1180/2140miloR 1.4.0  (landing page)Mike Morgan  OK  
1181/2140mimager 1.20.0  (landing page)Aaron Wolen  OK  
1182/2140MIMOSA 1.34.0  (landing page)Greg Finak  WARNINGS  
1183/2140mina 1.4.0  (landing page)Rui Guan  WARNINGS  
1184/2140MineICA 1.36.0  (landing page)Anne Biton  WARNINGS  
1185/2140minet 3.54.0  (landing page)Patrick E. Meyer  OK  
1186/2140minfi 1.42.0  (landing page)Kasper Daniel Hansen  OK  
1187/2140MinimumDistance 1.40.0  (landing page)Robert Scharpf  WARNINGS  
1188/2140MiPP 1.68.0  (landing page)Sukwoo Kim  OK  
1189/2140miQC 1.4.0  (landing page)Ariel Hippen  OK  
1190/2140MIRA 1.18.0  (landing page)John Lawson  OK  
1191/2140MiRaGE 1.38.0  (landing page)Y-h. Taguchi  WARNINGS  
1192/2140miRBaseConverter 1.20.0  (landing page)Taosheng Xu  OK  
1193/2140miRcomp 1.26.0  (landing page)Matthew N. McCall  WARNINGS  
1194/2140mirIntegrator 1.26.0  (landing page)Diana Diaz  OK  
1195/2140miRLAB 1.26.0  (landing page)Thuc Duy Le  OK  
1196/2140miRmine 1.18.0  (landing page)Dusan Randjelovic  OK  
1197/2140miRNAmeConverter 1.24.0  (landing page)Stefan J. Haunsberger  WARNINGS  
1198/2140miRNApath 1.56.0  (landing page)James M. Ward  OK  
1199/2140miRNAtap 1.30.0  (landing page)T. Ian Simpson  OK  
1200/2140miRSM 1.14.0  (landing page)Junpeng Zhang  OK  
1201/2140miRspongeR 2.0.0  (landing page)Junpeng Zhang  OK  
1202/2140mirTarRnaSeq 1.4.0  (landing page)Mercedeh Movassagh  OK  
1203/2140missMethyl 1.30.0  (landing page)Belinda Phipson  OK  
1204/2140missRows 1.16.0  (landing page)Gonzalez Ignacio  OK  
1205/2140mistyR 1.4.0  (landing page)Jovan Tanevski  OK  
1206/2140mitch 1.8.0  (landing page)Mark Ziemann  OK  
1207/2140mitoClone2 1.2.0  (landing page)Benjamin Story  WARNINGS  
1208/2140mixOmics 6.20.0  (landing page)Al J Abadi  OK  
1209/2140MLInterfaces 1.76.0  (landing page)V. Carey  OK  
1210/2140MLP 1.44.0  (landing page)Tobias Verbeke  OK  
1211/2140MLSeq 2.14.0  (landing page)Gokmen Zararsiz  OK  
1212/2140MMAPPR2 1.10.0  (landing page)Jonathon Hill  OK  
1213/2140MMDiff2 1.24.0  (landing page)Gabriele Schweikert  WARNINGS  
1214/2140MMUPHin 1.10.0  (landing page)Siyuan MA  OK  
1215/2140mnem 1.12.0  (landing page)Martin Pirkl  OK  
1216/2140moanin 1.4.0  (landing page)Nelle Varoquaux  OK  
1217/2140MobilityTransformR 1.0.0  (landing page)Liesa Salzer  OK  
1218/2140MODA 1.22.0  (landing page)Dong Li  OK  
1219/2140ModCon 1.4.0  (landing page)Johannes Ptok  OK  
1220/2140Modstrings 1.12.0  (landing page)Felix G.M. Ernst  OK  
1221/2140MOFA2 1.6.0  (landing page)Britta Velten  OK  
1222/2140MOGAMUN 1.6.0  (landing page)Elva-María Novoa-del-Toro  OK  
1223/2140mogsa 1.30.0  (landing page)Chen Meng  OK  
1224/2140MOMA 1.8.0  (landing page)Sunny Jones  OK  
1225/2140monaLisa 1.2.0  (landing page)Michael Stadler  OK  
1226/2140monocle 2.24.0  (landing page)Cole Trapnell  ERROR  
1227/2140MoonlightR 1.22.0  (landing page)Matteo Tiberti  OK  
1228/2140mosaics 2.34.0  (landing page)Dongjun Chung  OK  
1229/2140mosbi 1.2.0  (landing page)Tim Daniel Rose  OK  
1230/2140MOSim 1.10.0  (landing page)Carlos Martínez  OK  
1231/2140Motif2Site 1.0.0  (landing page)Peyman Zarrineh  OK  
1232/2140motifbreakR 2.10.0  (landing page)Simon Gert Coetzee  WARNINGS  
1233/2140motifcounter 1.20.0  (landing page)Wolfgang Kopp  ERROR  
1234/2140MotifDb 1.38.0  (landing page)Paul Shannon  WARNINGS  
1235/2140motifmatchr 1.18.0  (landing page)Alicia Schep  OK  
1236/2140motifStack 1.40.0  (landing page)Jianhong Ou  OK  
1237/2140MouseFM 1.6.0  (landing page)Matthias Munz  OK  
1238/2140MPFE 1.32.0  (landing page)Conrad Burden  OK  
1239/2140mpra 1.18.0  (landing page)Leslie Myint  OK  
1240/2140MPRAnalyze 1.14.0  (landing page)Tal Ashuach  OK  
1241/2140MQmetrics 1.4.0  (landing page)Alvaro Sanchez-Villalba  OK  
1242/2140msa 1.28.0  (landing page)Ulrich Bodenhofer  WARNINGS  
1243/2140MSA2dist 1.0.0  (landing page)Kristian K Ullrich  OK  
1244/2140MsBackendMassbank 1.4.0  (landing page)RforMassSpectrometry Package Maintainer  OK  
1245/2140MsBackendMgf 1.4.0  (landing page)RforMassSpectrometry Package Maintainer  OK  
1246/2140MsBackendMsp 1.0.0  (landing page)Johannes Rainer  OK  
1247/2140MsBackendRawFileReader 1.2.0  (landing page)Christian Panse  OK  
1248/2140MsCoreUtils 1.8.0  (landing page)RforMassSpectrometry Package Maintainer  OK  
1249/2140MsFeatures 1.4.0  (landing page)Johannes Rainer  OK  
1250/2140msgbsR 1.20.0  (landing page)Benjamin Mayne  OK  
1251/2140msImpute 1.6.0  (landing page)Soroor Hediyeh-zadeh  OK  
1252/2140msmsEDA 1.34.0  (landing page)Josep Gregori  OK  
1253/2140msmsTests 1.34.0  (landing page)Josep Gregori i Font  OK  
1254/2140MSnbase 2.22.0  (landing page)Laurent Gatto  OK  
1255/2140MSnID 1.30.0  (landing page)Vlad Petyuk  OK  
1256/2140MSPrep 1.6.0  (landing page)Max McGrath  OK  
1257/2140msPurity 1.22.0  (landing page)Thomas N. Lawson  OK  
1258/2140msqrob2 1.4.0  (landing page)Lieven Clement  OK  
1259/2140MSstats 4.4.1  (landing page)Meena Choi  OK  
1260/2140MSstatsConvert 1.6.0  (landing page)Mateusz Staniak  WARNINGS  
1261/2140MSstatsLiP 1.2.1  (landing page)Devon Kohler  OK  
1262/2140MSstatsLOBD 1.4.0  (landing page)Devon Kohler  OK  
1263/2140MSstatsPTM 1.6.0  (landing page)Devon Kohler  OK  
1264/2140MSstatsQC 2.14.0  (landing page)Eralp Dogu  OK  
1265/2140MSstatsQCgui 1.16.0  (landing page)Eralp Dogu  OK  
1266/2140MSstatsSampleSize 1.10.0  (landing page)Ting Huang  WARNINGS  
1267/2140MSstatsTMT 2.4.0  (landing page)Ting Huang  OK  
1268/2140MuData 1.0.0  (landing page)Danila Bredikhin  OK  
1269/2140Mulcom 1.46.0  (landing page)Claudio Isella  WARNINGS  
1270/2140MultiAssayExperiment 1.22.0  (landing page)Marcel Ramos  WARNINGS  
1271/2140MultiBaC 1.6.0  (landing page)The package maintainer  OK  
1272/2140multiClust 1.26.0  (landing page)Nathan Lawlor  OK  
1273/2140multicrispr 1.6.0  (landing page)Aditya Bhagwat  OK  
1274/2140MultiDataSet 1.24.0  (landing page)Xavier Escribà Montagut  WARNINGS  
1275/2140multiGSEA 1.6.0  (landing page)Sebastian Canzler  OK  
1276/2140multiHiCcompare 1.14.0  (landing page)John Stansfield , Mikhail Dozmorov  OK  
1277/2140MultiMed 2.18.0  (landing page)Simina M. Boca  OK  
1278/2140multiMiR 1.18.0  (landing page)Matt Mulvahill  OK  
1279/2140multiOmicsViz 1.20.0  (landing page)Jing Wang  OK  
1280/2140multiscan 1.56.0  (landing page)Mizanur Khondoker  OK  
1281/2140multiSight 1.4.0  (landing page)Florian Jeanneret  OK  
1282/2140multtest 2.52.0  (landing page)Katherine S. Pollard  WARNINGS  
1283/2140mumosa 1.4.0  (landing page)Aaron Lun  OK  
1284/2140MungeSumstats 1.4.2  (landing page)Alan Murphy  ERROR  
1285/2140muscat 1.10.0  (landing page)Helena L. Crowell  OK  
1286/2140muscle 3.38.0  (landing page)Alex T. Kalinka  WARNINGS  
1287/2140musicatk 1.6.0  (landing page)Aaron Chevalier  OK  
1288/2140MutationalPatterns 3.6.0  (landing page)Mark van Roosmalen  OK  
1289/2140MVCClass 1.70.0  (landing page)Elizabeth Whalen  OK  
1290/2140MWASTools 1.20.0  (landing page)Andrea Rodriguez-Martinez , Rafael Ayala  OK  
1291/2140mygene 1.32.0  (landing page)Adam Mark, Cyrus Afrasiabi, Chunlei Wu  OK  
1292/2140myvariant 1.26.0  (landing page)Adam Mark, Chunlei Wu  OK  
1293/2140mzID 1.34.0  (landing page)Laurent Gatto  OK  
1294/2140mzR 2.30.0  (landing page)Steffen Neumann  ERROR  
N
ABCDEFGHIJKLMNOPQRSTUVWXYZ
PackageMaintainerINSTALL/BUILD/CHECK
1295/2140NADfinder 1.20.0  (landing page)Jianhong Ou  OK  
1296/2140NanoMethViz 2.2.0  (landing page)Shian Su  OK  
1297/2140NanoStringDiff 1.26.0  (landing page)tingting zhai ,hong wang  WARNINGS  
1298/2140NanoStringNCTools 1.4.0  (landing page)Nicole Ortogero  OK  
1299/2140NanoStringQCPro 1.28.0  (landing page)Robert Ziman  OK  
1300/2140nanotatoR 1.12.0  (landing page)Surajit Bhattacharya  OK  
1301/2140NanoTube 1.2.0  (landing page)Caleb Class  OK  
1302/2140NBAMSeq 1.12.0  (landing page)Xu Ren  OK  
1303/2140NBSplice 1.14.0  (landing page)Gabriela Merino  OK  
1304/2140ncdfFlow 2.42.0  (landing page)Mike Jiang , Jake Wagner  WARNINGS  
1305/2140ncGTW 1.10.0  (landing page)Chiung-Ting Wu  OK  
1306/2140NCIgraph 1.44.0  (landing page)Laurent Jacob  OK  
1307/2140ncRNAtools 1.6.0  (landing page)Lara Selles Vidal  OK  
1308/2140ndexr 1.18.0  (landing page)Florian Auer  ERROR  
1309/2140nearBynding 1.6.0  (landing page)Veronica Busa  OK  
1310/2140Nebulosa 1.6.0  (landing page)Jose Alquicira-Hernandez  OK  
1311/2140NeighborNet 1.14.0  (landing page)Sahar Ansari  OK  
1312/2140nempi 1.4.0  (landing page)Martin Pirkl  OK  
1313/2140netbiov 1.30.0  (landing page)Shailesh tripathi  WARNINGS  
1314/2140netboost 2.4.0  (landing page)Pascal Schlosser  OK  
1315/2140netboxr 1.8.0  (landing page)Eirc Minwei Liu  ERROR  
1316/2140netDx 1.8.0  (landing page)Shraddha Pai  TIMEOUT  
1317/2140nethet 1.28.0  (landing page)Nicolas Staedler  WARNINGS  
1318/2140netOmics 1.2.0  (landing page)Antoine Bodein  OK  
1319/2140NetPathMiner 1.32.0  (landing page)Ahmed Mohamed  WARNINGS  
1320/2140netprioR 1.22.0  (landing page)Fabian Schmich  OK  
1321/2140netresponse 1.56.0  (landing page)Leo Lahti  OK  
1322/2140NetSAM 1.36.0  (landing page)Zhiao Shi  ERROR  
1323/2140netSmooth 1.16.0  (landing page)Jonathan Ronen  OK  
1324/2140networkBMA 2.36.0  (landing page)Ka Yee Yeung  ERROR  
1325/2140netZooR 1.0.0  (landing page)Marouen Ben Guebila  ERROR  
1326/2140NeuCA 1.2.0  (landing page)Hao Feng  OK  
1327/2140NewWave 1.6.0  (landing page)Federico Agostinis  ERROR  
1328/2140ngsReports 1.12.0  (landing page)Steve Pederson  OK  
1329/2140nnNorm 2.60.0  (landing page)Adi Laurentiu Tarca  OK  
1330/2140nnSVG 1.0.0  (landing page)Lukas M. Weber  OK  
1331/2140NOISeq 2.40.0  (landing page)Sonia Tarazona  OK  
1332/2140nondetects 2.26.0  (landing page)Valeriia Sherina  OK  
1333/2140NoRCE 1.8.0  (landing page)Gulden Olgun  OK  
1334/2140normalize450K 1.24.0  (landing page)Jonathan Alexander Heiss  OK  
1335/2140NormalyzerDE 1.14.0  (landing page)Jakob Willforss  OK  
1336/2140NormqPCR 1.42.0  (landing page)James Perkins  OK  
1337/2140normr 1.22.0  (landing page)Johannes Helmuth  WARNINGS  
1338/2140NPARC 1.8.0  (landing page)Nils Kurzawa  OK  
1339/2140npGSEA 1.32.0  (landing page)Jessica Larson  OK  
1340/2140NTW 1.46.0  (landing page)Yuanhua Liu  WARNINGS  
1341/2140nucleoSim 1.24.0  (landing page)Astrid Deschênes  OK  
1342/2140nucleR 2.28.0  (landing page)Alba Sala  WARNINGS  
1343/2140nuCpos 1.14.0  (landing page)Hiroaki Kato  OK  
1344/2140nullranges 1.2.0  (landing page)Michael Love  OK  
1345/2140NuPoP 2.4.0  (landing page)Ji-Ping Wang  ERROR  
1346/2140NxtIRFcore 1.2.0  (landing page)Alex Chit Hei Wong  OK  
O
ABCDEFGHIJKLMNOPQRSTUVWXYZ
PackageMaintainerINSTALL/BUILD/CHECK
1347/2140occugene 1.56.0  (landing page)Oliver Will  OK  
1348/2140OCplus 1.70.0  (landing page)Alexander Ploner  OK  
1349/2140ODER 1.2.0  (landing page)David Zhang  OK  
1350/2140odseq 1.24.0  (landing page)José Jiménez  OK  
1351/2140OGRE 1.0.0  (landing page)Sven Berres  OK  
1352/2140oligo 1.60.0  (landing page)Benilton Carvalho  WARNINGS  
1353/2140oligoClasses 1.58.0  (landing page)Benilton Carvalho and Robert Scharpf  WARNINGS  
1354/2140OLIN 1.74.0  (landing page)Matthias Futschik  ERROR  
1355/2140OLINgui 1.70.0  (landing page)Matthias Futschik  OK  
1356/2140OmaDB 2.12.0  (landing page)Klara Kaleb , Adrian Altenhoff  OK  
1357/2140omicade4 1.36.0  (landing page)Chen Meng  OK  
1358/2140OmicCircos 1.34.0  (landing page)Ying Hu  WARNINGS  
1359/2140omicplotR 1.16.0  (landing page)Daniel Giguere  OK  
1360/2140omicRexposome 1.18.0  (landing page)Xavier Escribà Montagut  OK  
1361/2140OmicsLonDA 1.12.0  (landing page)Ahmed A. Metwally  OK  
1362/2140OMICsPCA 1.14.0  (landing page)Subhadeep Das  OK  
1363/2140omicsPrint 1.16.0  (landing page)Davy Cats  WARNINGS  
1364/2140omicsViewer 1.0.1  (landing page)Chen Meng  OK  
1365/2140Omixer 1.6.0  (landing page)Lucy Sinke  OK  
1366/2140OmnipathR 3.4.0  (landing page)Denes Turei  ERROR  
1367/2140ompBAM 1.0.0  (landing page)Alex Chit Hei Wong  OK  
1368/2140Onassis 1.18.0  (landing page)Eugenia Galeota  ERROR  
1369/2140oncomix 1.18.0  (landing page)Daniel Pique  OK  
1370/2140OncoScore 1.24.0  (landing page)Luca De Sano  OK  
1371/2140OncoSimulR 3.4.0  (landing page)Ramon Diaz-Uriarte  OK  
1372/2140oneSENSE 1.18.0  (landing page)Yong Kee Tan  ERROR  
1373/2140onlineFDR 2.4.0  (landing page)David S. Robertson  OK  
1374/2140ontoProc 1.18.0  (landing page)VJ Carey  OK  
1375/2140openCyto 2.8.0  (landing page)Mike Jiang ,Jake Wagner  OK  
1376/2140openPrimeR 1.18.0  (landing page)Matthias Döring  OK  
1377/2140openPrimeRui 1.18.0  (landing page)Matthias Döring  OK  
1378/2140OpenStats 1.8.0  (landing page)Hamed Haseli Mashhadi  OK  
1379/2140oposSOM 2.14.0  (landing page)Henry Loeffler-Wirth  WARNINGS  
1380/2140oppar 1.24.0  (landing page)Soroor Hediyeh zadeh  WARNINGS  
1381/2140oppti 1.10.0  (landing page)Abdulkadir Elmas  WARNINGS  
1382/2140optimalFlow 1.8.0  (landing page)Hristo Inouzhe  OK  
1383/2140OPWeight 1.18.0  (landing page)Mohamad Hasan  OK  
1384/2140OrderedList 1.68.0  (landing page)Claudio Lottaz  OK  
1385/2140ORFhunteR 1.4.0  (landing page)Vasily V. Grinev  OK  
1386/2140ORFik 1.16.0  (landing page)Haakon Tjeldnes  OK  
1387/2140Organism.dplyr 1.24.0  (landing page)Martin Morgan  OK  
1388/2140OrganismDbi 1.38.0  (landing page)Bioconductor Package Maintainer  WARNINGS  
1389/2140orthogene 1.2.0  (landing page)Brian Schilder  ERROR  
1390/2140OSAT 1.44.0  (landing page)Li Yan  OK  
1391/2140Oscope 1.26.0  (landing page)Ning Leng  OK  
1392/2140OTUbase 1.46.0  (landing page)Daniel Beck  OK  
1393/2140OUTRIDER 1.14.0  (landing page)Christian Mertes  OK  
1394/2140OVESEG 1.12.0  (landing page)Lulu Chen  OK  
P
ABCDEFGHIJKLMNOPQRSTUVWXYZ
PackageMaintainerINSTALL/BUILD/CHECK
1395/2140PAA 1.30.0  (landing page)Michael Turewicz , Martin Eisenacher  OK  
1396/2140packFinder 1.8.0  (landing page)Jack Gisby  OK  
1397/2140padma 1.6.0  (landing page)Andrea Rau  OK  
1398/2140PADOG 1.38.0  (landing page)Adi L. Tarca  OK  
1399/2140pageRank 1.6.0  (landing page)Hongxu Ding  OK  
1400/2140PAIRADISE 1.12.0  (landing page)Qiang Hu , Levon Demirdjian  OK  
1401/2140paircompviz 1.34.0  (landing page)Michal Burda  OK  
1402/2140pairkat 1.2.0  (landing page)Max McGrath  OK  
1403/2140pandaR 1.28.0  (landing page)Joseph N. Paulson , Dan Schlauch  WARNINGS  
1404/2140panelcn.mops 1.18.0  (landing page)Gundula Povysil  OK  
1405/2140PanomiR 1.0.1  (landing page)Pourya Naderi  OK  
1406/2140panp 1.66.0  (landing page)Peter Warren  OK  
1407/2140PANR 1.42.0  (landing page)Xin Wang  OK  
1408/2140pareg 1.0.0  (landing page)Kim Philipp Jablonski  OK  
1409/2140parglms 1.28.0  (landing page)VJ Carey  OK  
1410/2140parody 1.54.0  (landing page)Vince Carey  OK  
1411/2140PAST 1.12.0  (landing page)Thrash Adam  WARNINGS  
1412/2140Path2PPI 1.26.0  (landing page)Oliver Philipp  OK  
1413/2140pathifier 1.34.0  (landing page)Assif Yitzhaky  OK  
1414/2140PathNet 1.36.0  (landing page)Ludwig Geistlinger  OK  
1415/2140PathoStat 1.22.0  (landing page)Solaiappan Manimaran  OK  
1416/2140pathRender 1.64.0  (landing page)Vince Carey  OK  
1417/2140pathVar 1.26.0  (landing page)Samuel Zimmerman  OK  
1418/2140pathview 1.36.0  (landing page)Weijun Luo  WARNINGS  
1419/2140pathwayPCA 1.12.0  (landing page)Gabriel Odom  OK  
1420/2140paxtoolsr 1.30.0  (landing page)Augustin Luna  ERROR  
1421/2140pcaExplorer 2.22.0  (landing page)Federico Marini  OK  
1422/2140pcaMethods 1.88.0  (landing page)Henning Redestig  OK  
1423/2140PCAN 1.24.0  (landing page)Matthew Page and Patrice Godard  OK  
1424/2140PCAtools 2.8.0  (landing page)Kevin Blighe  OK  
1425/2140pcxn 2.18.0  (landing page)Sokratis Kariotis  OK  
1426/2140PDATK 1.4.0  (landing page)Benjamin Haibe-Kains  OK  
1427/2140pdInfoBuilder 1.60.0  (landing page)Benilton Carvalho  OK  
1428/2140PeacoQC 1.6.0  (landing page)Annelies Emmaneel  WARNINGS  
1429/2140peakPantheR 1.10.0  (landing page)Arnaud Wolfer  OK  
1430/2140PECA 1.32.0  (landing page)Tomi Suomi  OK  
1431/2140peco 1.8.0  (landing page)Chiaowen Joyce Hsiao  OK  
1432/2140pengls 1.2.0  (landing page)Stijn Hawinkel  OK  
1433/2140PepsNMR 1.14.0  (landing page)Manon Martin  OK  
1434/2140pepStat 1.30.0  (landing page)Gregory C Imholte  OK  
1435/2140pepXMLTab 1.30.0  (landing page)Xiaojing Wang  OK  
1436/2140PERFect 1.10.0  (landing page)Quy Cao  OK  
1437/2140periodicDNA 1.6.0  (landing page)Jacques Serizay  WARNINGS  
1438/2140perturbatr 1.16.0  (landing page)Simon Dirmeier  ERROR  
1439/2140PFP 1.4.0  (landing page)XC Zhang  OK  
1440/2140pgca 1.20.0  (landing page)Gabriela Cohen-Freue  OK  
1441/2140phantasus 1.16.2  (landing page)Alexey Sergushichev  OK  
1442/2140PharmacoGx 3.0.0  (landing page)Benjamin Haibe-Kains  OK  
1443/2140phemd 1.12.0  (landing page)William S Chen  ERROR  
1444/2140PhenoGeneRanker 1.4.0  (landing page)Cagatay Dursun  OK  
1445/2140phenopath 1.20.0  (landing page)Kieran Campbell  OK  
1446/2140phenoTest 1.44.0  (landing page)Evarist Planet  WARNINGS  
1447/2140PhenStat 2.32.0  (landing page)Hamed Haselimashhadi  OK  
1448/2140philr 1.22.0  (landing page)Justin Silverman  OK  
1449/2140PhIPData 1.4.0  (landing page)Athena Chen  OK  
1450/2140phosphonormalizer 1.20.0  (landing page)Sohrab Saraei  OK  
1451/2140PhosR 1.6.0  (landing page)Taiyun Kim  OK  
1452/2140PhyloProfile 1.10.1  (landing page)Vinh Tran  OK  
1453/2140phyloseq 1.40.0  (landing page)Paul J. McMurdie  OK  
1454/2140Pi 2.8.0  (landing page)Hai Fang  WARNINGS  
1455/2140piano 2.12.0  (landing page)Leif Varemo Wigge  OK  
1456/2140pickgene 1.68.0  (landing page)Brian S. Yandell  WARNINGS  
1457/2140PICS 2.40.0  (landing page)Renan Sauteraud  OK  
1458/2140Pigengene 1.22.0  (landing page)Habil Zare  OK  
1459/2140PING 2.40.0  (landing page)Renan Sauteraud  WARNINGS  
1460/2140pipeComp 1.6.0  (landing page)Pierre-Luc Germain  WARNINGS  
1461/2140pipeFrame 1.12.0  (landing page)Zheng Wei  OK  
1462/2140pkgDepTools 1.62.0  (landing page)Bioconductor Package Maintainer  OK  
1463/2140planet 1.4.0  (landing page)Victor Yuan  OK  
1464/2140plethy 1.34.0  (landing page)Daniel Bottomly  OK  
1465/2140plgem 1.68.0  (landing page)Norman Pavelka  OK  
1466/2140plier 1.66.0  (landing page)Crispin Miller  WARNINGS  
1467/2140PloGO2 1.8.0  (landing page)Jemma Wu , Dana Pascovici  OK  
1468/2140plotgardener 1.2.0  (landing page)Nicole Kramer  OK  
1469/2140plotGrouper 1.14.0  (landing page)John D. Gagnon  WARNINGS  
1470/2140PLPE 1.56.0  (landing page)Soo-heang Eo  OK  
1471/2140plyranges 1.16.0  (landing page)Stuart Lee  WARNINGS  
1472/2140pmm 1.28.0  (landing page)Anna Drewek  OK  
1473/2140pmp 1.8.0  (landing page)Gavin Rhys Lloyd  OK  
1474/2140PoDCall 1.4.0  (landing page)Hans Petter Brodal  OK  
1475/2140podkat 1.28.0  (landing page)Ulrich Bodenhofer  OK  
1476/2140pogos 1.16.0  (landing page)VJ Carey  OK  
1477/2140polyester 1.32.0  (landing page)Jack Fu , Jeff Leek  OK  
1478/2140POMA 1.6.0  (landing page)Pol Castellano-Escuder  OK  
1479/2140PoTRA 1.12.0  (landing page)Margaret Linan  ERROR  
1480/2140powerTCR 1.16.0  (landing page)Hillary Koch  WARNINGS  
1481/2140POWSC 1.4.0  (landing page)Kenong Su  OK  
1482/2140ppcseq 1.4.0  (landing page)Stefano Mangiola  OK  
1483/2140PPInfer 1.22.0  (landing page)Dongmin Jung  OK  
1484/2140ppiStats 1.62.0  (landing page)Bioconductor Package Maintainer  ERROR  
1485/2140pqsfinder 2.12.0  (landing page)Jiri Hon  OK  
1486/2140pram 1.12.0  (landing page)Peng Liu  OK  
1487/2140prebs 1.36.0  (landing page)Karolis Uziela  OK  
1488/2140preciseTAD 1.6.0  (landing page)Mikhail Dozmorov  OK  
1489/2140PrecisionTrialDrawer 1.12.0  (landing page)Giorgio Melloni  ERROR  
1490/2140PREDA 1.42.0  (landing page)Francesco Ferrari  WARNINGS  
1491/2140preprocessCore 1.58.0  (landing page)Ben Bolstad  OK  
1492/2140primirTSS 1.14.0  (landing page)Pumin Li  WARNINGS  
1493/2140PrInCE 1.12.0  (landing page)Michael Skinnider  WARNINGS  
1494/2140proActiv 1.6.0  (landing page)Joseph Lee  OK  
1495/2140proBAMr 1.30.0  (landing page)Xiaojing Wang  OK  
1496/2140proBatch 1.12.0  (landing page)Chloe H. Lee  ERROR  
1497/2140PROcess 1.72.0  (landing page)Xiaochun Li  OK  
1498/2140procoil 2.24.0  (landing page)Ulrich Bodenhofer  OK  
1499/2140proDA 1.10.0  (landing page)Constantin Ahlmann-Eltze  OK  
1500/2140proFIA 1.22.0  (landing page)Alexis Delabriere  WARNINGS  
1501/2140profileplyr 1.12.0  (landing page)Tom Carroll , Doug Barrows  OK  
1502/2140profileScoreDist 1.24.0  (landing page)Paal O. Westermark  OK  
1503/2140progeny 1.18.0  (landing page)Aurélien Dugourd  OK  
1504/2140projectR 1.12.0  (landing page)Genevieve Stein-O'Brien  OK  
1505/2140pRoloc 1.36.0  (landing page)Laurent Gatto  OK  
1506/2140pRolocGUI 2.6.0  (landing page)Laurent Gatto  OK  
1507/2140PROMISE 1.48.0  (landing page)Stan Pounds , Xueyuan Cao  OK  
1508/2140PROPER 1.28.0  (landing page)Hao Wu  WARNINGS  
1509/2140PROPS 1.18.0  (landing page)Lichy Han  OK  
1510/2140Prostar 1.28.0  (landing page)Samuel Wieczorek  OK  
1511/2140proteinProfiles 1.36.0  (landing page)Julian Gehring  OK  
1512/2140ProteoDisco 1.2.0  (landing page)Job van Riet  WARNINGS  
1513/2140ProteomicsAnnotationHubData 1.26.0  (landing page)Laurent Gatto  ERROR  
1514/2140ProteoMM 1.14.0  (landing page)Yuliya V Karpievitch  OK  
1515/2140protGear 1.0.0  (landing page)Kennedy Mwai  OK  
1516/2140ProtGenerics 1.28.0  (landing page)Laurent Gatto  OK  
1517/2140PSEA 1.30.0  (landing page)Alexandre Kuhn  OK  
1518/2140psichomics 1.22.0  (landing page)Nuno Saraiva-Agostinho  OK  
1519/2140PSICQUIC 1.34.0  (landing page)Paul Shannon  WARNINGS  
1520/2140PSMatch 1.0.0  (landing page)Laurent Gatto  OK  
1521/2140psygenet2r 1.28.0  (landing page)Alba Gutierrez-Sacristan  OK  
1522/2140ptairMS 1.4.0  (landing page)camille Roquencourt  OK  
1523/2140PubScore 1.8.0  (landing page)Tiago Lubiana  WARNINGS  
1524/2140pulsedSilac 1.10.0  (landing page)Marc Pagès-Gallego  ERROR  
1525/2140puma 3.38.0  (landing page)Xuejun Liu  WARNINGS  
1526/2140PureCN 2.2.0  (landing page)Markus Riester  OK  
1527/2140pvac 1.44.0  (landing page)Jun Lu , Pierre R. Bushel  OK  
1528/2140pvca 1.36.0  (landing page)Jianying LI  OK  
1529/2140Pviz 1.30.0  (landing page)Renan Sauteraud  WARNINGS  
1530/2140PWMEnrich 4.32.0  (landing page)Diego Diez  OK  
1531/2140pwOmics 1.28.0  (landing page)Maren Sitte  WARNINGS  
1532/2140pwrEWAS 1.10.0  (landing page)Stefan Graw  ERROR  
Q
ABCDEFGHIJKLMNOPQRSTUVWXYZ
PackageMaintainerINSTALL/BUILD/CHECK
1533/2140qckitfastq 1.12.0  (landing page)August Guang  OK  
1534/2140qcmetrics 1.34.0  (landing page)Laurent Gatto  OK  
1535/2140QDNAseq 1.32.0  (landing page)Daoud Sie  OK  
1536/2140QFeatures 1.6.0  (landing page)Laurent Gatto  OK  
1537/2140qmtools 1.0.0  (landing page)Jaehyun Joo  OK  
1538/2140qpcrNorm 1.54.0  (landing page)Jessica Mar  OK  
1539/2140qpgraph 2.30.0  (landing page)Robert Castelo  WARNINGS  
1540/2140qPLEXanalyzer 1.14.0  (landing page)Ashley Sawle  OK  
1541/2140qrqc 1.50.0  (landing page)Vince Buffalo  WARNINGS  
1542/2140qsea 1.22.0  (landing page)Matthias Lienhard  WARNINGS  
1543/2140qsmooth 1.12.0  (landing page)Stephanie C. Hicks  WARNINGS  
1544/2140QSutils 1.14.0  (landing page)Mercedes Guerrero-Murillo  OK  
1545/2140qsvaR 1.0.0  (landing page)Joshua Stolz  OK  
1546/2140Qtlizer 1.10.0  (landing page)Matthias Munz  OK  
1547/2140quantiseqr 1.4.0  (landing page)Federico Marini  OK  
1548/2140quantro 1.30.0  (landing page)Stephanie Hicks  OK  
1549/2140quantsmooth 1.62.0  (landing page)Jan Oosting  OK  
1550/2140QuartPAC 1.28.0  (landing page)Gregory Ryslik  OK  
1551/2140QuasR 1.36.0  (landing page)Michael Stadler  OK  
1552/2140QuaternaryProd 1.30.0  (landing page)Carl Tony Fakhry  OK  
1553/2140QUBIC 1.24.0  (landing page)Yu Zhang  OK  
1554/2140qusage 2.30.0  (landing page)Christopher Bolen  OK  
1555/2140qvalue 2.28.0  (landing page)John D. Storey , Andrew J. Bass  OK  
R
ABCDEFGHIJKLMNOPQRSTUVWXYZ
PackageMaintainerINSTALL/BUILD/CHECK
1556/2140R3CPET 1.28.0  (landing page)Mohamed Nadhir Djekidel  WARNINGS  
1557/2140r3Cseq 1.42.0  (landing page)Supat Thongjuea or  OK  
1558/2140R453Plus1Toolbox 1.46.0  (landing page)Hans-Ulrich Klein  OK  
1559/2140R4RNA 1.24.0  (landing page)Daniel Lai  OK  
1560/2140RadioGx 2.0.0  (landing page)Benjamin Haibe-Kains  OK  
1561/2140RaggedExperiment 1.20.0  (landing page)Martin Morgan  OK  
1562/2140rain 1.30.0  (landing page)Paul F. Thaben  OK  
1563/2140rama 1.70.0  (landing page)Raphael Gottardo  WARNINGS  
1564/2140ramr 1.4.0  (landing page)Oleksii Nikolaienko  OK  
1565/2140ramwas 1.20.0  (landing page)Andrey A Shabalin  OK  
1566/2140RandomWalkRestartMH 1.16.0  (landing page)Alberto Valdeolivas  WARNINGS  
1567/2140randPack 1.42.0  (landing page)Robert Gentleman  OK  
1568/2140randRotation 1.8.0  (landing page)Peter Hettegger  OK  
1569/2140RankProd 3.22.0  (landing page)Francesco Del Carratore  OK  
1570/2140RAREsim 1.0.0  (landing page)Ryan Barnard  OK  
1571/2140RareVariantVis 2.24.0  (landing page)Tomasz Stokowy  OK  
1572/2140rawrr 1.4.0  (landing page)Christian Panse  OK  
1573/2140RbcBook1 1.64.0  (landing page)Vince Carey  OK  
1574/2140Rbec 1.4.0  (landing page)Pengfan Zhang  OK  
1575/2140RBGL 1.72.0  (landing page)Bioconductor Package Maintainer  WARNINGS  
1576/2140RBioinf 1.56.0  (landing page)Robert Gentleman  OK  
1577/2140rBiopaxParser 2.36.0  (landing page)Frank Kramer  OK  
1578/2140RBM 1.28.0  (landing page)Dongmei Li  OK  
1579/2140Rbowtie 1.36.0  (landing page)Michael Stadler  OK  
1580/2140Rbowtie2 2.2.0  (landing page)Zheng Wei  OK  
1581/2140rbsurv 2.54.0  (landing page)Soo-heang Eo  OK  
1582/2140Rbwa 1.0.0  (landing page)Jean-Philippe Fortin  WARNINGS  
1583/2140Rcade 1.38.0  (landing page)Jonathan Cairns  ERROR  
1584/2140RCAS 1.22.0  (landing page)Bora Uyar  OK  
1585/2140RCASPAR 1.42.0  (landing page)Douaa Mugahid , Lars Kaderali  OK  
1586/2140rcellminer 2.18.0  (landing page)Augustin Luna , Vinodh Rajapakse  OK  
1587/2140rCGH 1.26.0  (landing page)Frederic Commo  OK  
1588/2140RcisTarget 1.16.0  (landing page)Sara Aibar  OK  
1589/2140RCM 1.12.0  (landing page)Stijn Hawinkel  OK  
1590/2140Rcpi 1.32.1  (landing page)Nan Xiao  OK  
1591/2140RCSL 1.4.0  (landing page)Qinglin Mei  OK  
1592/2140Rcwl 1.12.0  (landing page)Qiang Hu  OK  
1593/2140RcwlPipelines 1.12.0  (landing page)Qiang Hu  OK  
1594/2140RCX 1.0.0  (landing page)Florian Auer  OK  
1595/2140RCy3 2.16.0  (landing page)Alex Pico  OK  
1596/2140RCyjs 2.18.0  (landing page)Paul Shannon  WARNINGS  
1597/2140rDGIdb 1.22.0  (landing page)Lars Bosshard  OK  
1598/2140Rdisop 1.56.0  (landing page)Steffen Neumann  WARNINGS  
1599/2140RDRToolbox 1.46.0  (landing page)Christoph Bartenhagen  OK  
1600/2140ReactomeContentService4R 1.4.0  (landing page)Chi-Lam Poon  OK  
1601/2140ReactomeGraph4R 1.4.0  (landing page)Chi-Lam Poon  OK  
1602/2140ReactomeGSA 1.10.0  (landing page)Johannes Griss  WARNINGS  
1603/2140ReactomePA 1.40.0  (landing page)Guangchuang Yu  OK  
1604/2140ReadqPCR 1.42.0  (landing page)James Perkins  OK  
1605/2140REBET 1.14.0  (landing page)Bill Wheeler  OK  
1606/2140rebook 1.6.0  (landing page)Aaron Lun  WARNINGS  
1607/2140receptLoss 1.8.0  (landing page)Daniel Pique  ERROR  
1608/2140reconsi 1.8.0  (landing page)Stijn Hawinkel  OK  
1609/2140recount 1.22.0  (landing page)Leonardo Collado-Torres  OK  
1610/2140recount3 1.6.0  (landing page)Leonardo Collado-Torres  OK  
1611/2140recountmethylation 1.6.0  (landing page)Sean K Maden  WARNINGS  
1612/2140recoup 1.24.0  (landing page)Panagiotis Moulos  OK  
1613/2140RedeR 2.0.0  (landing page)Mauro Castro  OK  
1614/2140REDseq 1.42.0  (landing page)Lihua Julie Zhu  OK  
1615/2140RefPlus 1.66.0  (landing page)Kai-Ming Chang  OK  
1616/2140RegEnrich 1.6.0  (landing page)Weiyang Tao  OK  
1617/2140regioneR 1.28.0  (landing page)Bernat Gel  OK  
1618/2140regionReport 1.30.0  (landing page)Leonardo Collado-Torres  OK  
1619/2140regsplice 1.22.0  (landing page)Lukas M. Weber  OK  
1620/2140regutools 1.8.0  (landing page)Joselyn Chavez  OK  
1621/2140REMP 1.20.1  (landing page)Yinan Zheng  OK  
1622/2140Repitools 1.42.0  (landing page)Mark Robinson  OK  
1623/2140ReportingTools 2.36.0  (landing page)Jason A. Hackney , Gabriel Becker  OK  
1624/2140RepViz 1.12.0  (landing page)Thomas Faux, Asta Laiho   WARNINGS  
1625/2140ReQON 1.42.0  (landing page)Christopher Cabanski  OK  
1626/2140ResidualMatrix 1.6.0  (landing page)Aaron Lun  OK  
1627/2140restfulSE 1.18.0  (landing page)Shweta Gopaulakrishnan  OK  
1628/2140rexposome 1.18.0  (landing page)Xavier Escribà Montagut  WARNINGS  
1629/2140rfaRm 1.8.0  (landing page)Lara Selles Vidal  OK  
1630/2140Rfastp 1.6.0  (landing page)Thomas Carroll  OK  
1631/2140rfPred 1.34.0  (landing page)Hugo Varet  OK  
1632/2140rGADEM 2.44.0  (landing page)Arnaud Droit  WARNINGS  
1633/2140rGenomeTracks 1.2.0  (landing page)Omar Elashkar  OK  
1634/2140Rgin 1.16.0  (landing page)Hector Climente-Gonzalez  ERROR  
1635/2140RGMQL 1.16.0  (landing page)Simone Pallotta  ERROR  
1636/2140rgoslin 1.0.0  (landing page)Nils Hoffmann  OK  
1637/2140RGraph2js 1.24.0  (landing page)Stephane Cano  OK  
1638/2140Rgraphviz 2.40.0  (landing page)Kasper Daniel Hansen  WARNINGS  
1639/2140rGREAT 1.28.0  (landing page)Zuguang Gu  OK  
1640/2140RGSEA 1.30.0  (landing page)Chengcheng Ma  OK  
1641/2140rgsepd 1.28.0  (landing page)Karl Stamm  OK  
1642/2140rhdf5 2.40.0  (landing page)Mike Smith  OK  
1643/2140rhdf5client 1.18.0  (landing page)Vincent Carey  OK  
1644/2140rhdf5filters 1.8.0  (landing page)Mike Smith  OK  
1645/2140Rhdf5lib 1.18.2  (landing page)Mike Smith  NA  
1646/2140Rhisat2 1.12.0  (landing page)Charlotte Soneson  WARNINGS  
1647/2140Rhtslib 1.28.0  (landing page)Bioconductor Package Maintainer  WARNINGS  
1648/2140RiboCrypt 1.2.0  (landing page)Michal Swirski  OK  
1649/2140RiboDiPA 1.4.0  (landing page)Ji-Ping Wang  OK  
1650/2140RiboProfiling 1.26.0  (landing page)A. Popa  WARNINGS  
1651/2140ribor 1.8.0  (landing page)Michael Geng  OK  
1652/2140riboSeqR 1.30.0  (landing page)Thomas J. Hardcastle  OK  
1653/2140ribosomeProfilingQC 1.8.0  (landing page)Jianhong Ou  OK  
1654/2140rifi 1.0.0  (landing page)Jens Georg  ERROR  
1655/2140RImmPort 1.24.0  (landing page)Zicheng Hu , Ravi Shankar  OK  
1656/2140Ringo 1.60.0  (landing page)J. Toedling  OK  
1657/2140RIPAT 1.6.0  (landing page)Min-Jeong Baek  OK  
1658/2140Risa 1.38.0  (landing page)Alejandra Gonzalez-Beltran  OK  
1659/2140RITAN 1.20.0  (landing page)Michael Zimmermann  WARNINGS  
1660/2140RIVER 1.20.0  (landing page)Yungil Kim  OK  
1661/2140RJMCMCNucleosomes 1.20.0  (landing page)Astrid Deschênes  OK  
1662/2140RLassoCox 1.4.0  (landing page)Wei Liu  OK  
1663/2140RLMM 1.58.0  (landing page)Nusrat Rabbee  OK  
1664/2140RLSeq 1.2.0  (landing page)Henry Miller  OK  
1665/2140Rmagpie 1.52.0  (landing page)Camille Maumet  OK  
1666/2140RMassBank 3.6.0  (landing page)RMassBank at Eawag  ERROR  
1667/2140rmelting 1.12.0  (landing page)J. Aravind  ERROR  
1668/2140RmiR 1.52.0  (landing page)Francesco Favero  ERROR  
1669/2140Rmmquant 1.14.0  (landing page)Zytnicki Matthias  WARNINGS  
1670/2140rmspc 1.2.0  (landing page)Meriem Bahda  OK  
1671/2140RNAAgeCalc 1.8.0  (landing page)Xu Ren  OK  
1672/2140RNAdecay 1.16.0  (landing page)Reed Sorenson  NA  
1673/2140rnaEditr 1.6.0  (landing page)Lanyu Zhang  OK  
1674/2140RNAinteract 1.44.0  (landing page)Mike Smith  OK  
1675/2140RNAmodR 1.10.0  (landing page)Felix G.M. Ernst  OK  
1676/2140RNAmodR.AlkAnilineSeq 1.10.0  (landing page)Felix G.M. Ernst  OK  
1677/2140RNAmodR.ML 1.10.0  (landing page)Felix G.M. Ernst  OK  
1678/2140RNAmodR.RiboMethSeq 1.10.0  (landing page)Felix G.M. Ernst  OK  
1679/2140RNAsense 1.10.0  (landing page)Marcus Rosenblatt  WARNINGS  
1680/2140rnaseqcomp 1.26.0  (landing page)Mingxiang Teng  OK  
1681/2140RNASeqPower 1.36.0  (landing page)Terry M Therneau  OK  
1682/2140RNASeqR 1.14.1  (landing page)Kuan-Hao Chao  ERROR  
1683/2140RnaSeqSampleSize 2.6.0  (landing page)Shilin Zhao Developer  OK  
1684/2140RnBeads 2.14.0  (landing page)Fabian Mueller  OK  
1685/2140Rnits 1.30.0  (landing page)Dipen P. Sangurdekar  ERROR  
1686/2140roar 1.32.0  (landing page)Elena Grassi  OK  
1687/2140ROC 1.72.0  (landing page)Vince Carey  OK  
1688/2140ROCpAI 1.8.0  (landing page)Juan-Pedro Garcia  OK  
1689/2140RolDE 1.0.0  (landing page)Tommi Valikangas  OK  
1690/2140rols 2.24.1  (landing page)Laurent Gatto  OK  
1691/2140ROntoTools 2.24.0  (landing page)Calin Voichita  OK  
1692/2140ropls 1.28.0  (landing page)Etienne A. Thevenot  OK  
1693/2140ROSeq 1.8.0  (landing page)Krishan Gupta  WARNINGS  
1694/2140ROTS 1.24.0  (landing page)Tomi Suomi  OK  
1695/2140RPA 1.52.0  (landing page)Leo Lahti  OK  
1696/2140rprimer 1.0.0  (landing page)Sofia Persson  OK  
1697/2140RProtoBufLib 2.8.0  (landing page)Mike Jiang  WARNINGS  
1698/2140RpsiXML 2.38.0  (landing page)Jitao David Zhang  WARNINGS  
1699/2140rpx 2.4.0  (landing page)Laurent Gatto  ERROR  
1700/2140Rqc 1.30.0  (landing page)Welliton Souza  TIMEOUT  
1701/2140rqt 1.22.0  (landing page)Ilya Y. Zhbannikov  OK  
1702/2140rqubic 1.42.0  (landing page)Jitao David Zhang  WARNINGS  
1703/2140rRDP 1.30.0  (landing page)Michael Hahsler  OK  
1704/2140RRHO 1.36.0  (landing page)Jonathan Rosenblatt  OK  
1705/2140rrvgo 1.8.0  (landing page)Sergi Sayols  OK  
1706/2140Rsamtools 2.12.0  (landing page)Bioconductor Package Maintainer  WARNINGS  
1707/2140rsbml 2.54.0  (landing page)Michael Lawrence  WARNINGS  
1708/2140rScudo 1.12.0  (landing page)Matteo Ciciani  OK  
1709/2140rsemmed 1.6.0  (landing page)Leslie Myint  OK  
1710/2140RSeqAn 1.16.0  (landing page)August Guang  WARNINGS  
1711/2140Rsubread 2.10.0  (landing page)Wei Shi , Yang Liao and Gordon K Smyth  OK  
1712/2140RSVSim 1.36.0  (landing page)Christoph Bartenhagen  OK  
1713/2140rSWeeP 1.8.0  (landing page)Danrley R. Fernandes  OK  
1714/2140RTCA 1.48.0  (landing page)Jitao David Zhang  WARNINGS  
1715/2140RTCGA 1.26.0  (landing page)Marcin Kosinski  OK  
1716/2140RTCGAToolbox 2.26.0  (landing page)Marcel Ramos  OK  
1717/2140RTN 2.20.0  (landing page)Mauro Castro  OK  
1718/2140RTNduals 1.20.0  (landing page)Mauro Castro , Clarice Groeneveld  OK  
1719/2140RTNsurvival 1.20.0  (landing page)Clarice Groeneveld , Mauro A. A. Castro  OK  
1720/2140RTopper 1.42.0  (landing page)Luigi Marchionni  OK  
1721/2140Rtpca 1.6.0  (landing page)Nils Kurzawa  OK  
1722/2140rtracklayer 1.56.0  (landing page)Michael Lawrence  WARNINGS  
1723/2140Rtreemix 1.58.0  (landing page)Jasmina Bogojeska  NA  
1724/2140rTRM 1.34.0  (landing page)Diego Diez  OK  
1725/2140rTRMui 1.34.0  (landing page)Diego Diez  NA  
1726/2140runibic 1.18.0  (landing page)Patryk Orzechowski  OK  
1727/2140RUVcorr 1.28.0  (landing page)Saskia Freytag  WARNINGS  
1728/2140RUVnormalize 1.30.0  (landing page)Laurent Jacob  OK  
1729/2140RUVSeq 1.30.0  (landing page)Davide Risso  OK  
1730/2140RVS 1.18.0  (landing page)Thomas Sherman  OK  
1731/2140rWikiPathways 1.16.0  (landing page)Egon Willighagen  OK  
S
ABCDEFGHIJKLMNOPQRSTUVWXYZ
PackageMaintainerINSTALL/BUILD/CHECK
1732/2140S4Vectors 0.34.0  (landing page)Bioconductor Package Maintainer  WARNINGS  
1733/2140safe 3.36.0  (landing page)Ludwig Geistlinger  OK  
1734/2140sagenhaft 1.66.0  (landing page)Tim Beissbarth  WARNINGS  
1735/2140SAIGEgds 1.10.0  (landing page)Xiuwen Zheng  NA  
1736/2140sampleClassifier 1.20.0  (landing page)Khadija El Amrani  OK  
1737/2140SamSPECTRAL 1.50.0  (landing page)Habil  WARNINGS  
1738/2140sangeranalyseR 1.6.1  (landing page)Kuan-Hao Chao  WARNINGS  
1739/2140sangerseqR 1.32.0  (landing page)Jonathon Hill  OK  
1740/2140SANTA 2.32.0  (landing page)Alex Cornish  OK  
1741/2140sarks 1.8.0  (landing page)Dennis Wylie  OK  
1742/2140satuRn 1.4.0  (landing page)Jeroen Gilis  NA  
1743/2140savR 1.34.0  (landing page)R. Brent Calder  OK  
1744/2140SBGNview 1.10.0  (landing page)Weijun Luo  NA  
1745/2140SBMLR 1.92.0  (landing page)Tomas Radivoyevitch  OK  
1746/2140SC3 1.24.0  (landing page)Vladimir Kiselev  NA  
1747/2140Scale4C 1.18.0  (landing page)Carolin Walter  NA  
1748/2140ScaledMatrix 1.4.0  (landing page)Aaron Lun  NA  
1749/2140scAlign 1.10.0  (landing page)Nelson Johansen  ERROR  
1750/2140SCAN.UPC 2.38.0  (landing page)Stephen R. Piccolo  NA  
1751/2140scanMiR 1.2.0  (landing page)Fridolin Gross  NA  
1752/2140scanMiRApp 1.2.0  (landing page)Pierre-Luc Germain  WARNINGS  
1753/2140scAnnotatR 1.2.0  (landing page)Johannes Griss  WARNINGS  
1754/2140SCANVIS 1.10.0  (landing page)Phaedra Agius  NA  
1755/2140SCArray 1.4.0  (landing page)Xiuwen Zheng  NA  
1756/2140SCATE 1.6.0  (landing page)Wenpin Hou  NA  
1757/2140scater 1.24.0  (landing page)Alan O'Callaghan  NA  
1758/2140scatterHatch 1.2.0  (landing page)Atul Deshpande  NA  
1759/2140scBFA 1.10.0  (landing page)Ruoxin Li  NA  
1760/2140SCBN 1.14.0  (landing page)Yan Zhou  NA  
1761/2140scCB2 1.6.0  (landing page)Zijian Ni  NA  
1762/2140scClassify 1.8.0  (landing page)Yingxin Lin  NA  
1763/2140sccomp 1.0.0  (landing page)Stefano Mangiola  NA  
1764/2140scDataviz 1.6.0  (landing page)Kevin Blighe  NA  
1765/2140scDblFinder 1.10.0  (landing page)Pierre-Luc Germain  NA  
1766/2140scDD 1.20.0  (landing page)Keegan Korthauer  NA  
1767/2140scde 2.24.0  (landing page)Jean Fan  WARNINGS  
1768/2140scds 1.12.0  (landing page)Dennis Kostka  NA  
1769/2140SCFA 1.6.0  (landing page)Duc Tran  NA  
1770/2140scFeatureFilter 1.16.0  (landing page)Guillaume Devailly  NA  
1771/2140scGPS 1.10.0  (landing page)Quan Nguyen  NA  
1772/2140schex 1.10.0  (landing page)Saskia Freytag  NA  
1773/2140scHOT 1.8.0  (landing page)Shila Ghazanfar  NA  
1774/2140ScISI 1.68.0  (landing page)Tony Chiang  ERROR  
1775/2140scMAGeCK 1.8.1  (landing page)Xiaolong Cheng  ERROR  
1776/2140scmap 1.18.0  (landing page)Vladimir Kiselev  NA  
1777/2140scMerge 1.12.0  (landing page)Yingxin Lin  NA  
1778/2140scmeth 1.16.0  (landing page)Divy Kangeyan  NA  
1779/2140SCnorm 1.18.0  (landing page)Rhonda Bacher  NA  
1780/2140scone 1.20.0  (landing page)Davide Risso  NA  
1781/2140Sconify 1.16.0  (landing page)Tyler J Burns  NA  
1782/2140SCOPE 1.8.0  (landing page)Rujin Wang  NA  
1783/2140scoreInvHap 1.18.0  (landing page)Dolors Pelegri-Siso  NA  
1784/2140scp 1.6.0  (landing page)Christophe Vanderaa  NA  
1785/2140scPCA 1.10.0  (landing page)Philippe Boileau  NA  
1786/2140scPipe 1.18.0  (landing page)Luyi Tian  NA  
1787/2140scran 1.24.0  (landing page)Aaron Lun  WARNINGS  
1788/2140scReClassify 1.2.0  (landing page)Taiyun Kim  NA  
1789/2140scRecover 1.12.0  (landing page)Zhun Miao  NA  
1790/2140scRepertoire 1.6.0  (landing page)Nick Borcherding  NA  
1791/2140scruff 1.14.0  (landing page)Zhe Wang  NA  
1792/2140scry 1.8.0  (landing page)Kelly Street  NA  
1793/2140scShapes 1.2.0  (landing page)Malindrie Dharmaratne  NA  
1794/2140scTensor 2.6.0  (landing page)Koki Tsuyuzaki  NA  
1795/2140scTGIF 1.10.0  (landing page)Koki Tsuyuzaki  NA  
1796/2140scTHI 1.8.0  (landing page)Michele Ceccarelli  NA  
1797/2140scTreeViz 1.2.0  (landing page)Jayaram Kancherla  NA  
1798/2140scuttle 1.6.2  (landing page)Aaron Lun  WARNINGS  
1799/2140SDAMS 1.16.0  (landing page)Yuntong Li  NA  
1800/2140sechm 1.4.1  (landing page)Pierre-Luc Germain  NA  
1801/2140segmenter 1.2.0  (landing page)Mahmoud Ahmed  NA  
1802/2140segmentSeq 2.30.0  (landing page)Thomas J. Hardcastle  NA  
1803/2140selectKSigs 1.8.0  (landing page)Zhi Yang  NA  
1804/2140SELEX 1.28.0  (landing page)Harmen J. Bussemaker  NA  
1805/2140SemDist 1.30.0  (landing page)Ian Gonzalez  NA  
1806/2140semisup 1.20.0  (landing page)Armin Rauschenberger  NA  
1807/2140SEPIRA 1.16.0  (landing page)Yuting Chen  NA  
1808/2140seq2pathway 1.28.0  (landing page)Arjun Kinstlick  WARNINGS  
1809/2140seqArchR 1.0.0  (landing page)Sarvesh Nikumbh  NA  
1810/2140SeqArray 1.36.0  (landing page)Xiuwen Zheng  NA  
1811/2140seqbias 1.44.0  (landing page)Daniel Jones  WARNINGS  
1812/2140seqCAT 1.18.0  (landing page)Erik Fasterius  NA  
1813/2140seqCNA 1.42.0  (landing page)David Mosen-Ansorena  NA  
1814/2140seqcombo 1.18.0  (landing page)Guangchuang Yu  NA  
1815/2140SeqGate 1.6.0  (landing page)Stéphanie Rialle  NA  
1816/2140SeqGSEA 1.36.0  (landing page)Xi Wang  NA  
1817/2140seqLogo 1.62.0  (landing page)Robert Ivanek  NA  
1818/2140seqPattern 1.28.0  (landing page)Vanja Haberle  NA  
1819/2140seqsetvis 1.16.0  (landing page)Joseph R Boyd  NA  
1820/2140SeqSQC 1.18.0  (landing page)Qian Liu  NA  
1821/2140seqTools 1.30.0  (landing page)Wolfgang Kaisers  WARNINGS  
1822/2140SeqVarTools 1.34.0  (landing page)Stephanie M. Gogarten  NA  
1823/2140sesame 1.14.1  (landing page)Wanding Zhou  NA  
1824/2140SEtools 1.10.0  (landing page)Pierre-Luc Germain  NA  
1825/2140sevenbridges 1.26.0  (landing page)Soner Koc  NA  
1826/2140sevenC 1.16.0  (landing page)Jonas Ibn-Salem  NA  
1827/2140SGSeq 1.30.0  (landing page)Leonard Goldstein  NA  
1828/2140SharedObject 1.10.0  (landing page)Jiefei Wang  NA  
1829/2140shinyepico 1.4.1  (landing page)Octavio Morante-Palacios  NA  
1830/2140shinyMethyl 1.32.0  (landing page)Jean-Philippe Fortin  NA  
1831/2140ShortRead 1.54.0  (landing page)Bioconductor Package Maintainer  WARNINGS  
1832/2140SIAMCAT 2.0.0  (landing page)Jakob Wirbel  NA