Back to Multiple platform build/check report for BioC 3.15
ABCDEFGHIJKLMNO[P]QRSTUVWXYZ

This page was generated on 2022-07-01 12:08:28 -0400 (Fri, 01 Jul 2022).

HostnameOSArch (*)R versionInstalled pkgs
nebbiolo1Linux (Ubuntu 20.04.4 LTS)x86_644.2.0 (2022-04-22) -- "Vigorous Calisthenics" 4380
palomino3Windows Server 2022 Datacenterx644.2.0 (2022-04-22 ucrt) -- "Vigorous Calisthenics" 4156
merida1macOS 10.14.6 Mojavex86_644.2.0 (2022-04-22) -- "Vigorous Calisthenics" 4221
Click on any hostname to see more info about the system (e.g. compilers)      (*) as reported by 'uname -p', except on Windows and Mac OS X

BUILD BIN results for PICS on merida1


To the developers/maintainers of the PICS package:
- Please allow up to 24 hours (and sometimes 48 hours) for your latest push to git@git.bioconductor.org:packages/PICS.git to
reflect on this report. See How and When does the builder pull? When will my changes propagate? for more information.
- Make sure to use the following settings in order to reproduce any error or warning you see on this page.

raw results

Package 1457/2140HostnameOS / ArchINSTALLBUILDCHECKBUILD BIN
PICS 2.40.0  (landing page)
Renan Sauteraud
Snapshot Date: 2022-06-30 13:55:04 -0400 (Thu, 30 Jun 2022)
git_url: https://git.bioconductor.org/packages/PICS
git_branch: RELEASE_3_15
git_last_commit: dce082e
git_last_commit_date: 2022-04-26 11:04:42 -0400 (Tue, 26 Apr 2022)
nebbiolo1Linux (Ubuntu 20.04.4 LTS) / x86_64  OK    OK    OK  UNNEEDED, same version is already published
palomino3Windows Server 2022 Datacenter / x64  OK    OK    OK    OK  UNNEEDED, same version is already published
merida1macOS 10.14.6 Mojave / x86_64  OK    OK    OK    OK  UNNEEDED, same version is already published

Summary

Package: PICS
Version: 2.40.0
Command: rm -rf PICS.buildbin-libdir && mkdir PICS.buildbin-libdir && /Users/biocbuild/BBS/utils/build-universal.sh PICS_2.40.0.tar.gz /Library/Frameworks/R.framework/Resources/bin/R PICS.buildbin-libdir
StartedAt: 2022-07-01 11:15:58 -0400 (Fri, 01 Jul 2022)
EndedAt: 2022-07-01 11:17:01 -0400 (Fri, 01 Jul 2022)
EllapsedTime: 63.9 seconds
RetCode: 0
Status:   OK  
PackageFile: PICS_2.40.0.tgz
PackageFileSize: 1.67 MiB

Command output

##############################################################################
##############################################################################
###
### Running command:
###
###   rm -rf PICS.buildbin-libdir && mkdir PICS.buildbin-libdir && /Users/biocbuild/BBS/utils/build-universal.sh PICS_2.40.0.tar.gz /Library/Frameworks/R.framework/Resources/bin/R PICS.buildbin-libdir
###
##############################################################################
##############################################################################


>>>>>>> 
>>>>>>> INSTALLATION WITH 'R CMD INSTALL --preclean --no-multiarch --library=PICS.buildbin-libdir PICS_2.40.0.tar.gz'
>>>>>>> 

* installing *source* package ‘PICS’ ...
** using staged installation
checking for pkg-config... /usr/local/bin/pkg-config
checking pkg-config is at least version 0.9.0... yes
checking for GSL... yes
configure: creating ./config.status
config.status: creating src/Makevars
** libs
clang -mmacosx-version-min=10.13 -I"/Library/Frameworks/R.framework/Resources/include" -DNDEBUG   -I/usr/local/include   -fPIC  -Wall -g -O2  -c pics.c -o pics.o
pics.c:1301:3: warning: variable 'penalty' is used uninitialized whenever switch default is taken [-Wsometimes-uninitialized]
                default:
                ^~~~~~~
pics.c:1307:97: note: uninitialized use occurs here
        bic = logDensityMix(yF, w, muF, sigmaSqF, K, NF) + logDensityMix(yR, w, muR, sigmaSqR, K,NR) - penalty;
                                                                                                       ^~~~~~~
pics.c:1275:42: note: initialize the variable 'penalty' to silence this warning
        double bic, tmp, muF[K], muR[K], penalty, distance;
                                                ^
                                                 = 0.0
pics.c:1633:76: warning: unused variable 'PhiRw' [-Wunused-variable]
          double aNormF, aNormR, bNormF, bNormR, P0F=1, P0R=1, PhiF, PhiR, PhiFw, PhiRw, wPjF, wPjR; 
                                                                                  ^
pics.c:1633:69: warning: unused variable 'PhiFw' [-Wunused-variable]
          double aNormF, aNormR, bNormF, bNormR, P0F=1, P0R=1, PhiF, PhiR, PhiFw, PhiRw, wPjF, wPjR; 
                                                                           ^
pics.c:1889:7: warning: unused variable 'i' [-Wunused-variable]
  int i=0,j=0,k=0,l=0,kMerge=0,flag=0;
      ^
pics.c:1889:11: warning: unused variable 'j' [-Wunused-variable]
  int i=0,j=0,k=0,l=0,kMerge=0,flag=0;
          ^
5 warnings generated.
clang -mmacosx-version-min=10.13 -I"/Library/Frameworks/R.framework/Resources/include" -DNDEBUG   -I/usr/local/include   -fPIC  -Wall -g -O2  -c segment.c -o segment.o
segment.c:406:6: warning: variable 'pp' is incremented both in the loop header and in the loop body [-Wfor-loop-analysis]
                                        pp++;
                                        ^
segment.c:395:27: note: incremented here
                                for (pp=start; pp<=p; pp++) {
                                                      ^
segment.c:536:6: warning: variable 'pp' is incremented both in the loop header and in the loop body [-Wfor-loop-analysis]
                                        pp++;
                                        ^
segment.c:525:27: note: incremented here
                                for (pp=start; pp<=p; pp++) {
                                                      ^
segment.c:1490:8: warning: unused variable 'filter1' [-Wunused-variable]
  SEXP filter1;
       ^
segment.c:1489:11: warning: unused variable 'muFilter' [-Wunused-variable]
  double *muFilter, *deltaFilter, *sFFilter, *sRFilter, *seFilter, *seFilterF, *seFilterR, *scoreFilter, *score;
          ^
4 warnings generated.
clang -mmacosx-version-min=10.13 -dynamiclib -Wl,-headerpad_max_install_names -undefined dynamic_lookup -single_module -multiply_defined suppress -L/Library/Frameworks/R.framework/Resources/lib -L/usr/local/lib -o PICS.so pics.o segment.o -L/usr/local/lib -lgsl -lgslcblas -lm -F/Library/Frameworks/R.framework/.. -framework R -Wl,-framework -Wl,CoreFoundation
installing to /Users/biocbuild/bbs-3.15-bioc/meat/PICS.buildbin-libdir/00LOCK-PICS/00new/PICS/libs
** R
** inst
** byte-compile and prepare package for lazy loading
** help
*** installing help indices
** building package indices
** installing vignettes
** testing if installed package can be loaded from temporary location
** checking absolute paths in shared objects and dynamic libraries
** testing if installed package can be loaded from final location
** testing if installed package keeps a record of temporary installation path
* DONE (PICS)


>>>>>>> 
>>>>>>> FIXING LINKS FOR PICS.buildbin-libdir/PICS/libs/PICS.so
>>>>>>> 

install_name_tool -change "/usr/local/lib/libgcc_s.1.dylib" "/Library/Frameworks/R.framework/Versions/4.2/Resources/lib/libgcc_s.1.dylib" "PICS.buildbin-libdir/PICS/libs/PICS.so"
install_name_tool -change "/usr/local/lib/libgfortran.5.dylib" "/Library/Frameworks/R.framework/Versions/4.2/Resources/lib/libgfortran.5.dylib" "PICS.buildbin-libdir/PICS/libs/PICS.so"
install_name_tool -change "/usr/local/lib/libquadmath.0.dylib" "/Library/Frameworks/R.framework/Versions/4.2/Resources/lib/libquadmath.0.dylib" "PICS.buildbin-libdir/PICS/libs/PICS.so"