Back to Multiple platform build/check report for BioC 3.15
ABCDEFG[H]IJKLMNOPQRSTUVWXYZ

This page was generated on 2022-08-08 13:20:25 -0400 (Mon, 08 Aug 2022).

HostnameOSArch (*)R versionInstalled pkgs
nebbiolo1Linux (Ubuntu 20.04.4 LTS)x86_644.2.1 (2022-06-23) -- "Funny-Looking Kid" 4362
merida1macOS 10.14.6 Mojavex86_644.2.1 (2022-06-23) -- "Funny-Looking Kid" 4180
Click on any hostname to see more info about the system (e.g. compilers)      (*) as reported by 'uname -p', except on Windows and Mac OS X

BUILD BIN results for HiTC on merida1


To the developers/maintainers of the HiTC package:
- Please allow up to 24 hours (and sometimes 48 hours) for your latest push to git@git.bioconductor.org:packages/HiTC.git to
reflect on this report. See How and When does the builder pull? When will my changes propagate? for more information.
- Make sure to use the following settings in order to reproduce any error or warning you see on this page.

raw results

Package 904/2140HostnameOS / ArchINSTALLBUILDCHECKBUILD BIN
HiTC 1.40.0  (landing page)
Nicolas Servant
Snapshot Date: 2022-08-07 13:55:12 -0400 (Sun, 07 Aug 2022)
git_url: https://git.bioconductor.org/packages/HiTC
git_branch: RELEASE_3_15
git_last_commit: 35a87db
git_last_commit_date: 2022-04-26 11:10:49 -0400 (Tue, 26 Apr 2022)
nebbiolo1Linux (Ubuntu 20.04.4 LTS) / x86_64  OK    OK    OK  UNNEEDED, same version is already published
merida1macOS 10.14.6 Mojave / x86_64  OK    OK    OK    OK  UNNEEDED, same version is already published

Summary

Package: HiTC
Version: 1.40.0
Command: rm -rf HiTC.buildbin-libdir && mkdir HiTC.buildbin-libdir && /Users/biocbuild/BBS/utils/build-universal.sh HiTC_1.40.0.tar.gz /Library/Frameworks/R.framework/Resources/bin/R HiTC.buildbin-libdir
StartedAt: 2022-08-08 10:32:34 -0400 (Mon, 08 Aug 2022)
EndedAt: 2022-08-08 10:33:51 -0400 (Mon, 08 Aug 2022)
EllapsedTime: 77.1 seconds
RetCode: 0
Status:   OK  
PackageFile: HiTC_1.40.0.tgz
PackageFileSize: 3.703 MiB

Command output

##############################################################################
##############################################################################
###
### Running command:
###
###   rm -rf HiTC.buildbin-libdir && mkdir HiTC.buildbin-libdir && /Users/biocbuild/BBS/utils/build-universal.sh HiTC_1.40.0.tar.gz /Library/Frameworks/R.framework/Resources/bin/R HiTC.buildbin-libdir
###
##############################################################################
##############################################################################


>>>>>>> 
>>>>>>> INSTALLATION WITH 'R CMD INSTALL --preclean --no-multiarch --library=HiTC.buildbin-libdir HiTC_1.40.0.tar.gz'
>>>>>>> 

* installing *source* package ‘HiTC’ ...
** using staged installation
** R
** data
** inst
** byte-compile and prepare package for lazy loading
** help
*** installing help indices
** building package indices
** installing vignettes
** testing if installed package can be loaded from temporary location
** testing if installed package can be loaded from final location
** testing if installed package keeps a record of temporary installation path
* DONE (HiTC)