Back to Multiple platform build/check report for BioC 3.15
ABCDEFGHIJKLMNOPQ[R]STUVWXYZ

This page was generated on 2022-06-24 12:04:16 -0400 (Fri, 24 Jun 2022).

HostnameOSArch (*)R versionInstalled pkgs
nebbiolo1Linux (Ubuntu 20.04.4 LTS)x86_644.2.0 (2022-04-22) -- "Vigorous Calisthenics" 4380
palomino3Windows Server 2022 Datacenterx644.2.0 (2022-04-22 ucrt) -- "Vigorous Calisthenics" 4156
merida1macOS 10.14.6 Mojavex86_644.2.0 (2022-04-22) -- "Vigorous Calisthenics" 4221
Click on any hostname to see more info about the system (e.g. compilers)      (*) as reported by 'uname -p', except on Windows and Mac OS X

All results for package rtracklayer


To the developers/maintainers of the rtracklayer package:
- Please allow up to 24 hours (and sometimes 48 hours) for your latest push to git@git.bioconductor.org:packages/rtracklayer.git to
reflect on this report. See How and When does the builder pull? When will my changes propagate? for more information.
- Make sure to use the following settings in order to reproduce any error or warning you see on this page.

raw results

Package 1722/2140HostnameOS / ArchINSTALLBUILDCHECKBUILD BIN
rtracklayer 1.56.1  (landing page)
Michael Lawrence
Snapshot Date: 2022-06-23 13:55:15 -0400 (Thu, 23 Jun 2022)
git_url: https://git.bioconductor.org/packages/rtracklayer
git_branch: RELEASE_3_15
git_last_commit: 4c6d220
git_last_commit_date: 2022-06-22 15:10:46 -0400 (Wed, 22 Jun 2022)
nebbiolo1Linux (Ubuntu 20.04.4 LTS) / x86_64  OK    OK    WARNINGS  YES
palomino3Windows Server 2022 Datacenter / x64  OK    OK    WARNINGS    OK  YES
merida1macOS 10.14.6 Mojave / x86_64  OK    OK    WARNINGS    NA  

Results for Bioconductor software packages that depend directly on package rtracklayer

QUICK STATSOS / ArchINSTALLBUILDCHECKBUILD BIN
nebbiolo1Linux (Ubuntu 20.04.4 LTS) / x86_64
01170
02169
0335131
palomino3Windows Server 2022 Datacenter / x64
02164
04162
0435123
00162
merida1macOS 10.14.6 Mojave / x86_64
01168
02167
1235129
00112
Package 1/171HostnameOS / ArchINSTALLBUILDCHECKBUILD BIN
AnnotationHubData 1.26.1  (landing page)
Bioconductor Package Maintainer
git_last_commit: a04119c
git_last_commit_date: 2022-04-28 10:35:41 -0400
nebbiolo1Linux (Ubuntu 20.04.4 LTS) / x86_64  OK    OK    WARNINGS  UNNEEDED, same version is already published
palomino3Windows Server 2022 Datacenter / x64  OK    OK    WARNINGS    OK  UNNEEDED, same version is already published
merida1macOS 10.14.6 Mojave / x86_64  OK    OK    WARNINGS    OK  UNNEEDED, same version is already published
Package 2/171HostnameOS / ArchINSTALLBUILDCHECKBUILD BIN
annotatr 1.22.0  (landing page)
Raymond G. Cavalcante
git_last_commit: dde0987
git_last_commit_date: 2022-04-26 11:36:55 -0400
nebbiolo1Linux (Ubuntu 20.04.4 LTS) / x86_64  OK    OK    OK  UNNEEDED, same version is already published
palomino3Windows Server 2022 Datacenter / x64  OK    OK    OK    OK  UNNEEDED, same version is already published
merida1macOS 10.14.6 Mojave / x86_64  OK    OK    OK    OK  UNNEEDED, same version is already published
Package 3/171HostnameOS / ArchINSTALLBUILDCHECKBUILD BIN
APAlyzer 1.10.0  (landing page)
Ruijia Wang
git_last_commit: 0545bb5
git_last_commit_date: 2022-04-26 11:58:10 -0400
nebbiolo1Linux (Ubuntu 20.04.4 LTS) / x86_64  OK    OK    WARNINGS  UNNEEDED, same version is already published
palomino3Windows Server 2022 Datacenter / x64  OK    OK    WARNINGS    OK  UNNEEDED, same version is already published
merida1macOS 10.14.6 Mojave / x86_64  OK    OK    WARNINGS    OK  UNNEEDED, same version is already published
Package 4/171HostnameOS / ArchINSTALLBUILDCHECKBUILD BIN
ASpediaFI 1.10.0  (landing page)
Doyeong Yu
git_last_commit: d50ff1c
git_last_commit_date: 2022-04-26 12:00:28 -0400
nebbiolo1Linux (Ubuntu 20.04.4 LTS) / x86_64  OK    OK    OK  UNNEEDED, same version is already published
palomino3Windows Server 2022 Datacenter / x64  OK    OK    OK    OK  UNNEEDED, same version is already published
merida1macOS 10.14.6 Mojave / x86_64  OK    OK    OK    OK  UNNEEDED, same version is already published
Package 5/171HostnameOS / ArchINSTALLBUILDCHECKBUILD BIN
ATACseqQC 1.20.2  (landing page)
Jianhong Ou
git_last_commit: 067730d
git_last_commit_date: 2022-05-02 10:02:56 -0400
nebbiolo1Linux (Ubuntu 20.04.4 LTS) / x86_64  OK    OK    OK  UNNEEDED, same version is already published
palomino3Windows Server 2022 Datacenter / x64  OK    OK    OK    OK  UNNEEDED, same version is already published
merida1macOS 10.14.6 Mojave / x86_64  OK    OK    OK    OK  UNNEEDED, same version is already published
Package 6/171HostnameOS / ArchINSTALLBUILDCHECKBUILD BIN
ballgown 2.28.0  (landing page)
Jack Fu
git_last_commit: bedd5b8
git_last_commit_date: 2022-04-26 11:20:42 -0400
nebbiolo1Linux (Ubuntu 20.04.4 LTS) / x86_64  OK    OK    OK  UNNEEDED, same version is already published
palomino3Windows Server 2022 Datacenter / x64  OK    OK    OK    OK  UNNEEDED, same version is already published
merida1macOS 10.14.6 Mojave / x86_64  OK    OK    OK    OK  UNNEEDED, same version is already published
Package 7/171HostnameOS / ArchINSTALLBUILDCHECKBUILD BIN
BgeeCall 1.12.1  (landing page)
Julien Wollbrett
git_last_commit: 77a4004
git_last_commit_date: 2022-05-19 09:21:50 -0400
nebbiolo1Linux (Ubuntu 20.04.4 LTS) / x86_64  OK    OK    OK  UNNEEDED, same version is already published
palomino3Windows Server 2022 Datacenter / x64  OK    OK    OK    OK  UNNEEDED, same version is already published
merida1macOS 10.14.6 Mojave / x86_64  OK    OK    OK    OK  UNNEEDED, same version is already published
Package 8/171HostnameOS / ArchINSTALLBUILDCHECKBUILD BIN
BindingSiteFinder 1.2.0  (landing page)
Mirko Brüggemann
git_last_commit: 019651b
git_last_commit_date: 2022-04-26 12:17:15 -0400
nebbiolo1Linux (Ubuntu 20.04.4 LTS) / x86_64  OK    OK    OK  UNNEEDED, same version is already published
palomino3Windows Server 2022 Datacenter / x64  OK    OK    OK    OK  UNNEEDED, same version is already published
merida1macOS 10.14.6 Mojave / x86_64  OK    OK    OK    OK  UNNEEDED, same version is already published
Package 9/171HostnameOS / ArchINSTALLBUILDCHECKBUILD BIN
biscuiteer 1.10.0  (landing page)
Jacob Morrison
git_last_commit: 4e21745
git_last_commit_date: 2022-04-26 12:00:38 -0400
nebbiolo1Linux (Ubuntu 20.04.4 LTS) / x86_64  OK    OK    WARNINGS  UNNEEDED, same version is already published
palomino3Windows Server 2022 Datacenter / x64  OK    OK    WARNINGS    OK  UNNEEDED, same version is already published
merida1macOS 10.14.6 Mojave / x86_64  OK    OK    WARNINGS    OK  UNNEEDED, same version is already published
Package 10/171HostnameOS / ArchINSTALLBUILDCHECKBUILD BIN
BiSeq 1.36.0  (landing page)
Katja Hebestreit
git_last_commit: b5cd494
git_last_commit_date: 2022-04-26 11:14:44 -0400
nebbiolo1Linux (Ubuntu 20.04.4 LTS) / x86_64  OK    OK    OK  UNNEEDED, same version is already published
palomino3Windows Server 2022 Datacenter / x64  OK    OK    OK    OK  UNNEEDED, same version is already published
merida1macOS 10.14.6 Mojave / x86_64  OK    OK    OK    OK  UNNEEDED, same version is already published
Package 11/171HostnameOS / ArchINSTALLBUILDCHECKBUILD BIN
branchpointer 1.22.0  (landing page)
Beth Signal
git_last_commit: e74a87d
git_last_commit_date: 2022-04-26 11:39:33 -0400
nebbiolo1Linux (Ubuntu 20.04.4 LTS) / x86_64  OK    OK    OK  UNNEEDED, same version is already published
palomino3Windows Server 2022 Datacenter / x64  OK    OK    ERROR    OK  
merida1macOS 10.14.6 Mojave / x86_64  OK    OK    OK    OK  UNNEEDED, same version is already published
Package 12/171HostnameOS / ArchINSTALLBUILDCHECKBUILD BIN
BRGenomics 1.8.0  (landing page)
Mike DeBerardine
git_last_commit: c879a27
git_last_commit_date: 2022-04-26 12:03:46 -0400
nebbiolo1Linux (Ubuntu 20.04.4 LTS) / x86_64  OK    OK    WARNINGS  UNNEEDED, same version is already published
palomino3Windows Server 2022 Datacenter / x64  OK    OK    WARNINGS    OK  UNNEEDED, same version is already published
merida1macOS 10.14.6 Mojave / x86_64  OK    OK    WARNINGS    OK  UNNEEDED, same version is already published
Package 13/171HostnameOS / ArchINSTALLBUILDCHECKBUILD BIN
BSgenome 1.64.0  (landing page)
H. Pagès
git_last_commit: 59cdebd
git_last_commit_date: 2022-04-26 10:58:27 -0400
nebbiolo1Linux (Ubuntu 20.04.4 LTS) / x86_64  OK    OK    WARNINGS  UNNEEDED, same version is already published
palomino3Windows Server 2022 Datacenter / x64  OK    OK    WARNINGS    OK  UNNEEDED, same version is already published
merida1macOS 10.14.6 Mojave / x86_64  OK    OK    WARNINGS    OK  UNNEEDED, same version is already published
Package 14/171HostnameOS / ArchINSTALLBUILDCHECKBUILD BIN
CAGEfightR 1.16.0  (landing page)
Malte Thodberg
git_last_commit: 86ba129
git_last_commit_date: 2022-04-26 11:49:10 -0400
nebbiolo1Linux (Ubuntu 20.04.4 LTS) / x86_64  OK    OK    OK  UNNEEDED, same version is already published
palomino3Windows Server 2022 Datacenter / x64  OK    OK    OK    OK  UNNEEDED, same version is already published
merida1macOS 10.14.6 Mojave / x86_64  OK    OK    OK    OK  UNNEEDED, same version is already published
Package 15/171HostnameOS / ArchINSTALLBUILDCHECKBUILD BIN
CAGEr 2.2.0  (landing page)
Charles Plessy
git_last_commit: 74d9a97
git_last_commit_date: 2022-04-26 11:13:41 -0400
nebbiolo1Linux (Ubuntu 20.04.4 LTS) / x86_64  OK    OK    OK  UNNEEDED, same version is already published
palomino3Windows Server 2022 Datacenter / x64  OK    OK    OK    OK  UNNEEDED, same version is already published
merida1macOS 10.14.6 Mojave / x86_64  OK    OK    OK    OK  UNNEEDED, same version is already published
Package 16/171HostnameOS / ArchINSTALLBUILDCHECKBUILD BIN
casper 2.30.0  (landing page)
David Rossell
git_last_commit: 140c9ad
git_last_commit_date: 2022-04-26 11:13:19 -0400
nebbiolo1Linux (Ubuntu 20.04.4 LTS) / x86_64  OK    OK    WARNINGS  UNNEEDED, same version is already published
palomino3Windows Server 2022 Datacenter / x64  OK    OK    WARNINGS    OK  UNNEEDED, same version is already published
merida1macOS 10.14.6 Mojave / x86_64  OK    OK    WARNINGS    OK  UNNEEDED, same version is already published
Package 17/171HostnameOS / ArchINSTALLBUILDCHECKBUILD BIN
CexoR 1.34.0  (landing page)
Pedro Madrigal
git_last_commit: c90524a
git_last_commit_date: 2022-04-26 12:18:44 -0400
nebbiolo1Linux (Ubuntu 20.04.4 LTS) / x86_64  OK    OK    OK  UNNEEDED, same version is already published
palomino3Windows Server 2022 Datacenter / x64  OK    OK    OK    OK  UNNEEDED, same version is already published
merida1macOS 10.14.6 Mojave / x86_64  OK    OK    OK    OK  UNNEEDED, same version is already published
Package 18/171HostnameOS / ArchINSTALLBUILDCHECKBUILD BIN
ChIPanalyser 1.18.0  (landing page)
Patrick C.N. Martin
git_last_commit: 4bc63a9
git_last_commit_date: 2022-04-26 11:43:00 -0400
nebbiolo1Linux (Ubuntu 20.04.4 LTS) / x86_64  OK    OK    OK  UNNEEDED, same version is already published
palomino3Windows Server 2022 Datacenter / x64  OK    OK    OK    OK  UNNEEDED, same version is already published
merida1macOS 10.14.6 Mojave / x86_64  OK    OK    OK    OK  UNNEEDED, same version is already published
Package 19/171HostnameOS / ArchINSTALLBUILDCHECKBUILD BIN
ChIPComp 1.26.0  (landing page)
Li Chen
git_last_commit: 7449627
git_last_commit_date: 2022-04-26 11:26:55 -0400
nebbiolo1Linux (Ubuntu 20.04.4 LTS) / x86_64  OK    OK    OK  UNNEEDED, same version is already published
palomino3Windows Server 2022 Datacenter / x64  OK    OK    OK    OK  UNNEEDED, same version is already published
merida1macOS 10.14.6 Mojave / x86_64  OK    OK    OK    OK  UNNEEDED, same version is already published
Package 20/171HostnameOS / ArchINSTALLBUILDCHECKBUILD BIN
chipenrich 2.20.0  (landing page)
Raymond G. Cavalcante
git_last_commit: ed01530
git_last_commit_date: 2022-04-26 11:16:09 -0400
nebbiolo1Linux (Ubuntu 20.04.4 LTS) / x86_64  OK    OK    OK  UNNEEDED, same version is already published
palomino3Windows Server 2022 Datacenter / x64  OK    OK    OK    OK  UNNEEDED, same version is already published
merida1macOS 10.14.6 Mojave / x86_64  OK    OK    OK    OK  UNNEEDED, same version is already published
Package 21/171HostnameOS / ArchINSTALLBUILDCHECKBUILD BIN
ChIPpeakAnno 3.30.1  (landing page)
Jianhong Ou
git_last_commit: f358fc5
git_last_commit_date: 2022-06-06 14:12:10 -0400
nebbiolo1Linux (Ubuntu 20.04.4 LTS) / x86_64  OK    OK    OK  UNNEEDED, same version is already published
palomino3Windows Server 2022 Datacenter / x64  OK    OK    OK    OK  UNNEEDED, same version is already published
merida1macOS 10.14.6 Mojave / x86_64  OK    OK    OK    OK  UNNEEDED, same version is already published
Package 22/171HostnameOS / ArchINSTALLBUILDCHECKBUILD BIN
ChIPseeker 1.32.0  (landing page)
Guangchuang Yu
git_last_commit: 78188dc
git_last_commit_date: 2022-04-26 11:19:42 -0400
nebbiolo1Linux (Ubuntu 20.04.4 LTS) / x86_64  OK    OK    OK  UNNEEDED, same version is already published
palomino3Windows Server 2022 Datacenter / x64  OK    OK    OK    OK  UNNEEDED, same version is already published
merida1macOS 10.14.6 Mojave / x86_64  OK    OK    OK    OK  UNNEEDED, same version is already published
Package 23/171HostnameOS / ArchINSTALLBUILDCHECKBUILD BIN
ChromHeatMap 1.50.0  (landing page)
Tim F. Rayner
git_last_commit: c63800c
git_last_commit_date: 2022-04-26 11:03:46 -0400
nebbiolo1Linux (Ubuntu 20.04.4 LTS) / x86_64  OK    OK    OK  UNNEEDED, same version is already published
palomino3Windows Server 2022 Datacenter / x64  OK    OK    OK    OK  UNNEEDED, same version is already published
merida1macOS 10.14.6 Mojave / x86_64  OK    OK    OK    OK  UNNEEDED, same version is already published
Package 24/171HostnameOS / ArchINSTALLBUILDCHECKBUILD BIN
ChromSCape 1.6.0  (landing page)
Pacome Prompsy
git_last_commit: f0f1527
git_last_commit_date: 2022-04-26 12:09:05 -0400
nebbiolo1Linux (Ubuntu 20.04.4 LTS) / x86_64  OK    OK    WARNINGS  UNNEEDED, same version is already published
palomino3Windows Server 2022 Datacenter / x64  OK    OK    WARNINGS    OK  UNNEEDED, same version is already published
merida1macOS 10.14.6 Mojave / x86_64  OK    OK    WARNINGS    OK  UNNEEDED, same version is already published
Package 25/171HostnameOS / ArchINSTALLBUILDCHECKBUILD BIN
chromswitch 1.18.0  (landing page)
Selin Jessa
git_last_commit: 38d1fce
git_last_commit_date: 2022-04-26 11:45:10 -0400
nebbiolo1Linux (Ubuntu 20.04.4 LTS) / x86_64  OK    OK    OK  UNNEEDED, same version is already published
palomino3Windows Server 2022 Datacenter / x64  OK    OK    OK    OK  UNNEEDED, same version is already published
merida1macOS 10.14.6 Mojave / x86_64  OK    OK    OK    OK  UNNEEDED, same version is already published
Package 26/171HostnameOS / ArchINSTALLBUILDCHECKBUILD BIN
circRNAprofiler 1.10.0  (landing page)
Simona Aufiero
git_last_commit: 04b7e52
git_last_commit_date: 2022-04-26 11:57:26 -0400
nebbiolo1Linux (Ubuntu 20.04.4 LTS) / x86_64  OK    OK    OK  UNNEEDED, same version is already published
palomino3Windows Server 2022 Datacenter / x64  OK    OK    OK    OK  UNNEEDED, same version is already published
merida1macOS 10.14.6 Mojave / x86_64  OK    OK    OK    OK  UNNEEDED, same version is already published
Package 27/171HostnameOS / ArchINSTALLBUILDCHECKBUILD BIN
cliProfiler 1.2.0  (landing page)
You Zhou
git_last_commit: 4bb48bf
git_last_commit_date: 2022-04-26 12:19:03 -0400
nebbiolo1Linux (Ubuntu 20.04.4 LTS) / x86_64  OK    OK    OK  UNNEEDED, same version is already published
palomino3Windows Server 2022 Datacenter / x64  OK    OK    OK    OK  UNNEEDED, same version is already published
merida1macOS 10.14.6 Mojave / x86_64  OK    OK    OK    OK  UNNEEDED, same version is already published
Package 28/171HostnameOS / ArchINSTALLBUILDCHECKBUILD BIN
CNEr 1.32.0  (landing page)
Ge Tan
git_last_commit: 1c92f3d
git_last_commit_date: 2022-04-26 11:17:50 -0400
nebbiolo1Linux (Ubuntu 20.04.4 LTS) / x86_64  OK    OK    OK  UNNEEDED, same version is already published
palomino3Windows Server 2022 Datacenter / x64  OK    OK    WARNINGS    OK  UNNEEDED, same version is already published
merida1macOS 10.14.6 Mojave / x86_64  OK    OK    WARNINGS    OK  UNNEEDED, same version is already published
Package 29/171HostnameOS / ArchINSTALLBUILDCHECKBUILD BIN
coMET 1.28.0  (landing page)
Tiphaine Martin
git_last_commit: ea0bb8d
git_last_commit_date: 2022-04-26 11:23:19 -0400
nebbiolo1Linux (Ubuntu 20.04.4 LTS) / x86_64  OK    OK    OK  UNNEEDED, same version is already published
palomino3Windows Server 2022 Datacenter / x64  OK    OK    OK    OK  UNNEEDED, same version is already published
merida1macOS 10.14.6 Mojave / x86_64  OK    OK    OK    OK  UNNEEDED, same version is already published
Package 30/171HostnameOS / ArchINSTALLBUILDCHECKBUILD BIN
compartmap 1.14.0  (landing page)
Benjamin Johnson
git_last_commit: e33c33b
git_last_commit_date: 2022-04-26 11:52:08 -0400
nebbiolo1Linux (Ubuntu 20.04.4 LTS) / x86_64  OK    OK    OK  UNNEEDED, same version is already published
palomino3Windows Server 2022 Datacenter / x64  OK    OK    OK    OK  UNNEEDED, same version is already published
merida1macOS 10.14.6 Mojave / x86_64  OK    OK    OK    OK  UNNEEDED, same version is already published
Package 31/171HostnameOS / ArchINSTALLBUILDCHECKBUILD BIN
consensusSeekeR 1.24.0  (landing page)
Astrid Deschenes
git_last_commit: bed0114
git_last_commit_date: 2022-04-26 11:28:14 -0400
nebbiolo1Linux (Ubuntu 20.04.4 LTS) / x86_64  OK    OK    OK  UNNEEDED, same version is already published
palomino3Windows Server 2022 Datacenter / x64  OK    OK    OK    OK  UNNEEDED, same version is already published
merida1macOS 10.14.6 Mojave / x86_64  OK    OK    OK    OK  UNNEEDED, same version is already published
Package 32/171HostnameOS / ArchINSTALLBUILDCHECKBUILD BIN
contiBAIT 1.24.0  (landing page)
Kieran O'Neill
git_last_commit: c077022
git_last_commit_date: 2022-04-26 11:29:22 -0400
nebbiolo1Linux (Ubuntu 20.04.4 LTS) / x86_64  OK    OK    WARNINGS  UNNEEDED, same version is already published
palomino3Windows Server 2022 Datacenter / x64  OK    OK    WARNINGS    OK  UNNEEDED, same version is already published
merida1macOS 10.14.6 Mojave / x86_64  OK    OK    WARNINGS    OK  UNNEEDED, same version is already published
Package 33/171HostnameOS / ArchINSTALLBUILDCHECKBUILD BIN
conumee 1.30.0  (landing page)
Volker Hovestadt
git_last_commit: d79a2eb
git_last_commit_date: 2022-04-26 11:25:02 -0400
nebbiolo1Linux (Ubuntu 20.04.4 LTS) / x86_64  OK    OK    OK  UNNEEDED, same version is already published
palomino3Windows Server 2022 Datacenter / x64... NOT SUPPORTED ...
merida1macOS 10.14.6 Mojave / x86_64  OK    OK    TIMEOUT    OK  
Package 34/171HostnameOS / ArchINSTALLBUILDCHECKBUILD BIN
CoverageView 1.34.0  (landing page)
Ernesto Lowy
git_last_commit: 7ddf4ce
git_last_commit_date: 2022-04-26 11:19:18 -0400
nebbiolo1Linux (Ubuntu 20.04.4 LTS) / x86_64  OK    OK    WARNINGS  UNNEEDED, same version is already published
palomino3Windows Server 2022 Datacenter / x64... NOT SUPPORTED ...
merida1macOS 10.14.6 Mojave / x86_64  OK    OK    WARNINGS    OK  UNNEEDED, same version is already published
Package 35/171HostnameOS / ArchINSTALLBUILDCHECKBUILD BIN
CSSQ 1.8.0  (landing page)
Fan Lab at Georgia Institute of Technology
git_last_commit: 947dfe5
git_last_commit_date: 2022-04-26 12:01:38 -0400
nebbiolo1Linux (Ubuntu 20.04.4 LTS) / x86_64  OK    OK    OK  UNNEEDED, same version is already published
palomino3Windows Server 2022 Datacenter / x64  OK    OK    OK    OK  UNNEEDED, same version is already published
merida1macOS 10.14.6 Mojave / x86_64  OK    OK    OK    OK  UNNEEDED, same version is already published
Package 36/171HostnameOS / ArchINSTALLBUILDCHECKBUILD BIN
cummeRbund 2.38.0  (landing page)
Loyal A. Goff
git_last_commit: 4e6044b
git_last_commit_date: 2022-04-26 11:09:10 -0400
nebbiolo1Linux (Ubuntu 20.04.4 LTS) / x86_64  OK    OK    WARNINGS  UNNEEDED, same version is already published
palomino3Windows Server 2022 Datacenter / x64  OK    OK    WARNINGS    OK  UNNEEDED, same version is already published
merida1macOS 10.14.6 Mojave / x86_64  OK    OK    WARNINGS    OK  UNNEEDED, same version is already published
Package 37/171HostnameOS / ArchINSTALLBUILDCHECKBUILD BIN
customProDB 1.36.0  (landing page)
Xiaojing Wang
git_last_commit: cf3989d
git_last_commit_date: 2022-04-26 11:15:11 -0400
nebbiolo1Linux (Ubuntu 20.04.4 LTS) / x86_64  OK    OK    OK  UNNEEDED, same version is already published
palomino3Windows Server 2022 Datacenter / x64  OK    OK    OK    OK  UNNEEDED, same version is already published
merida1macOS 10.14.6 Mojave / x86_64  OK    OK    OK    OK  UNNEEDED, same version is already published
Package 38/171HostnameOS / ArchINSTALLBUILDCHECKBUILD BIN
dasper 1.6.0  (landing page)
David Zhang
git_last_commit: 06e29e2
git_last_commit_date: 2022-04-26 12:10:37 -0400
nebbiolo1Linux (Ubuntu 20.04.4 LTS) / x86_64  OK    OK    OK  UNNEEDED, same version is already published
palomino3Windows Server 2022 Datacenter / x64  OK    OK    OK    OK  UNNEEDED, same version is already published
merida1macOS 10.14.6 Mojave / x86_64  OK    OK    OK    OK  UNNEEDED, same version is already published
Package 39/171HostnameOS / ArchINSTALLBUILDCHECKBUILD BIN
DeepBlueR 1.22.0  (landing page)
Felipe Albrecht , Markus List
git_last_commit: 9c3f354
git_last_commit_date: 2022-04-26 11:33:37 -0400
nebbiolo1Linux (Ubuntu 20.04.4 LTS) / x86_64  OK    OK    OK  UNNEEDED, same version is already published
palomino3Windows Server 2022 Datacenter / x64  OK    OK    OK    OK  UNNEEDED, same version is already published
merida1macOS 10.14.6 Mojave / x86_64  OK    OK    OK    OK  UNNEEDED, same version is already published
Package 40/171HostnameOS / ArchINSTALLBUILDCHECKBUILD BIN
derfinder 1.30.0  (landing page)
Leonardo Collado-Torres
git_last_commit: 7dbc750
git_last_commit_date: 2022-04-26 11:21:49 -0400
nebbiolo1Linux (Ubuntu 20.04.4 LTS) / x86_64  OK    OK    OK  UNNEEDED, same version is already published
palomino3Windows Server 2022 Datacenter / x64  OK    OK    OK    OK  UNNEEDED, same version is already published
merida1macOS 10.14.6 Mojave / x86_64  OK    OK    OK    OK  UNNEEDED, same version is already published
Package 41/171HostnameOS / ArchINSTALLBUILDCHECKBUILD BIN
DEScan2 1.16.0  (landing page)
Dario Righelli
git_last_commit: 0b0ac15
git_last_commit_date: 2022-04-26 11:47:49 -0400
nebbiolo1Linux (Ubuntu 20.04.4 LTS) / x86_64  OK    OK    OK  UNNEEDED, same version is already published
palomino3Windows Server 2022 Datacenter / x64  OK    OK    OK    OK  UNNEEDED, same version is already published
merida1macOS 10.14.6 Mojave / x86_64  OK    OK    OK    OK  UNNEEDED, same version is already published
Package 42/171HostnameOS / ArchINSTALLBUILDCHECKBUILD BIN
diffHic 1.28.0  (landing page)
Aaron Lun
git_last_commit: aff6e4c
git_last_commit_date: 2022-04-26 11:25:14 -0400
nebbiolo1Linux (Ubuntu 20.04.4 LTS) / x86_64  OK    OK    OK  UNNEEDED, same version is already published
palomino3Windows Server 2022 Datacenter / x64  OK    OK    OK    OK  UNNEEDED, same version is already published
merida1macOS 10.14.6 Mojave / x86_64  OK    OK    OK    OK  UNNEEDED, same version is already published
Package 43/171HostnameOS / ArchINSTALLBUILDCHECKBUILD BIN
diffloop 1.24.0  (landing page)
Caleb Lareau
git_last_commit: d5d5f0f
git_last_commit_date: 2022-04-26 11:32:08 -0400
nebbiolo1Linux (Ubuntu 20.04.4 LTS) / x86_64  OK    OK    WARNINGS  UNNEEDED, same version is already published
palomino3Windows Server 2022 Datacenter / x64  OK    OK    WARNINGS    OK  UNNEEDED, same version is already published
merida1macOS 10.14.6 Mojave / x86_64  OK    OK    WARNINGS    OK  UNNEEDED, same version is already published
Package 44/171HostnameOS / ArchINSTALLBUILDCHECKBUILD BIN
diffUTR 1.4.0  (landing page)
Pierre-Luc Germain
git_last_commit: d5d208a
git_last_commit_date: 2022-04-26 12:15:48 -0400
nebbiolo1Linux (Ubuntu 20.04.4 LTS) / x86_64  OK    OK    OK  UNNEEDED, same version is already published
palomino3Windows Server 2022 Datacenter / x64  OK    OK    OK    OK  UNNEEDED, same version is already published
merida1macOS 10.14.6 Mojave / x86_64  OK    OK    OK    OK  UNNEEDED, same version is already published
Package 45/171HostnameOS / ArchINSTALLBUILDCHECKBUILD BIN
DMCFB 1.10.0  (landing page)
Farhad Shokoohi
git_last_commit: 8a845a7
git_last_commit_date: 2022-04-26 11:59:47 -0400
nebbiolo1Linux (Ubuntu 20.04.4 LTS) / x86_64  OK    OK    OK  UNNEEDED, same version is already published
palomino3Windows Server 2022 Datacenter / x64  OK    OK    OK    OK  UNNEEDED, same version is already published
merida1macOS 10.14.6 Mojave / x86_64  OK    OK    OK    OK  UNNEEDED, same version is already published
Package 46/171HostnameOS / ArchINSTALLBUILDCHECKBUILD BIN
DMCHMM 1.18.0  (landing page)
Farhad Shokoohi
git_last_commit: 870c787
git_last_commit_date: 2022-04-26 11:42:52 -0400
nebbiolo1Linux (Ubuntu 20.04.4 LTS) / x86_64  OK    OK    OK  UNNEEDED, same version is already published
palomino3Windows Server 2022 Datacenter / x64  OK    OK    WARNINGS    OK  UNNEEDED, same version is already published
merida1macOS 10.14.6 Mojave / x86_64  OK    OK    OK    OK  UNNEEDED, same version is already published
Package 47/171HostnameOS / ArchINSTALLBUILDCHECKBUILD BIN
dmrseq 1.16.0  (landing page)
Keegan Korthauer
git_last_commit: b65f67b
git_last_commit_date: 2022-04-26 11:47:37 -0400
nebbiolo1Linux (Ubuntu 20.04.4 LTS) / x86_64  OK    OK    OK  UNNEEDED, same version is already published
palomino3Windows Server 2022 Datacenter / x64  OK    OK    OK    OK  UNNEEDED, same version is already published
merida1macOS 10.14.6 Mojave / x86_64  OK    OK    OK    OK  UNNEEDED, same version is already published
Package 48/171HostnameOS / ArchINSTALLBUILDCHECKBUILD BIN
ELMER 2.20.0  (landing page)
Tiago Chedraoui Silva
git_last_commit: 414ba02
git_last_commit_date: 2022-04-26 11:25:44 -0400
nebbiolo1Linux (Ubuntu 20.04.4 LTS) / x86_64  OK    OK    WARNINGS  UNNEEDED, same version is already published
palomino3Windows Server 2022 Datacenter / x64  OK    OK    WARNINGS    OK  UNNEEDED, same version is already published
merida1macOS 10.14.6 Mojave / x86_64  OK    OK    WARNINGS    OK  UNNEEDED, same version is already published
Package 49/171HostnameOS / ArchINSTALLBUILDCHECKBUILD BIN
enhancerHomologSearch 1.2.0  (landing page)
Jianhong Ou
git_last_commit: 45c23eb
git_last_commit_date: 2022-04-26 12:17:35 -0400
nebbiolo1Linux (Ubuntu 20.04.4 LTS) / x86_64  OK    OK    OK  UNNEEDED, same version is already published
palomino3Windows Server 2022 Datacenter / x64  OK    OK    OK    OK  UNNEEDED, same version is already published
merida1macOS 10.14.6 Mojave / x86_64  OK    OK    OK    OK  UNNEEDED, same version is already published
Package 50/171HostnameOS / ArchINSTALLBUILDCHECKBUILD BIN
enrichTF 1.12.0  (landing page)
Zheng Wei
git_last_commit: 818d8c5
git_last_commit_date: 2022-04-26 11:55:36 -0400
nebbiolo1Linux (Ubuntu 20.04.4 LTS) / x86_64  OK    OK    OK  UNNEEDED, same version is already published
palomino3Windows Server 2022 Datacenter / x64  OK    OK    OK    OK  UNNEEDED, same version is already published
merida1macOS 10.14.6 Mojave / x86_64  OK    OK    OK    OK  UNNEEDED, same version is already published
Package 51/171HostnameOS / ArchINSTALLBUILDCHECKBUILD BIN
ensembldb 2.20.2  (landing page)
Johannes Rainer
git_last_commit: ac1fb83
git_last_commit_date: 2022-06-16 06:12:24 -0400
nebbiolo1Linux (Ubuntu 20.04.4 LTS) / x86_64  OK    OK    OK  UNNEEDED, same version is already published
palomino3Windows Server 2022 Datacenter / x64  OK    OK    OK    OK  UNNEEDED, same version is already published
merida1macOS 10.14.6 Mojave / x86_64  OK    OK    OK    OK  UNNEEDED, same version is already published
Package 52/171HostnameOS / ArchINSTALLBUILDCHECKBUILD BIN
EpiCompare 1.0.0  (landing page)
Sera Choi
git_last_commit: fba3043
git_last_commit_date: 2022-04-27 15:48:02 -0400
nebbiolo1Linux (Ubuntu 20.04.4 LTS) / x86_64  OK    OK    OK  UNNEEDED, same version is already published
palomino3Windows Server 2022 Datacenter / x64  OK    OK    OK    OK  UNNEEDED, same version is already published
merida1macOS 10.14.6 Mojave / x86_64  OK    OK    OK    OK  UNNEEDED, same version is already published
Package 53/171HostnameOS / ArchINSTALLBUILDCHECKBUILD BIN
epidecodeR 1.4.0  (landing page)
Kandarp Joshi
git_last_commit: 2aa2cce
git_last_commit_date: 2022-04-26 12:14:30 -0400
nebbiolo1Linux (Ubuntu 20.04.4 LTS) / x86_64  OK    OK    OK  UNNEEDED, same version is already published
palomino3Windows Server 2022 Datacenter / x64  OK    OK    OK    OK  UNNEEDED, same version is already published
merida1macOS 10.14.6 Mojave / x86_64  OK    OK    OK    OK  UNNEEDED, same version is already published
Package 54/171HostnameOS / ArchINSTALLBUILDCHECKBUILD BIN
epigraHMM 1.4.0  (landing page)
Pedro Baldoni
git_last_commit: 82b8a69
git_last_commit_date: 2022-04-26 12:16:15 -0400
nebbiolo1Linux (Ubuntu 20.04.4 LTS) / x86_64  OK    OK    OK  UNNEEDED, same version is already published
palomino3Windows Server 2022 Datacenter / x64  OK    OK    OK    OK  UNNEEDED, same version is already published
merida1macOS 10.14.6 Mojave / x86_64  OK    OK    OK    OK  UNNEEDED, same version is already published
Package 55/171HostnameOS / ArchINSTALLBUILDCHECKBUILD BIN
erma 1.12.0  (landing page)
VJ Carey
git_last_commit: 0e226dd
git_last_commit_date: 2022-04-26 11:25:55 -0400
nebbiolo1Linux (Ubuntu 20.04.4 LTS) / x86_64  OK    OK    OK  UNNEEDED, same version is already published
palomino3Windows Server 2022 Datacenter / x64  OK    OK    OK    OK  UNNEEDED, same version is already published
merida1macOS 10.14.6 Mojave / x86_64  OK    OK    OK    OK  UNNEEDED, same version is already published
Package 56/171HostnameOS / ArchINSTALLBUILDCHECKBUILD BIN
esATAC 1.18.0  (landing page)
Zheng Wei
git_last_commit: c659773
git_last_commit_date: 2022-04-26 11:45:27 -0400
nebbiolo1Linux (Ubuntu 20.04.4 LTS) / x86_64  OK    OK    WARNINGS  UNNEEDED, same version is already published
palomino3Windows Server 2022 Datacenter / x64  OK    OK    WARNINGS    OK  UNNEEDED, same version is already published
merida1macOS 10.14.6 Mojave / x86_64  OK    OK    WARNINGS    OK  UNNEEDED, same version is already published
Package 57/171HostnameOS / ArchINSTALLBUILDCHECKBUILD BIN
ExCluster 1.14.0  (landing page)
R. Matthew Tanner
git_last_commit: c5af4b3
git_last_commit_date: 2022-04-26 11:51:12 -0400
nebbiolo1Linux (Ubuntu 20.04.4 LTS) / x86_64  OK    OK    OK  UNNEEDED, same version is already published
palomino3Windows Server 2022 Datacenter / x64... NOT SUPPORTED ...
merida1macOS 10.14.6 Mojave / x86_64  OK    OK    OK    OK  UNNEEDED, same version is already published
Package 58/171HostnameOS / ArchINSTALLBUILDCHECKBUILD BIN
exomePeak2 1.8.1  (landing page)
Zhen Wei
git_last_commit: 497ed5b
git_last_commit_date: 2022-05-18 22:23:10 -0400
nebbiolo1Linux (Ubuntu 20.04.4 LTS) / x86_64  OK    OK    OK  UNNEEDED, same version is already published
palomino3Windows Server 2022 Datacenter / x64  OK    OK    OK    OK  UNNEEDED, same version is already published
merida1macOS 10.14.6 Mojave / x86_64  OK    OK    OK    OK  UNNEEDED, same version is already published
Package 59/171HostnameOS / ArchINSTALLBUILDCHECKBUILD BIN
extraChIPs 1.0.1  (landing page)
Stephen Pederson
git_last_commit: aef4dfe
git_last_commit_date: 2022-05-31 11:22:39 -0400
nebbiolo1Linux (Ubuntu 20.04.4 LTS) / x86_64  OK    OK    OK  UNNEEDED, same version is already published
palomino3Windows Server 2022 Datacenter / x64  OK    OK    OK    OK  UNNEEDED, same version is already published
merida1macOS 10.14.6 Mojave / x86_64  OK    OK    OK    OK  UNNEEDED, same version is already published
Package 60/171HostnameOS / ArchINSTALLBUILDCHECKBUILD BIN
fcScan 1.10.0  (landing page)
Pierre Khoueiry Abdullah El-Kurdi
git_last_commit: a393868
git_last_commit_date: 2022-04-26 11:58:13 -0400
nebbiolo1Linux (Ubuntu 20.04.4 LTS) / x86_64  OK    OK    OK  UNNEEDED, same version is already published
palomino3Windows Server 2022 Datacenter / x64  OK    OK    OK    OK  UNNEEDED, same version is already published
merida1macOS 10.14.6 Mojave / x86_64  OK    OK    OK    OK  UNNEEDED, same version is already published
Package 61/171HostnameOS / ArchINSTALLBUILDCHECKBUILD BIN
FindIT2 1.2.3  (landing page)
Guandong Shang
git_last_commit: 17dec46
git_last_commit_date: 2022-05-25 06:53:22 -0400
nebbiolo1Linux (Ubuntu 20.04.4 LTS) / x86_64  OK    OK    OK  UNNEEDED, same version is already published
palomino3Windows Server 2022 Datacenter / x64  OK    OK    OK    OK  UNNEEDED, same version is already published
merida1macOS 10.14.6 Mojave / x86_64  OK    OK    OK    OK  UNNEEDED, same version is already published
Package 62/171HostnameOS / ArchINSTALLBUILDCHECKBUILD BIN
FLAMES 1.2.1  (landing page)
Voogd Oliver
git_last_commit: 56f8306
git_last_commit_date: 2022-05-15 23:11:42 -0400
nebbiolo1Linux (Ubuntu 20.04.4 LTS) / x86_64  OK    OK    OK  UNNEEDED, same version is already published
palomino3Windows Server 2022 Datacenter / x64  OK    OK    OK    OK  UNNEEDED, same version is already published
merida1macOS 10.14.6 Mojave / x86_64  OK    OK    OK    OK  UNNEEDED, same version is already published
Package 63/171HostnameOS / ArchINSTALLBUILDCHECKBUILD BIN
genbankr 1.24.0  (landing page)
Gabriel Becker
git_last_commit: e4d05e1
git_last_commit_date: 2022-04-26 11:31:47 -0400
nebbiolo1Linux (Ubuntu 20.04.4 LTS) / x86_64  OK    OK    OK  UNNEEDED, same version is already published
palomino3Windows Server 2022 Datacenter / x64  OK    OK    OK    OK  UNNEEDED, same version is already published
merida1macOS 10.14.6 Mojave / x86_64  OK    OK    OK    OK  UNNEEDED, same version is already published
Package 64/171HostnameOS / ArchINSTALLBUILDCHECKBUILD BIN
geneAttribution 1.22.0  (landing page)
Arthur Wuster
git_last_commit: bd28194
git_last_commit_date: 2022-04-26 11:35:08 -0400
nebbiolo1Linux (Ubuntu 20.04.4 LTS) / x86_64  OK    OK    OK  UNNEEDED, same version is already published
palomino3Windows Server 2022 Datacenter / x64  OK    OK    OK    OK  UNNEEDED, same version is already published
merida1macOS 10.14.6 Mojave / x86_64  OK    OK    OK    OK  UNNEEDED, same version is already published
Package 65/171HostnameOS / ArchINSTALLBUILDCHECKBUILD BIN
GeneStructureTools 1.16.0  (landing page)
Beth Signal
git_last_commit: 25bbb44
git_last_commit_date: 2022-04-26 11:47:45 -0400
nebbiolo1Linux (Ubuntu 20.04.4 LTS) / x86_64  OK    OK    OK  UNNEEDED, same version is already published
palomino3Windows Server 2022 Datacenter / x64  OK    OK    OK    OK  UNNEEDED, same version is already published
merida1macOS 10.14.6 Mojave / x86_64  OK    OK    OK    OK  UNNEEDED, same version is already published
Package 66/171HostnameOS / ArchINSTALLBUILDCHECKBUILD BIN
geneXtendeR 1.22.0  (landing page)
Bohdan Khomtchouk
git_last_commit: 36e8d12
git_last_commit_date: 2022-04-26 11:36:15 -0400
nebbiolo1Linux (Ubuntu 20.04.4 LTS) / x86_64  OK    OK    WARNINGS  UNNEEDED, same version is already published
palomino3Windows Server 2022 Datacenter / x64  OK    OK    WARNINGS    OK  UNNEEDED, same version is already published
merida1macOS 10.14.6 Mojave / x86_64  OK    OK    WARNINGS    OK  UNNEEDED, same version is already published
Package 67/171HostnameOS / ArchINSTALLBUILDCHECKBUILD BIN
genomation 1.28.0  (landing page)
Altuna Akalin , Vedran Franke
git_last_commit: 4ef945a
git_last_commit_date: 2022-04-26 11:23:01 -0400
nebbiolo1Linux (Ubuntu 20.04.4 LTS) / x86_64  OK    OK    WARNINGS  UNNEEDED, same version is already published
palomino3Windows Server 2022 Datacenter / x64  OK    OK    WARNINGS    OK  UNNEEDED, same version is already published
merida1macOS 10.14.6 Mojave / x86_64  OK    OK    WARNINGS    OK  UNNEEDED, same version is already published
Package 68/171HostnameOS / ArchINSTALLBUILDCHECKBUILD BIN
GenomicFeatures 1.48.3  (landing page)
Bioconductor Package Maintainer
git_last_commit: b0ddea0
git_last_commit_date: 2022-05-31 12:25:31 -0400
nebbiolo1Linux (Ubuntu 20.04.4 LTS) / x86_64  OK    OK    OK  UNNEEDED, same version is already published
palomino3Windows Server 2022 Datacenter / x64  OK    OK    OK    OK  UNNEEDED, same version is already published
merida1macOS 10.14.6 Mojave / x86_64  OK    OK    OK    OK  UNNEEDED, same version is already published
Package 69/171HostnameOS / ArchINSTALLBUILDCHECKBUILD BIN
GenomicFiles 1.32.1  (landing page)
Bioconductor Package Maintainer
git_last_commit: abe840c
git_last_commit_date: 2022-05-06 13:19:35 -0400
nebbiolo1Linux (Ubuntu 20.04.4 LTS) / x86_64  OK    OK    OK  UNNEEDED, same version is already published
palomino3Windows Server 2022 Datacenter / x64  OK    OK    OK    OK  UNNEEDED, same version is already published
merida1macOS 10.14.6 Mojave / x86_64  OK    OK    OK    OK  UNNEEDED, same version is already published
Package 70/171HostnameOS / ArchINSTALLBUILDCHECKBUILD BIN
GenomicInteractions 1.30.0  (landing page)
Liz Ing-Simmons
git_last_commit: cc79eb1
git_last_commit_date: 2022-04-26 11:21:41 -0400
nebbiolo1Linux (Ubuntu 20.04.4 LTS) / x86_64  OK    OK    OK  UNNEEDED, same version is already published
palomino3Windows Server 2022 Datacenter / x64  OK    OK    OK    OK  UNNEEDED, same version is already published
merida1macOS 10.14.6 Mojave / x86_64  OK    OK    OK    OK  UNNEEDED, same version is already published
Package 71/171HostnameOS / ArchINSTALLBUILDCHECKBUILD BIN
genotypeeval 1.28.0  (landing page)
Jennifer Tom
git_last_commit: 7ffec7f
git_last_commit_date: 2022-04-26 11:26:16 -0400
nebbiolo1Linux (Ubuntu 20.04.4 LTS) / x86_64  OK    OK    WARNINGS  UNNEEDED, same version is already published
palomino3Windows Server 2022 Datacenter / x64  OK    OK    WARNINGS    OK  UNNEEDED, same version is already published
merida1macOS 10.14.6 Mojave / x86_64  OK    OK    WARNINGS    OK  UNNEEDED, same version is already published
Package 72/171HostnameOS / ArchINSTALLBUILDCHECKBUILD BIN
ggbio 1.44.1  (landing page)
Michael Lawrence
git_last_commit: 0301d94
git_last_commit_date: 2022-06-22 15:18:55 -0400
nebbiolo1Linux (Ubuntu 20.04.4 LTS) / x86_64  OK    OK    WARNINGS  YES
palomino3Windows Server 2022 Datacenter / x64  OK    OK    WARNINGS    OK  YES
merida1macOS 10.14.6 Mojave / x86_64  OK    OK    WARNINGS    OK  YES
Package 73/171HostnameOS / ArchINSTALLBUILDCHECKBUILD BIN
gmapR 1.38.0  (landing page)
Michael Lawrence
git_last_commit: f762532
git_last_commit_date: 2022-04-26 11:11:32 -0400
nebbiolo1Linux (Ubuntu 20.04.4 LTS) / x86_64  OK    OK    WARNINGS  UNNEEDED, same version is already published
palomino3Windows Server 2022 Datacenter / x64... NOT SUPPORTED ...
merida1macOS 10.14.6 Mojave / x86_64  OK    OK    WARNINGS    OK  UNNEEDED, same version is already published
Package 74/171HostnameOS / ArchINSTALLBUILDCHECKBUILD BIN
gmoviz 1.8.0  (landing page)
Kathleen Zeglinski
git_last_commit: 0b320c6
git_last_commit_date: 2022-04-26 12:03:37 -0400
nebbiolo1Linux (Ubuntu 20.04.4 LTS) / x86_64  OK    OK    OK  UNNEEDED, same version is already published
palomino3Windows Server 2022 Datacenter / x64  OK    OK    OK    OK  UNNEEDED, same version is already published
merida1macOS 10.14.6 Mojave / x86_64  OK    OK    OK    OK  UNNEEDED, same version is already published
Package 75/171HostnameOS / ArchINSTALLBUILDCHECKBUILD BIN
GOTHiC 1.32.0  (landing page)
Borbala Mifsud
git_last_commit: ba72ba3
git_last_commit_date: 2022-04-26 11:57:11 -0400
nebbiolo1Linux (Ubuntu 20.04.4 LTS) / x86_64  OK    OK    OK  UNNEEDED, same version is already published
palomino3Windows Server 2022 Datacenter / x64  OK    OK    OK    OK  UNNEEDED, same version is already published
merida1macOS 10.14.6 Mojave / x86_64  OK    OK    OK    OK  UNNEEDED, same version is already published
Package 76/171HostnameOS / ArchINSTALLBUILDCHECKBUILD BIN
GreyListChIP 1.28.1  (landing page)
Rory Stark
git_last_commit: 4148644
git_last_commit_date: 2022-05-13 08:06:21 -0400
nebbiolo1Linux (Ubuntu 20.04.4 LTS) / x86_64  OK    OK    OK  UNNEEDED, same version is already published
palomino3Windows Server 2022 Datacenter / x64  OK    OK    OK    OK  UNNEEDED, same version is already published
merida1macOS 10.14.6 Mojave / x86_64  OK    OK    OK    OK  UNNEEDED, same version is already published
Package 77/171HostnameOS / ArchINSTALLBUILDCHECKBUILD BIN
groHMM 1.30.1  (landing page)
Anusha Nagari , Tulip Nandu , W. Lee Kraus
git_last_commit: efe650e
git_last_commit_date: 2022-05-11 18:52:12 -0400
nebbiolo1Linux (Ubuntu 20.04.4 LTS) / x86_64  OK    OK    OK  UNNEEDED, same version is already published
palomino3Windows Server 2022 Datacenter / x64  OK    OK    OK    OK  UNNEEDED, same version is already published
merida1macOS 10.14.6 Mojave / x86_64  OK    OK    OK    OK  UNNEEDED, same version is already published
Package 78/171HostnameOS / ArchINSTALLBUILDCHECKBUILD BIN
Guitar 2.12.0  (landing page)
Jia Meng
git_last_commit: 864335b
git_last_commit_date: 2022-04-26 11:27:26 -0400
nebbiolo1Linux (Ubuntu 20.04.4 LTS) / x86_64  OK    OK    OK  UNNEEDED, same version is already published
palomino3Windows Server 2022 Datacenter / x64  OK    OK    OK    OK  UNNEEDED, same version is already published
merida1macOS 10.14.6 Mojave / x86_64  OK    OK    OK    OK  UNNEEDED, same version is already published
Package 79/171HostnameOS / ArchINSTALLBUILDCHECKBUILD BIN
Gviz 1.40.1  (landing page)
Robert Ivanek
git_last_commit: d218437
git_last_commit_date: 2022-05-03 13:45:39 -0400
nebbiolo1Linux (Ubuntu 20.04.4 LTS) / x86_64  OK    OK    OK  UNNEEDED, same version is already published
palomino3Windows Server 2022 Datacenter / x64  OK    OK    OK    OK  UNNEEDED, same version is already published
merida1macOS 10.14.6 Mojave / x86_64  OK    OK    OK    OK  UNNEEDED, same version is already published
Package 80/171HostnameOS / ArchINSTALLBUILDCHECKBUILD BIN
HelloRanges 1.22.0  (landing page)
Michael Lawrence
git_last_commit: 7a1e113
git_last_commit_date: 2022-04-26 11:36:49 -0400
nebbiolo1Linux (Ubuntu 20.04.4 LTS) / x86_64  OK    OK    OK  UNNEEDED, same version is already published
palomino3Windows Server 2022 Datacenter / x64  OK    OK    OK    OK  UNNEEDED, same version is already published
merida1macOS 10.14.6 Mojave / x86_64  OK    OK    OK    OK  UNNEEDED, same version is already published
Package 81/171HostnameOS / ArchINSTALLBUILDCHECKBUILD BIN
hiAnnotator 1.30.0  (landing page)
Nirav V Malani
git_last_commit: d94fe90
git_last_commit_date: 2022-04-26 11:19:49 -0400
nebbiolo1Linux (Ubuntu 20.04.4 LTS) / x86_64  OK    OK    OK  UNNEEDED, same version is already published
palomino3Windows Server 2022 Datacenter / x64  OK    OK    OK    OK  UNNEEDED, same version is already published
merida1macOS 10.14.6 Mojave / x86_64  OK    OK    OK    OK  UNNEEDED, same version is already published
Package 82/171HostnameOS / ArchINSTALLBUILDCHECKBUILD BIN
HiCDCPlus 1.4.2  (landing page)
Merve Sahin
git_last_commit: 70d7860
git_last_commit_date: 2022-06-06 10:44:47 -0400
nebbiolo1Linux (Ubuntu 20.04.4 LTS) / x86_64  OK    OK    OK  UNNEEDED, same version is already published
palomino3Windows Server 2022 Datacenter / x64  OK    OK    OK    OK  UNNEEDED, same version is already published
merida1macOS 10.14.6 Mojave / x86_64  OK    OK    OK    OK  UNNEEDED, same version is already published
Package 83/171HostnameOS / ArchINSTALLBUILDCHECKBUILD BIN
HiTC 1.40.0  (landing page)
Nicolas Servant
git_last_commit: 35a87db
git_last_commit_date: 2022-04-26 11:10:49 -0400
nebbiolo1Linux (Ubuntu 20.04.4 LTS) / x86_64  OK    OK    OK  UNNEEDED, same version is already published
palomino3Windows Server 2022 Datacenter / x64  OK    OK    OK    OK  UNNEEDED, same version is already published
merida1macOS 10.14.6 Mojave / x86_64  OK    OK    OK    OK  UNNEEDED, same version is already published
Package 84/171HostnameOS / ArchINSTALLBUILDCHECKBUILD BIN
HTSeqGenie 4.26.0  (landing page)
Jens Reeder
git_last_commit: a3c4a34
git_last_commit_date: 2022-04-26 11:12:25 -0400
nebbiolo1Linux (Ubuntu 20.04.4 LTS) / x86_64  OK    OK    ERROR  
palomino3Windows Server 2022 Datacenter / x64... NOT SUPPORTED ...
merida1macOS 10.14.6 Mojave / x86_64... NOT SUPPORTED ...
Package 85/171HostnameOS / ArchINSTALLBUILDCHECKBUILD BIN
icetea 1.14.0  (landing page)
Vivek Bhardwaj
git_last_commit: 5220193
git_last_commit_date: 2022-04-26 11:49:42 -0400
nebbiolo1Linux (Ubuntu 20.04.4 LTS) / x86_64  OK    OK    OK  UNNEEDED, same version is already published
palomino3Windows Server 2022 Datacenter / x64  OK    OK    OK    OK  UNNEEDED, same version is already published
merida1macOS 10.14.6 Mojave / x86_64  OK    OK    OK    OK  UNNEEDED, same version is already published
Package 86/171HostnameOS / ArchINSTALLBUILDCHECKBUILD BIN
IdeoViz 1.32.0  (landing page)
Shraddha Pai
git_last_commit: 4d9ebcd
git_last_commit_date: 2022-04-26 11:21:58 -0400
nebbiolo1Linux (Ubuntu 20.04.4 LTS) / x86_64  OK    OK    WARNINGS  UNNEEDED, same version is already published
palomino3Windows Server 2022 Datacenter / x64  OK    OK    WARNINGS    OK  UNNEEDED, same version is already published
merida1macOS 10.14.6 Mojave / x86_64  OK    OK    WARNINGS    OK  UNNEEDED, same version is already published
Package 87/171HostnameOS / ArchINSTALLBUILDCHECKBUILD BIN
igvR 1.16.0  (landing page)
Paul Shannon
git_last_commit: 9b7541b
git_last_commit_date: 2022-04-26 11:48:52 -0400
nebbiolo1Linux (Ubuntu 20.04.4 LTS) / x86_64  OK    OK    WARNINGS  UNNEEDED, same version is already published
palomino3Windows Server 2022 Datacenter / x64  OK    OK    WARNINGS    OK  UNNEEDED, same version is already published
merida1macOS 10.14.6 Mojave / x86_64  OK    OK    WARNINGS    OK  UNNEEDED, same version is already published
Package 88/171HostnameOS / ArchINSTALLBUILDCHECKBUILD BIN
INSPEcT 1.26.0  (landing page)
Stefano de Pretis
git_last_commit: 8ba12ec
git_last_commit_date: 2022-04-26 11:26:03 -0400
nebbiolo1Linux (Ubuntu 20.04.4 LTS) / x86_64  OK    OK    OK  UNNEEDED, same version is already published
palomino3Windows Server 2022 Datacenter / x64  OK    OK    OK    OK  UNNEEDED, same version is already published
merida1macOS 10.14.6 Mojave / x86_64  OK    OK    OK    OK  UNNEEDED, same version is already published
Package 89/171HostnameOS / ArchINSTALLBUILDCHECKBUILD BIN
InTAD 1.16.0  (landing page)
Konstantin Okonechnikov
git_last_commit: 8e20580
git_last_commit_date: 2022-04-26 11:48:35 -0400
nebbiolo1Linux (Ubuntu 20.04.4 LTS) / x86_64  OK    OK    OK  UNNEEDED, same version is already published
palomino3Windows Server 2022 Datacenter / x64  OK    OK    OK    OK  UNNEEDED, same version is already published
merida1macOS 10.14.6 Mojave / x86_64  OK    OK    OK    OK  UNNEEDED, same version is already published
Package 90/171HostnameOS / ArchINSTALLBUILDCHECKBUILD BIN
IsoformSwitchAnalyzeR 1.18.0  (landing page)
Kristoffer Vitting-Seerup
git_last_commit: b0f581c
git_last_commit_date: 2022-04-26 11:41:17 -0400
nebbiolo1Linux (Ubuntu 20.04.4 LTS) / x86_64  OK    OK    OK  UNNEEDED, same version is already published
palomino3Windows Server 2022 Datacenter / x64  OK    OK    OK    OK  UNNEEDED, same version is already published
merida1macOS 10.14.6 Mojave / x86_64  OK    OK    OK    OK  UNNEEDED, same version is already published
Package 91/171HostnameOS / ArchINSTALLBUILDCHECKBUILD BIN
karyoploteR 1.22.0  (landing page)
Bernat Gel
git_last_commit: c0d3786
git_last_commit_date: 2022-04-26 11:38:43 -0400
nebbiolo1Linux (Ubuntu 20.04.4 LTS) / x86_64  OK    OK    OK  UNNEEDED, same version is already published
palomino3Windows Server 2022 Datacenter / x64  OK    OK    OK    OK  UNNEEDED, same version is already published
merida1macOS 10.14.6 Mojave / x86_64  OK    OK    OK    OK  UNNEEDED, same version is already published
Package 92/171HostnameOS / ArchINSTALLBUILDCHECKBUILD BIN
m6Aboost 1.2.0  (landing page)
You Zhou
git_last_commit: 7b19574
git_last_commit_date: 2022-04-26 12:16:41 -0400
nebbiolo1Linux (Ubuntu 20.04.4 LTS) / x86_64  OK    OK    OK  UNNEEDED, same version is already published
palomino3Windows Server 2022 Datacenter / x64  OK    OK    OK    OK  UNNEEDED, same version is already published
merida1macOS 10.14.6 Mojave / x86_64  OK    OK    OK    OK  UNNEEDED, same version is already published
Package 93/171HostnameOS / ArchINSTALLBUILDCHECKBUILD BIN
MACPET 1.16.0  (landing page)
Ioannis Vardaxis
git_last_commit: 61832fb
git_last_commit_date: 2022-04-26 11:47:25 -0400
nebbiolo1Linux (Ubuntu 20.04.4 LTS) / x86_64  ERROR    ERROR  skipped
palomino3Windows Server 2022 Datacenter / x64  ERROR    ERROR  skippedskipped
merida1macOS 10.14.6 Mojave / x86_64  ERROR    ERROR  skippedskipped
Package 94/171HostnameOS / ArchINSTALLBUILDCHECKBUILD BIN
MADSEQ 1.22.0  (landing page)
Yu Kong
git_last_commit: 25b8bbd
git_last_commit_date: 2022-04-26 11:32:46 -0400
nebbiolo1Linux (Ubuntu 20.04.4 LTS) / x86_64  OK    OK    OK  UNNEEDED, same version is already published
palomino3Windows Server 2022 Datacenter / x64  OK    OK    OK    OK  UNNEEDED, same version is already published
merida1macOS 10.14.6 Mojave / x86_64  OK    OK    OK    OK  UNNEEDED, same version is already published
Package 95/171HostnameOS / ArchINSTALLBUILDCHECKBUILD BIN
maser 1.14.0  (landing page)
Diogo F.T. Veiga
git_last_commit: c6e1d3b
git_last_commit_date: 2022-04-26 11:49:25 -0400
nebbiolo1Linux (Ubuntu 20.04.4 LTS) / x86_64  OK    OK    OK  UNNEEDED, same version is already published
palomino3Windows Server 2022 Datacenter / x64  OK    OK    OK    OK  UNNEEDED, same version is already published
merida1macOS 10.14.6 Mojave / x86_64  OK    OK    OK    OK  UNNEEDED, same version is already published
Package 96/171HostnameOS / ArchINSTALLBUILDCHECKBUILD BIN
MEDIPS 1.48.0  (landing page)
Lukas Chavez
git_last_commit: 609412f
git_last_commit_date: 2022-04-26 11:06:21 -0400
nebbiolo1Linux (Ubuntu 20.04.4 LTS) / x86_64  OK    OK    OK  UNNEEDED, same version is already published
palomino3Windows Server 2022 Datacenter / x64  OK    OK    OK    OK  UNNEEDED, same version is already published
merida1macOS 10.14.6 Mojave / x86_64  OK    OK    OK    OK  UNNEEDED, same version is already published
Package 97/171HostnameOS / ArchINSTALLBUILDCHECKBUILD BIN
metagene 2.28.0  (landing page)
Charles Joly Beauparlant
git_last_commit: 7b0217b
git_last_commit_date: 2022-04-26 11:20:50 -0400
nebbiolo1Linux (Ubuntu 20.04.4 LTS) / x86_64  OK    OK    WARNINGS  UNNEEDED, same version is already published
palomino3Windows Server 2022 Datacenter / x64  OK    OK    WARNINGS    OK  UNNEEDED, same version is already published
merida1macOS 10.14.6 Mojave / x86_64  OK    OK    WARNINGS    OK  UNNEEDED, same version is already published
Package 98/171HostnameOS / ArchINSTALLBUILDCHECKBUILD BIN
metagene2 1.12.0  (landing page)
Eric Fournier
git_last_commit: 9345b06
git_last_commit_date: 2022-04-26 11:55:42 -0400
nebbiolo1Linux (Ubuntu 20.04.4 LTS) / x86_64  OK    OK    OK  UNNEEDED, same version is already published
palomino3Windows Server 2022 Datacenter / x64  OK    OK    OK    OK  UNNEEDED, same version is already published
merida1macOS 10.14.6 Mojave / x86_64  OK    OK    OK    OK  UNNEEDED, same version is already published
Package 99/171HostnameOS / ArchINSTALLBUILDCHECKBUILD BIN
metaseqR2 1.8.0  (landing page)
Panagiotis Moulos
git_last_commit: 7d5938c
git_last_commit_date: 2022-04-26 12:05:14 -0400
nebbiolo1Linux (Ubuntu 20.04.4 LTS) / x86_64  OK    OK    WARNINGS  UNNEEDED, same version is already published
palomino3Windows Server 2022 Datacenter / x64  OK    OK    WARNINGS    OK  NO, package depends on 'DSS' which is not available
merida1macOS 10.14.6 Mojave / x86_64  OK    OK    WARNINGS    OK  UNNEEDED, same version is already published
Package 100/171HostnameOS / ArchINSTALLBUILDCHECKBUILD BIN
methrix 1.10.0  (landing page)
Anand Mayakonda
git_last_commit: 321ca92
git_last_commit_date: 2022-04-26 12:00:56 -0400
nebbiolo1Linux (Ubuntu 20.04.4 LTS) / x86_64  OK    OK    OK  UNNEEDED, same version is already published
palomino3Windows Server 2022 Datacenter / x64  OK    OK    OK    OK  UNNEEDED, same version is already published
merida1macOS 10.14.6 Mojave / x86_64  OK    OK    OK    OK  UNNEEDED, same version is already published
Package 101/171HostnameOS / ArchINSTALLBUILDCHECKBUILD BIN
methylKit 1.22.0  (landing page)
Altuna Akalin , Alexander Gosdschan
git_last_commit: 29b567d
git_last_commit_date: 2022-04-26 11:33:41 -0400
nebbiolo1Linux (Ubuntu 20.04.4 LTS) / x86_64  OK    OK    WARNINGS  UNNEEDED, same version is already published
palomino3Windows Server 2022 Datacenter / x64  OK    OK    WARNINGS    OK  UNNEEDED, same version is already published
merida1macOS 10.14.6 Mojave / x86_64  OK    OK    WARNINGS    OK  UNNEEDED, same version is already published
Package 102/171HostnameOS / ArchINSTALLBUILDCHECKBUILD BIN
MethylSeekR 1.36.0  (landing page)
Lukas Burger
git_last_commit: 6024af5
git_last_commit_date: 2022-04-26 11:13:26 -0400
nebbiolo1Linux (Ubuntu 20.04.4 LTS) / x86_64  OK    OK    OK  UNNEEDED, same version is already published
palomino3Windows Server 2022 Datacenter / x64  OK    OK    OK    OK  UNNEEDED, same version is already published
merida1macOS 10.14.6 Mojave / x86_64  OK    OK    OK    OK  UNNEEDED, same version is already published
Package 103/171HostnameOS / ArchINSTALLBUILDCHECKBUILD BIN
motifbreakR 2.10.0  (landing page)
Simon Gert Coetzee
git_last_commit: 26aa0e4
git_last_commit_date: 2022-04-26 11:27:11 -0400
nebbiolo1Linux (Ubuntu 20.04.4 LTS) / x86_64  OK    OK    OK  UNNEEDED, same version is already published
palomino3Windows Server 2022 Datacenter / x64  OK    OK    WARNINGS    OK  UNNEEDED, same version is already published
merida1macOS 10.14.6 Mojave / x86_64  OK    OK    OK    OK  UNNEEDED, same version is already published
Package 104/171HostnameOS / ArchINSTALLBUILDCHECKBUILD BIN
MotifDb 1.38.0  (landing page)
Paul Shannon
git_last_commit: d45f2bf
git_last_commit_date: 2022-04-26 11:11:45 -0400
nebbiolo1Linux (Ubuntu 20.04.4 LTS) / x86_64  OK    OK    WARNINGS  UNNEEDED, same version is already published
palomino3Windows Server 2022 Datacenter / x64  OK    OK    WARNINGS    OK  UNNEEDED, same version is already published
merida1macOS 10.14.6 Mojave / x86_64  OK    OK    WARNINGS    OK  UNNEEDED, same version is already published
Package 105/171HostnameOS / ArchINSTALLBUILDCHECKBUILD BIN
multicrispr 1.6.0  (landing page)
Aditya Bhagwat
git_last_commit: 0f3e6be
git_last_commit_date: 2022-04-26 12:05:55 -0400
nebbiolo1Linux (Ubuntu 20.04.4 LTS) / x86_64  OK    OK    OK  UNNEEDED, same version is already published
palomino3Windows Server 2022 Datacenter / x64  OK    OK    OK    OK  UNNEEDED, same version is already published
merida1macOS 10.14.6 Mojave / x86_64  OK    OK    OK    OK  UNNEEDED, same version is already published
Package 106/171HostnameOS / ArchINSTALLBUILDCHECKBUILD BIN
MungeSumstats 1.4.5  (landing page)
Alan Murphy
git_last_commit: 0da13c2
git_last_commit_date: 2022-06-08 13:06:54 -0400
nebbiolo1Linux (Ubuntu 20.04.4 LTS) / x86_64  OK    OK    OK  UNNEEDED, same version is already published
palomino3Windows Server 2022 Datacenter / x64  OK    OK    OK    OK  UNNEEDED, same version is already published
merida1macOS 10.14.6 Mojave / x86_64  OK    OK    OK    OK  UNNEEDED, same version is already published
Package 107/171HostnameOS / ArchINSTALLBUILDCHECKBUILD BIN
NADfinder 1.20.0  (landing page)
Jianhong Ou
git_last_commit: bc016dc
git_last_commit_date: 2022-04-26 11:40:01 -0400
nebbiolo1Linux (Ubuntu 20.04.4 LTS) / x86_64  OK    OK    OK  UNNEEDED, same version is already published
palomino3Windows Server 2022 Datacenter / x64  OK    OK    OK    OK  UNNEEDED, same version is already published
merida1macOS 10.14.6 Mojave / x86_64  OK    OK    OK    OK  UNNEEDED, same version is already published
Package 108/171HostnameOS / ArchINSTALLBUILDCHECKBUILD BIN
nearBynding 1.6.0  (landing page)
Veronica Busa
git_last_commit: 951bb7c
git_last_commit_date: 2022-04-26 12:08:28 -0400
nebbiolo1Linux (Ubuntu 20.04.4 LTS) / x86_64  OK    OK    OK  UNNEEDED, same version is already published
palomino3Windows Server 2022 Datacenter / x64  OK    OK    OK    OK  UNNEEDED, same version is already published
merida1macOS 10.14.6 Mojave / x86_64  OK    OK    OK    OK  UNNEEDED, same version is already published
Package 109/171HostnameOS / ArchINSTALLBUILDCHECKBUILD BIN
NoRCE 1.8.0  (landing page)
Gulden Olgun
git_last_commit: ffeef02
git_last_commit_date: 2022-04-26 12:03:27 -0400
nebbiolo1Linux (Ubuntu 20.04.4 LTS) / x86_64  OK    OK    OK  UNNEEDED, same version is already published
palomino3Windows Server 2022 Datacenter / x64  OK    OK    OK    OK  UNNEEDED, same version is already published
merida1macOS 10.14.6 Mojave / x86_64  OK    OK    OK    OK  UNNEEDED, same version is already published
Package 110/171HostnameOS / ArchINSTALLBUILDCHECKBUILD BIN
normr 1.22.0  (landing page)
Johannes Helmuth
git_last_commit: b5d82ba
git_last_commit_date: 2022-04-26 11:33:08 -0400
nebbiolo1Linux (Ubuntu 20.04.4 LTS) / x86_64  OK    OK    WARNINGS  UNNEEDED, same version is already published
palomino3Windows Server 2022 Datacenter / x64  OK    OK    WARNINGS    OK  UNNEEDED, same version is already published
merida1macOS 10.14.6 Mojave / x86_64  OK    OK    WARNINGS    OK  UNNEEDED, same version is already published
Package 111/171HostnameOS / ArchINSTALLBUILDCHECKBUILD BIN
NxtIRFcore 1.2.1  (landing page)
Alex Chit Hei Wong
git_last_commit: b13e810
git_last_commit_date: 2022-06-22 07:29:58 -0400
nebbiolo1Linux (Ubuntu 20.04.4 LTS) / x86_64  OK    OK    OK  YES
palomino3Windows Server 2022 Datacenter / x64  OK    OK    OK    OK  YES
merida1macOS 10.14.6 Mojave / x86_64  OK    OK    OK    OK  YES
Package 112/171HostnameOS / ArchINSTALLBUILDCHECKBUILD BIN
ODER 1.2.0  (landing page)
David Zhang
git_last_commit: 933b5a2
git_last_commit_date: 2022-04-26 12:18:53 -0400
nebbiolo1Linux (Ubuntu 20.04.4 LTS) / x86_64  OK    OK    OK  UNNEEDED, same version is already published
palomino3Windows Server 2022 Datacenter / x64  OK    OK    OK    OK  UNNEEDED, same version is already published
merida1macOS 10.14.6 Mojave / x86_64  OK    OK    OK    OK  UNNEEDED, same version is already published
Package 113/171HostnameOS / ArchINSTALLBUILDCHECKBUILD BIN
OGRE 1.0.0  (landing page)
Sven Berres
git_last_commit: 5f9a0d1
git_last_commit_date: 2022-04-26 12:20:43 -0400
nebbiolo1Linux (Ubuntu 20.04.4 LTS) / x86_64  OK    OK    OK  UNNEEDED, same version is already published
palomino3Windows Server 2022 Datacenter / x64  OK    OK    OK    OK  UNNEEDED, same version is already published
merida1macOS 10.14.6 Mojave / x86_64  OK    OK    OK    OK  UNNEEDED, same version is already published
Package 114/171HostnameOS / ArchINSTALLBUILDCHECKBUILD BIN
OMICsPCA 1.14.0  (landing page)
Subhadeep Das
git_last_commit: 7077ea9
git_last_commit_date: 2022-04-26 11:51:14 -0400
nebbiolo1Linux (Ubuntu 20.04.4 LTS) / x86_64  OK    OK    OK  UNNEEDED, same version is already published
palomino3Windows Server 2022 Datacenter / x64  OK    OK    OK    OK  UNNEEDED, same version is already published
merida1macOS 10.14.6 Mojave / x86_64  OK    OK    OK    OK  UNNEEDED, same version is already published
Package 115/171HostnameOS / ArchINSTALLBUILDCHECKBUILD BIN
ORFhunteR 1.4.0  (landing page)
Vasily V. Grinev
git_last_commit: ec884eb
git_last_commit_date: 2022-04-26 12:12:33 -0400
nebbiolo1Linux (Ubuntu 20.04.4 LTS) / x86_64  OK    OK    OK  UNNEEDED, same version is already published
palomino3Windows Server 2022 Datacenter / x64  OK    OK    OK    OK  UNNEEDED, same version is already published
merida1macOS 10.14.6 Mojave / x86_64  OK    OK    OK    NA  
Package 116/171HostnameOS / ArchINSTALLBUILDCHECKBUILD BIN
ORFik 1.16.0  (landing page)
Haakon Tjeldnes
git_last_commit: a6d1f5b
git_last_commit_date: 2022-04-26 11:49:15 -0400
nebbiolo1Linux (Ubuntu 20.04.4 LTS) / x86_64  OK    OK    ERROR  
palomino3Windows Server 2022 Datacenter / x64  OK    OK    ERROR    OK  
merida1macOS 10.14.6 Mojave / x86_64  OK    OK    ERROR    NA  
Package 117/171HostnameOS / ArchINSTALLBUILDCHECKBUILD BIN
PAST 1.12.0  (landing page)
Thrash Adam
git_last_commit: 4659dad
git_last_commit_date: 2022-04-26 11:56:12 -0400
nebbiolo1Linux (Ubuntu 20.04.4 LTS) / x86_64  OK    OK    WARNINGS  UNNEEDED, same version is already published
palomino3Windows Server 2022 Datacenter / x64  OK    OK    WARNINGS    OK  UNNEEDED, same version is already published
merida1macOS 10.14.6 Mojave / x86_64  OK    OK    WARNINGS    NA  
Package 118/171HostnameOS / ArchINSTALLBUILDCHECKBUILD BIN
periodicDNA 1.6.0  (landing page)
Jacques Serizay
git_last_commit: dd2df94
git_last_commit_date: 2022-04-26 12:08:09 -0400
nebbiolo1Linux (Ubuntu 20.04.4 LTS) / x86_64  OK    OK    WARNINGS  UNNEEDED, same version is already published
palomino3Windows Server 2022 Datacenter / x64  OK    OK    WARNINGS    OK  UNNEEDED, same version is already published
merida1macOS 10.14.6 Mojave / x86_64  OK    OK    WARNINGS    NA  
Package 119/171HostnameOS / ArchINSTALLBUILDCHECKBUILD BIN
plyranges 1.16.0  (landing page)
Stuart Lee
git_last_commit: 6d76588
git_last_commit_date: 2022-04-26 11:48:19 -0400
nebbiolo1Linux (Ubuntu 20.04.4 LTS) / x86_64  OK    OK    WARNINGS  UNNEEDED, same version is already published
palomino3Windows Server 2022 Datacenter / x64  OK    OK    WARNINGS    OK  UNNEEDED, same version is already published
merida1macOS 10.14.6 Mojave / x86_64  OK    OK    WARNINGS    NA  
Package 120/171HostnameOS / ArchINSTALLBUILDCHECKBUILD BIN
pram 1.12.0  (landing page)
Peng Liu
git_last_commit: 181f95b
git_last_commit_date: 2022-04-26 11:53:41 -0400
nebbiolo1Linux (Ubuntu 20.04.4 LTS) / x86_64  OK    OK    OK  UNNEEDED, same version is already published
palomino3Windows Server 2022 Datacenter / x64  OK    OK    OK    OK  UNNEEDED, same version is already published
merida1macOS 10.14.6 Mojave / x86_64  OK    OK    OK    NA  
Package 121/171HostnameOS / ArchINSTALLBUILDCHECKBUILD BIN
primirTSS 1.14.0  (landing page)
Pumin Li
git_last_commit: 9d8ddfa
git_last_commit_date: 2022-04-26 11:50:49 -0400
nebbiolo1Linux (Ubuntu 20.04.4 LTS) / x86_64  OK    OK    WARNINGS  UNNEEDED, same version is already published
palomino3Windows Server 2022 Datacenter / x64  OK    OK    WARNINGS    OK  UNNEEDED, same version is already published
merida1macOS 10.14.6 Mojave / x86_64  OK    OK    WARNINGS    NA  
Package 122/171HostnameOS / ArchINSTALLBUILDCHECKBUILD BIN
proBAMr 1.30.0  (landing page)
Xiaojing Wang
git_last_commit: efcd524
git_last_commit_date: 2022-04-26 11:22:00 -0400
nebbiolo1Linux (Ubuntu 20.04.4 LTS) / x86_64  OK    OK    OK  UNNEEDED, same version is already published
palomino3Windows Server 2022 Datacenter / x64  OK    OK    OK    OK  UNNEEDED, same version is already published
merida1macOS 10.14.6 Mojave / x86_64  OK    OK    OK    NA  
Package 123/171HostnameOS / ArchINSTALLBUILDCHECKBUILD BIN
profileplyr 1.12.0  (landing page)
Tom Carroll , Doug Barrows
git_last_commit: cabfef2
git_last_commit_date: 2022-04-26 11:54:38 -0400
nebbiolo1Linux (Ubuntu 20.04.4 LTS) / x86_64  OK    ERROR  skipped
palomino3Windows Server 2022 Datacenter / x64  OK    ERROR  skippedskipped
merida1macOS 10.14.6 Mojave / x86_64  OK    ERROR  skippedskipped
Package 124/171HostnameOS / ArchINSTALLBUILDCHECKBUILD BIN
PureCN 2.2.0  (landing page)
Markus Riester
git_last_commit: 008f1dd
git_last_commit_date: 2022-04-26 11:31:56 -0400
nebbiolo1Linux (Ubuntu 20.04.4 LTS) / x86_64  OK    OK    OK  UNNEEDED, same version is already published
palomino3Windows Server 2022 Datacenter / x64  OK    OK    OK    OK  UNNEEDED, same version is already published
merida1macOS 10.14.6 Mojave / x86_64  OK    OK    OK    NA  
Package 125/171HostnameOS / ArchINSTALLBUILDCHECKBUILD BIN
qsea 1.22.0  (landing page)
Matthias Lienhard
git_last_commit: 3fff61a
git_last_commit_date: 2022-04-26 11:33:15 -0400
nebbiolo1Linux (Ubuntu 20.04.4 LTS) / x86_64  OK    OK    WARNINGS  UNNEEDED, same version is already published
palomino3Windows Server 2022 Datacenter / x64  OK    OK    WARNINGS    OK  UNNEEDED, same version is already published
merida1macOS 10.14.6 Mojave / x86_64  OK    OK    WARNINGS    NA  
Package 126/171HostnameOS / ArchINSTALLBUILDCHECKBUILD BIN
QuasR 1.36.0  (landing page)
Michael Stadler
git_last_commit: e0383d7
git_last_commit_date: 2022-04-26 11:13:15 -0400
nebbiolo1Linux (Ubuntu 20.04.4 LTS) / x86_64  OK    OK    OK  UNNEEDED, same version is already published
palomino3Windows Server 2022 Datacenter / x64  OK    OK    OK    OK  UNNEEDED, same version is already published
merida1macOS 10.14.6 Mojave / x86_64  OK    OK    OK    NA  
Package 127/171HostnameOS / ArchINSTALLBUILDCHECKBUILD BIN
r3Cseq 1.42.0  (landing page)
Supat Thongjuea or
git_last_commit: c9c2f38
git_last_commit_date: 2022-04-26 11:09:26 -0400
nebbiolo1Linux (Ubuntu 20.04.4 LTS) / x86_64  OK    OK    OK  UNNEEDED, same version is already published
palomino3Windows Server 2022 Datacenter / x64  OK    OK    OK    OK  UNNEEDED, same version is already published
merida1macOS 10.14.6 Mojave / x86_64  OK    OK    OK    NA  
Package 128/171HostnameOS / ArchINSTALLBUILDCHECKBUILD BIN
RCAS 1.22.0  (landing page)
Bora Uyar
git_last_commit: 3841e30
git_last_commit_date: 2022-04-26 11:33:58 -0400
nebbiolo1Linux (Ubuntu 20.04.4 LTS) / x86_64  OK    OK    OK  UNNEEDED, same version is already published
palomino3Windows Server 2022 Datacenter / x64  OK    OK    OK    OK  UNNEEDED, same version is already published
merida1macOS 10.14.6 Mojave / x86_64  OK    OK    OK    NA  
Package 129/171HostnameOS / ArchINSTALLBUILDCHECKBUILD BIN
recount 1.22.0  (landing page)
Leonardo Collado-Torres
git_last_commit: 514a4a1
git_last_commit_date: 2022-04-26 11:34:20 -0400
nebbiolo1Linux (Ubuntu 20.04.4 LTS) / x86_64  OK    OK    OK  UNNEEDED, same version is already published
palomino3Windows Server 2022 Datacenter / x64  OK    OK    OK    OK  UNNEEDED, same version is already published
merida1macOS 10.14.6 Mojave / x86_64  OK    OK    OK    NA  
Package 130/171HostnameOS / ArchINSTALLBUILDCHECKBUILD BIN
recount3 1.6.0  (landing page)
Leonardo Collado-Torres
git_last_commit: 32292b2
git_last_commit_date: 2022-04-26 12:09:29 -0400
nebbiolo1Linux (Ubuntu 20.04.4 LTS) / x86_64  OK    OK    OK  UNNEEDED, same version is already published
palomino3Windows Server 2022 Datacenter / x64  OK    OK    OK    OK  UNNEEDED, same version is already published
merida1macOS 10.14.6 Mojave / x86_64  OK    OK    OK    NA  
Package 131/171HostnameOS / ArchINSTALLBUILDCHECKBUILD BIN
recoup 1.24.0  (landing page)
Panagiotis Moulos
git_last_commit: 945741c
git_last_commit_date: 2022-04-26 11:30:44 -0400
nebbiolo1Linux (Ubuntu 20.04.4 LTS) / x86_64  OK    OK    OK  UNNEEDED, same version is already published
palomino3Windows Server 2022 Datacenter / x64  OK    OK    OK    OK  UNNEEDED, same version is already published
merida1macOS 10.14.6 Mojave / x86_64  OK    OK    OK    NA  
Package 132/171HostnameOS / ArchINSTALLBUILDCHECKBUILD BIN
regioneR 1.28.0  (landing page)
Bernat Gel
git_last_commit: 65a4cb0
git_last_commit_date: 2022-04-26 11:24:41 -0400
nebbiolo1Linux (Ubuntu 20.04.4 LTS) / x86_64  OK    OK    OK  UNNEEDED, same version is already published
palomino3Windows Server 2022 Datacenter / x64  OK    OK    OK    OK  UNNEEDED, same version is already published
merida1macOS 10.14.6 Mojave / x86_64  OK    OK    OK    NA  
Package 133/171HostnameOS / ArchINSTALLBUILDCHECKBUILD BIN
REMP 1.20.1  (landing page)
Yinan Zheng
git_last_commit: 58547b6
git_last_commit_date: 2022-05-13 05:55:06 -0400
nebbiolo1Linux (Ubuntu 20.04.4 LTS) / x86_64  OK    OK    OK  UNNEEDED, same version is already published
palomino3Windows Server 2022 Datacenter / x64  OK    OK    OK    OK  UNNEEDED, same version is already published
merida1macOS 10.14.6 Mojave / x86_64  OK    OK    OK    NA  
Package 134/171HostnameOS / ArchINSTALLBUILDCHECKBUILD BIN
Repitools 1.42.0  (landing page)
Mark Robinson
git_last_commit: 9936214
git_last_commit_date: 2022-04-26 11:08:15 -0400
nebbiolo1Linux (Ubuntu 20.04.4 LTS) / x86_64  OK    OK    OK  UNNEEDED, same version is already published
palomino3Windows Server 2022 Datacenter / x64  OK    OK    OK    OK  UNNEEDED, same version is already published
merida1macOS 10.14.6 Mojave / x86_64  OK    OK    OK    NA  
Package 135/171HostnameOS / ArchINSTALLBUILDCHECKBUILD BIN
RGMQL 1.16.0  (landing page)
Simone Pallotta
git_last_commit: 4f9e75c
git_last_commit_date: 2022-04-26 11:46:12 -0400
nebbiolo1Linux (Ubuntu 20.04.4 LTS) / x86_64  OK    OK    WARNINGS  UNNEEDED, same version is already published
palomino3Windows Server 2022 Datacenter / x64  OK    OK    ERROR    OK  
merida1macOS 10.14.6 Mojave / x86_64... NOT SUPPORTED ...
Package 136/171HostnameOS / ArchINSTALLBUILDCHECKBUILD BIN
RiboProfiling 1.26.0  (landing page)
A. Popa
git_last_commit: 9f71470
git_last_commit_date: 2022-04-26 11:27:55 -0400
nebbiolo1Linux (Ubuntu 20.04.4 LTS) / x86_64  OK    OK    WARNINGS  UNNEEDED, same version is already published
palomino3Windows Server 2022 Datacenter / x64  OK    OK    WARNINGS    OK  UNNEEDED, same version is already published
merida1macOS 10.14.6 Mojave / x86_64  OK    OK    WARNINGS    NA  
Package 137/171HostnameOS / ArchINSTALLBUILDCHECKBUILD BIN
ribosomeProfilingQC 1.8.0  (landing page)
Jianhong Ou
git_last_commit: 887822a
git_last_commit_date: 2022-04-26 12:02:49 -0400
nebbiolo1Linux (Ubuntu 20.04.4 LTS) / x86_64  OK    OK    OK  UNNEEDED, same version is already published
palomino3Windows Server 2022 Datacenter / x64  OK    OK    OK    OK  UNNEEDED, same version is already published
merida1macOS 10.14.6 Mojave / x86_64  OK    OK    OK    NA  
Package 138/171HostnameOS / ArchINSTALLBUILDCHECKBUILD BIN
rifi 1.0.0  (landing page)
Jens Georg
git_last_commit: a495442
git_last_commit_date: 2022-04-27 15:48:36 -0400
nebbiolo1Linux (Ubuntu 20.04.4 LTS) / x86_64  OK    OK    OK  UNNEEDED, same version is already published
palomino3Windows Server 2022 Datacenter / x64  ERROR    ERROR  skippedskipped
merida1macOS 10.14.6 Mojave / x86_64  OK    OK    OK    NA  
Package 139/171HostnameOS / ArchINSTALLBUILDCHECKBUILD BIN
RIPAT 1.6.0  (landing page)
Min-Jeong Baek
git_last_commit: 68c07aa
git_last_commit_date: 2022-04-26 12:07:40 -0400
nebbiolo1Linux (Ubuntu 20.04.4 LTS) / x86_64  OK    OK    OK  UNNEEDED, same version is already published
palomino3Windows Server 2022 Datacenter / x64  OK    OK    OK    OK  UNNEEDED, same version is already published
merida1macOS 10.14.6 Mojave / x86_64  OK    OK    OK    NA  
Package 140/171HostnameOS / ArchINSTALLBUILDCHECKBUILD BIN
RLSeq 1.2.0  (landing page)
Henry Miller
git_last_commit: 7afa0ea
git_last_commit_date: 2022-04-26 12:20:01 -0400
nebbiolo1Linux (Ubuntu 20.04.4 LTS) / x86_64  OK    OK    OK  UNNEEDED, same version is already published
palomino3Windows Server 2022 Datacenter / x64  OK    OK    OK    OK  UNNEEDED, same version is already published
merida1macOS 10.14.6 Mojave / x86_64  OK    OK    OK    NA  
Package 141/171HostnameOS / ArchINSTALLBUILDCHECKBUILD BIN
rmspc 1.2.0  (landing page)
Meriem Bahda
git_last_commit: d711bca
git_last_commit_date: 2022-04-26 12:17:50 -0400
nebbiolo1Linux (Ubuntu 20.04.4 LTS) / x86_64  OK    OK    OK  UNNEEDED, same version is already published
palomino3Windows Server 2022 Datacenter / x64  OK    OK    OK    OK  UNNEEDED, same version is already published
merida1macOS 10.14.6 Mojave / x86_64  OK    OK    OK    NA  
Package 142/171HostnameOS / ArchINSTALLBUILDCHECKBUILD BIN
RNAmodR 1.10.0  (landing page)
Felix G.M. Ernst
git_last_commit: ad86538
git_last_commit_date: 2022-04-26 11:56:38 -0400
nebbiolo1Linux (Ubuntu 20.04.4 LTS) / x86_64  OK    OK    OK  UNNEEDED, same version is already published
palomino3Windows Server 2022 Datacenter / x64  OK    OK    OK    OK  UNNEEDED, same version is already published
merida1macOS 10.14.6 Mojave / x86_64  OK    OK    OK    NA  
Package 143/171HostnameOS / ArchINSTALLBUILDCHECKBUILD BIN
roar 1.32.0  (landing page)
Elena Grassi
git_last_commit: 1fc9a85
git_last_commit_date: 2022-04-26 11:17:19 -0400
nebbiolo1Linux (Ubuntu 20.04.4 LTS) / x86_64  OK    OK    OK  UNNEEDED, same version is already published
palomino3Windows Server 2022 Datacenter / x64  OK    OK    OK    OK  UNNEEDED, same version is already published
merida1macOS 10.14.6 Mojave / x86_64  OK    OK    OK    NA  
Package 144/171HostnameOS / ArchINSTALLBUILDCHECKBUILD BIN
scanMiRApp 1.2.0  (landing page)
Pierre-Luc Germain
git_last_commit: dc17bc4
git_last_commit_date: 2022-04-26 12:17:29 -0400
nebbiolo1Linux (Ubuntu 20.04.4 LTS) / x86_64  OK    OK    WARNINGS  UNNEEDED, same version is already published
palomino3Windows Server 2022 Datacenter / x64  OK    OK    WARNINGS    OK  UNNEEDED, same version is already published
merida1macOS 10.14.6 Mojave / x86_64  OK    OK    WARNINGS    NA  
Package 145/171HostnameOS / ArchINSTALLBUILDCHECKBUILD BIN
SCANVIS 1.10.0  (landing page)
Phaedra Agius
git_last_commit: d559a6b
git_last_commit_date: 2022-04-26 11:57:29 -0400
nebbiolo1Linux (Ubuntu 20.04.4 LTS) / x86_64  OK    OK    OK  UNNEEDED, same version is already published
palomino3Windows Server 2022 Datacenter / x64  OK    OK    OK    OK  UNNEEDED, same version is already published
merida1macOS 10.14.6 Mojave / x86_64  OK    OK    OK    NA  
Package 146/171HostnameOS / ArchINSTALLBUILDCHECKBUILD BIN
scDblFinder 1.10.0  (landing page)
Pierre-Luc Germain
git_last_commit: 03512ca
git_last_commit_date: 2022-04-26 12:00:46 -0400
nebbiolo1Linux (Ubuntu 20.04.4 LTS) / x86_64  OK    OK    OK  UNNEEDED, same version is already published
palomino3Windows Server 2022 Datacenter / x64  OK    OK    OK    OK  UNNEEDED, same version is already published
merida1macOS 10.14.6 Mojave / x86_64  OK    OK    OK    NA  
Package 147/171HostnameOS / ArchINSTALLBUILDCHECKBUILD BIN
scPipe 1.18.0  (landing page)
Luyi Tian
git_last_commit: f18ea8d
git_last_commit_date: 2022-04-26 11:44:22 -0400
nebbiolo1Linux (Ubuntu 20.04.4 LTS) / x86_64  OK    OK    OK  UNNEEDED, same version is already published
palomino3Windows Server 2022 Datacenter / x64  OK    OK    OK    OK  UNNEEDED, same version is already published
merida1macOS 10.14.6 Mojave / x86_64  OK    OK    OK    NA  
Package 148/171HostnameOS / ArchINSTALLBUILDCHECKBUILD BIN
scruff 1.14.0  (landing page)
Zhe Wang
git_last_commit: 9299a23
git_last_commit_date: 2022-04-26 11:50:08 -0400
nebbiolo1Linux (Ubuntu 20.04.4 LTS) / x86_64  OK    OK    OK  UNNEEDED, same version is already published
palomino3Windows Server 2022 Datacenter / x64  OK    OK    OK    OK  UNNEEDED, same version is already published
merida1macOS 10.14.6 Mojave / x86_64  OK    OK    OK    NA  
Package 149/171HostnameOS / ArchINSTALLBUILDCHECKBUILD BIN
seqCAT 1.18.0  (landing page)
Erik Fasterius
git_last_commit: ed9e2ad
git_last_commit_date: 2022-04-26 11:43:28 -0400
nebbiolo1Linux (Ubuntu 20.04.4 LTS) / x86_64  OK    OK    OK  UNNEEDED, same version is already published
palomino3Windows Server 2022 Datacenter / x64  OK    OK    OK    OK  UNNEEDED, same version is already published
merida1macOS 10.14.6 Mojave / x86_64  OK    OK    OK    NA  
Package 150/171HostnameOS / ArchINSTALLBUILDCHECKBUILD BIN
seqsetvis 1.16.0  (landing page)
Joseph R Boyd
git_last_commit: e3338b3
git_last_commit_date: 2022-04-26 11:48:16 -0400
nebbiolo1Linux (Ubuntu 20.04.4 LTS) / x86_64  OK    OK    OK  UNNEEDED, same version is already published
palomino3Windows Server 2022 Datacenter / x64  OK    OK    OK    OK  UNNEEDED, same version is already published
merida1macOS 10.14.6 Mojave / x86_64  OK    OK    OK    NA  
Package 151/171HostnameOS / ArchINSTALLBUILDCHECKBUILD BIN
sevenC 1.16.0  (landing page)
Jonas Ibn-Salem
git_last_commit: f85ff45
git_last_commit_date: 2022-04-26 11:48:54 -0400
nebbiolo1Linux (Ubuntu 20.04.4 LTS) / x86_64  OK    OK    OK  UNNEEDED, same version is already published
palomino3Windows Server 2022 Datacenter / x64  OK    OK    OK    OK  UNNEEDED, same version is already published
merida1macOS 10.14.6 Mojave / x86_64  OK    OK    OK    NA  
Package 152/171HostnameOS / ArchINSTALLBUILDCHECKBUILD BIN
SGSeq 1.30.0  (landing page)
Leonard Goldstein
git_last_commit: a19e395
git_last_commit_date: 2022-04-26 11:22:24 -0400
nebbiolo1Linux (Ubuntu 20.04.4 LTS) / x86_64  OK    OK    OK  UNNEEDED, same version is already published
palomino3Windows Server 2022 Datacenter / x64  OK    OK    OK    OK  UNNEEDED, same version is already published
merida1macOS 10.14.6 Mojave / x86_64  OK    OK    OK    NA  
Package 153/171HostnameOS / ArchINSTALLBUILDCHECKBUILD BIN
shinyepico 1.4.2  (landing page)
Octavio Morante-Palacios
git_last_commit: 731c058
git_last_commit_date: 2022-05-18 14:37:19 -0400
nebbiolo1Linux (Ubuntu 20.04.4 LTS) / x86_64  OK    OK    OK  UNNEEDED, same version is already published
palomino3Windows Server 2022 Datacenter / x64  OK    OK    OK    OK  UNNEEDED, same version is already published
merida1macOS 10.14.6 Mojave / x86_64  OK    OK    OK    NA  
Package 154/171HostnameOS / ArchINSTALLBUILDCHECKBUILD BIN
SigsPack 1.10.0  (landing page)
Franziska Schumann
git_last_commit: 6e539d8
git_last_commit_date: 2022-04-26 11:58:20 -0400
nebbiolo1Linux (Ubuntu 20.04.4 LTS) / x86_64  OK    OK    OK  UNNEEDED, same version is already published
palomino3Windows Server 2022 Datacenter / x64  OK    OK    OK    OK  UNNEEDED, same version is already published
merida1macOS 10.14.6 Mojave / x86_64  OK    OK    OK    NA  
Package 155/171HostnameOS / ArchINSTALLBUILDCHECKBUILD BIN
sitadela 1.4.0  (landing page)
Panagiotis Moulos
git_last_commit: 4d09305
git_last_commit_date: 2022-04-26 12:13:48 -0400
nebbiolo1Linux (Ubuntu 20.04.4 LTS) / x86_64  OK    OK    OK  UNNEEDED, same version is already published
palomino3Windows Server 2022 Datacenter / x64  OK    OK    OK    OK  UNNEEDED, same version is already published
merida1macOS 10.14.6 Mojave / x86_64  OK    OK    OK    NA  
Package 156/171HostnameOS / ArchINSTALLBUILDCHECKBUILD BIN
soGGi 1.28.0  (landing page)
Tom Carroll
git_last_commit: 1015d59
git_last_commit_date: 2022-04-26 11:25:06 -0400
nebbiolo1Linux (Ubuntu 20.04.4 LTS) / x86_64  OK    OK    OK  UNNEEDED, same version is already published
palomino3Windows Server 2022 Datacenter / x64  OK    OK    OK    OK  UNNEEDED, same version is already published
merida1macOS 10.14.6 Mojave / x86_64  OK    OK    OK    NA  
Package 157/171HostnameOS / ArchINSTALLBUILDCHECKBUILD BIN
srnadiff 1.16.0  (landing page)
Zytnicki Matthias
git_last_commit: bbc1f73
git_last_commit_date: 2022-04-26 11:46:44 -0400
nebbiolo1Linux (Ubuntu 20.04.4 LTS) / x86_64  OK    OK    WARNINGS  UNNEEDED, same version is already published
palomino3Windows Server 2022 Datacenter / x64  OK    OK    WARNINGS    OK  UNNEEDED, same version is already published
merida1macOS 10.14.6 Mojave / x86_64  OK    OK    WARNINGS    NA  
Package 158/171HostnameOS / ArchINSTALLBUILDCHECKBUILD BIN
StructuralVariantAnnotation 1.12.0  (landing page)
Daniel Cameron
git_last_commit: 3777c65
git_last_commit_date: 2022-04-26 11:56:16 -0400
nebbiolo1Linux (Ubuntu 20.04.4 LTS) / x86_64  OK    OK    OK  UNNEEDED, same version is already published
palomino3Windows Server 2022 Datacenter / x64  OK    OK    OK    OK  UNNEEDED, same version is already published
merida1macOS 10.14.6 Mojave / x86_64  OK    OK    OK    NA  
Package 159/171HostnameOS / ArchINSTALLBUILDCHECKBUILD BIN
svaNUMT 1.2.0  (landing page)
Ruining Dong
git_last_commit: 19aac31
git_last_commit_date: 2022-04-26 12:16:59 -0400
nebbiolo1Linux (Ubuntu 20.04.4 LTS) / x86_64  OK    OK    OK  UNNEEDED, same version is already published
palomino3Windows Server 2022 Datacenter / x64  OK    OK    OK    OK  UNNEEDED, same version is already published
merida1macOS 10.14.6 Mojave / x86_64  OK    OK    OK    NA  
Package 160/171HostnameOS / ArchINSTALLBUILDCHECKBUILD BIN
svaRetro 1.2.0  (landing page)
Ruining Dong
git_last_commit: 7ec810b
git_last_commit_date: 2022-04-26 12:17:57 -0400
nebbiolo1Linux (Ubuntu 20.04.4 LTS) / x86_64  OK    OK    OK  UNNEEDED, same version is already published
palomino3Windows Server 2022 Datacenter / x64  OK    OK    OK    OK  UNNEEDED, same version is already published
merida1macOS 10.14.6 Mojave / x86_64  OK    OK    OK    NA  
Package 161/171HostnameOS / ArchINSTALLBUILDCHECKBUILD BIN
TFBSTools 1.34.0  (landing page)
Ge Tan
git_last_commit: 7f8d0cb
git_last_commit_date: 2022-04-26 11:16:50 -0400
nebbiolo1Linux (Ubuntu 20.04.4 LTS) / x86_64  OK    OK    OK  UNNEEDED, same version is already published
palomino3Windows Server 2022 Datacenter / x64  OK    OK    OK    OK  UNNEEDED, same version is already published
merida1macOS 10.14.6 Mojave / x86_64  OK    OK    OK    NA  
Package 162/171HostnameOS / ArchINSTALLBUILDCHECKBUILD BIN
trackViewer 1.32.1  (landing page)
Jianhong Ou
git_last_commit: 7878202
git_last_commit_date: 2022-05-04 16:37:29 -0400
nebbiolo1Linux (Ubuntu 20.04.4 LTS) / x86_64  OK    OK    OK  UNNEEDED, same version is already published
palomino3Windows Server 2022 Datacenter / x64  OK    OK    OK    OK  UNNEEDED, same version is already published
merida1macOS 10.14.6 Mojave / x86_64  OK    OK    OK    NA  
Package 163/171HostnameOS / ArchINSTALLBUILDCHECKBUILD BIN
transcriptR 1.24.0  (landing page)
Armen R. Karapetyan
git_last_commit: d4ab47e
git_last_commit_date: 2022-04-26 11:28:38 -0400
nebbiolo1Linux (Ubuntu 20.04.4 LTS) / x86_64  OK    OK    OK  UNNEEDED, same version is already published
palomino3Windows Server 2022 Datacenter / x64  OK    OK    OK    OK  UNNEEDED, same version is already published
merida1macOS 10.14.6 Mojave / x86_64  OK    OK    OK    NA  
Package 164/171HostnameOS / ArchINSTALLBUILDCHECKBUILD BIN
TRESS 1.2.0  (landing page)
Zhenxing Guo
git_last_commit: d75a72a
git_last_commit_date: 2022-04-26 12:18:58 -0400
nebbiolo1Linux (Ubuntu 20.04.4 LTS) / x86_64  OK    OK    OK  UNNEEDED, same version is already published
palomino3Windows Server 2022 Datacenter / x64  OK    ERROR  skippedskipped
merida1macOS 10.14.6 Mojave / x86_64  OK    OK    OK    NA  
Package 165/171HostnameOS / ArchINSTALLBUILDCHECKBUILD BIN
tRNAscanImport 1.16.0  (landing page)
Felix G.M. Ernst
git_last_commit: c9f0257
git_last_commit_date: 2022-04-26 11:47:43 -0400
nebbiolo1Linux (Ubuntu 20.04.4 LTS) / x86_64  OK    OK    OK  UNNEEDED, same version is already published
palomino3Windows Server 2022 Datacenter / x64  OK    OK    OK    OK  UNNEEDED, same version is already published
merida1macOS 10.14.6 Mojave / x86_64  OK    OK    OK    NA  
Package 166/171HostnameOS / ArchINSTALLBUILDCHECKBUILD BIN
TSRchitect 1.22.0  (landing page)
R. Taylor Raborn
git_last_commit: 5ea3d60
git_last_commit_date: 2022-04-26 11:40:57 -0400
nebbiolo1Linux (Ubuntu 20.04.4 LTS) / x86_64  OK    OK    ERROR  
palomino3Windows Server 2022 Datacenter / x64  OK    OK    ERROR    OK  
merida1macOS 10.14.6 Mojave / x86_64  OK    OK    ERROR    NA  
Package 167/171HostnameOS / ArchINSTALLBUILDCHECKBUILD BIN
txcutr 1.2.0  (landing page)
Mervin Fansler
git_last_commit: 52c0f97
git_last_commit_date: 2022-04-26 12:19:46 -0400
nebbiolo1Linux (Ubuntu 20.04.4 LTS) / x86_64  OK    OK    OK  UNNEEDED, same version is already published
palomino3Windows Server 2022 Datacenter / x64  OK    OK    OK    OK  UNNEEDED, same version is already published
merida1macOS 10.14.6 Mojave / x86_64  OK    OK    OK    NA  
Package 168/171HostnameOS / ArchINSTALLBUILDCHECKBUILD BIN
VariantAnnotation 1.42.1  (landing page)
Bioconductor Package Maintainer
git_last_commit: d112169
git_last_commit_date: 2022-05-12 10:10:58 -0400
nebbiolo1Linux (Ubuntu 20.04.4 LTS) / x86_64  OK    OK    OK  UNNEEDED, same version is already published
palomino3Windows Server 2022 Datacenter / x64  OK    OK    OK    OK  UNNEEDED, same version is already published
merida1macOS 10.14.6 Mojave / x86_64  OK    OK    OK    NA  
Package 169/171HostnameOS / ArchINSTALLBUILDCHECKBUILD BIN
VariantTools 1.38.0  (landing page)
Michael Lawrence
git_last_commit: 517f59a
git_last_commit_date: 2022-04-26 11:12:34 -0400
nebbiolo1Linux (Ubuntu 20.04.4 LTS) / x86_64  OK    OK    WARNINGS  UNNEEDED, same version is already published
palomino3Windows Server 2022 Datacenter / x64  OK    OK    WARNINGS    OK  UNNEEDED, same version is already published
merida1macOS 10.14.6 Mojave / x86_64  OK    OK    WARNINGS    NA  
Package 170/171HostnameOS / ArchINSTALLBUILDCHECKBUILD BIN
wavClusteR 2.30.0  (landing page)
Federico Comoglio
git_last_commit: d2d52b1
git_last_commit_date: 2022-04-26 11:20:03 -0400
nebbiolo1Linux (Ubuntu 20.04.4 LTS) / x86_64  OK    OK    OK  UNNEEDED, same version is already published
palomino3Windows Server 2022 Datacenter / x64  OK    OK    OK    OK  UNNEEDED, same version is already published
merida1macOS 10.14.6 Mojave / x86_64  OK    OK    OK    NA  
Package 171/171HostnameOS / ArchINSTALLBUILDCHECKBUILD BIN
wiggleplotr 1.20.0  (landing page)
Kaur Alasoo
git_last_commit: 71367a0
git_last_commit_date: 2022-04-26 11:39:56 -0400
nebbiolo1Linux (Ubuntu 20.04.4 LTS) / x86_64  OK    OK    OK  UNNEEDED, same version is already published
palomino3Windows Server 2022 Datacenter / x64  OK    OK    OK    OK  UNNEEDED, same version is already published
merida1macOS 10.14.6 Mojave / x86_64  OK    OK    OK    NA