Back to Multiple platform build/check report for BioC 3.15
ABCDEFGHIJKLM[N]OPQRSTUVWXYZ

This page was generated on 2022-08-08 13:20:36 -0400 (Mon, 08 Aug 2022).

HostnameOSArch (*)R versionInstalled pkgs
nebbiolo1Linux (Ubuntu 20.04.4 LTS)x86_644.2.1 (2022-06-23) -- "Funny-Looking Kid" 4362
merida1macOS 10.14.6 Mojavex86_644.2.1 (2022-06-23) -- "Funny-Looking Kid" 4180
Click on any hostname to see more info about the system (e.g. compilers)      (*) as reported by 'uname -p', except on Windows and Mac OS X

INSTALL results for NxtIRFcore on merida1


To the developers/maintainers of the NxtIRFcore package:
- Please allow up to 24 hours (and sometimes 48 hours) for your latest push to git@git.bioconductor.org:packages/NxtIRFcore.git to
reflect on this report. See How and When does the builder pull? When will my changes propagate? for more information.
- Make sure to use the following settings in order to reproduce any error or warning you see on this page.

raw results

Package 1346/2140HostnameOS / ArchINSTALLBUILDCHECKBUILD BIN
NxtIRFcore 1.2.1  (landing page)
Alex Chit Hei Wong
Snapshot Date: 2022-08-07 13:55:12 -0400 (Sun, 07 Aug 2022)
git_url: https://git.bioconductor.org/packages/NxtIRFcore
git_branch: RELEASE_3_15
git_last_commit: b13e810
git_last_commit_date: 2022-06-22 07:29:58 -0400 (Wed, 22 Jun 2022)
nebbiolo1Linux (Ubuntu 20.04.4 LTS) / x86_64  OK    OK    OK  UNNEEDED, same version is already published
merida1macOS 10.14.6 Mojave / x86_64  OK    OK    OK    OK  UNNEEDED, same version is already published

Summary

Package: NxtIRFcore
Version: 1.2.1
Command: /Library/Frameworks/R.framework/Resources/bin/R CMD INSTALL NxtIRFcore
StartedAt: 2022-08-07 16:16:39 -0400 (Sun, 07 Aug 2022)
EndedAt: 2022-08-07 16:19:36 -0400 (Sun, 07 Aug 2022)
EllapsedTime: 177.0 seconds
RetCode: 0
Status:   OK  

Command output

##############################################################################
##############################################################################
###
### Running command:
###
###   /Library/Frameworks/R.framework/Resources/bin/R CMD INSTALL NxtIRFcore
###
##############################################################################
##############################################################################


* installing to library ‘/Library/Frameworks/R.framework/Versions/4.2/Resources/library’
* installing *source* package ‘NxtIRFcore’ ...
** using staged installation
Configuring without OpenMP for MacOS
** libs
clang++ -mmacosx-version-min=10.13 -std=gnu++11 -I"/Library/Frameworks/R.framework/Resources/include" -DNDEBUG  -I'/Library/Frameworks/R.framework/Versions/4.2/Resources/library/Rcpp/include' -I'/Library/Frameworks/R.framework/Versions/4.2/Resources/library/zlibbioc/include' -I'/Library/Frameworks/R.framework/Versions/4.2/Resources/library/RcppProgress/include' -I/usr/local/include   -DRNXTIRF -fPIC  -Wall -g -O2  -c BAM2blocks.cpp -o BAM2blocks.o
clang++ -mmacosx-version-min=10.13 -std=gnu++11 -I"/Library/Frameworks/R.framework/Resources/include" -DNDEBUG  -I'/Library/Frameworks/R.framework/Versions/4.2/Resources/library/Rcpp/include' -I'/Library/Frameworks/R.framework/Versions/4.2/Resources/library/zlibbioc/include' -I'/Library/Frameworks/R.framework/Versions/4.2/Resources/library/RcppProgress/include' -I/usr/local/include   -DRNXTIRF -fPIC  -Wall -g -O2  -c FastaReader.cpp -o FastaReader.o
clang++ -mmacosx-version-min=10.13 -std=gnu++11 -I"/Library/Frameworks/R.framework/Resources/include" -DNDEBUG  -I'/Library/Frameworks/R.framework/Versions/4.2/Resources/library/Rcpp/include' -I'/Library/Frameworks/R.framework/Versions/4.2/Resources/library/zlibbioc/include' -I'/Library/Frameworks/R.framework/Versions/4.2/Resources/library/RcppProgress/include' -I/usr/local/include   -DRNXTIRF -fPIC  -Wall -g -O2  -c FragmentBlocks.cpp -o FragmentBlocks.o
clang++ -mmacosx-version-min=10.13 -std=gnu++11 -I"/Library/Frameworks/R.framework/Resources/include" -DNDEBUG  -I'/Library/Frameworks/R.framework/Versions/4.2/Resources/library/Rcpp/include' -I'/Library/Frameworks/R.framework/Versions/4.2/Resources/library/zlibbioc/include' -I'/Library/Frameworks/R.framework/Versions/4.2/Resources/library/RcppProgress/include' -I/usr/local/include   -DRNXTIRF -fPIC  -Wall -g -O2  -c GZTools.cpp -o GZTools.o
clang++ -mmacosx-version-min=10.13 -std=gnu++11 -I"/Library/Frameworks/R.framework/Resources/include" -DNDEBUG  -I'/Library/Frameworks/R.framework/Versions/4.2/Resources/library/Rcpp/include' -I'/Library/Frameworks/R.framework/Versions/4.2/Resources/library/zlibbioc/include' -I'/Library/Frameworks/R.framework/Versions/4.2/Resources/library/RcppProgress/include' -I/usr/local/include   -DRNXTIRF -fPIC  -Wall -g -O2  -c IRFinder.cpp -o IRFinder.o
clang++ -mmacosx-version-min=10.13 -std=gnu++11 -I"/Library/Frameworks/R.framework/Resources/include" -DNDEBUG  -I'/Library/Frameworks/R.framework/Versions/4.2/Resources/library/Rcpp/include' -I'/Library/Frameworks/R.framework/Versions/4.2/Resources/library/zlibbioc/include' -I'/Library/Frameworks/R.framework/Versions/4.2/Resources/library/RcppProgress/include' -I/usr/local/include   -DRNXTIRF -fPIC  -Wall -g -O2  -c RcppExports.cpp -o RcppExports.o
clang++ -mmacosx-version-min=10.13 -std=gnu++11 -I"/Library/Frameworks/R.framework/Resources/include" -DNDEBUG  -I'/Library/Frameworks/R.framework/Versions/4.2/Resources/library/Rcpp/include' -I'/Library/Frameworks/R.framework/Versions/4.2/Resources/library/zlibbioc/include' -I'/Library/Frameworks/R.framework/Versions/4.2/Resources/library/RcppProgress/include' -I/usr/local/include   -DRNXTIRF -fPIC  -Wall -g -O2  -c ReadBlockProcessor.cpp -o ReadBlockProcessor.o
clang++ -mmacosx-version-min=10.13 -std=gnu++11 -I"/Library/Frameworks/R.framework/Resources/include" -DNDEBUG  -I'/Library/Frameworks/R.framework/Versions/4.2/Resources/library/Rcpp/include' -I'/Library/Frameworks/R.framework/Versions/4.2/Resources/library/zlibbioc/include' -I'/Library/Frameworks/R.framework/Versions/4.2/Resources/library/RcppProgress/include' -I/usr/local/include   -DRNXTIRF -fPIC  -Wall -g -O2  -c ReadBlockProcessor_CoverageBlocks.cpp -o ReadBlockProcessor_CoverageBlocks.o
clang++ -mmacosx-version-min=10.13 -std=gnu++11 -I"/Library/Frameworks/R.framework/Resources/include" -DNDEBUG  -I'/Library/Frameworks/R.framework/Versions/4.2/Resources/library/Rcpp/include' -I'/Library/Frameworks/R.framework/Versions/4.2/Resources/library/zlibbioc/include' -I'/Library/Frameworks/R.framework/Versions/4.2/Resources/library/RcppProgress/include' -I/usr/local/include   -DRNXTIRF -fPIC  -Wall -g -O2  -c covTools.cpp -o covTools.o
clang++ -mmacosx-version-min=10.13 -std=gnu++11 -dynamiclib -Wl,-headerpad_max_install_names -undefined dynamic_lookup -single_module -multiply_defined suppress -L/Library/Frameworks/R.framework/Resources/lib -L/usr/local/lib -o NxtIRFcore.so BAM2blocks.o FastaReader.o FragmentBlocks.o GZTools.o IRFinder.o RcppExports.o ReadBlockProcessor.o ReadBlockProcessor_CoverageBlocks.o covTools.o -DRNXTIRF -F/Library/Frameworks/R.framework/.. -framework R -Wl,-framework -Wl,CoreFoundation
installing to /Library/Frameworks/R.framework/Versions/4.2/Resources/library/00LOCK-NxtIRFcore/00new/NxtIRFcore/libs
** R
** inst
** byte-compile and prepare package for lazy loading
** help
*** installing help indices
** building package indices
** installing vignettes
** testing if installed package can be loaded from temporary location
** checking absolute paths in shared objects and dynamic libraries
** testing if installed package can be loaded from final location
** testing if installed package keeps a record of temporary installation path
* DONE (NxtIRFcore)