Back to Multiple platform build/check report for BioC 3.15
ABCDEF[G]HIJKLMNOPQRSTUVWXYZ

This page was generated on 2022-06-24 12:06:06 -0400 (Fri, 24 Jun 2022).

HostnameOSArch (*)R versionInstalled pkgs
nebbiolo1Linux (Ubuntu 20.04.4 LTS)x86_644.2.0 (2022-04-22) -- "Vigorous Calisthenics" 4380
palomino3Windows Server 2022 Datacenterx644.2.0 (2022-04-22 ucrt) -- "Vigorous Calisthenics" 4156
merida1macOS 10.14.6 Mojavex86_644.2.0 (2022-04-22) -- "Vigorous Calisthenics" 4221
Click on any hostname to see more info about the system (e.g. compilers)      (*) as reported by 'uname -p', except on Windows and Mac OS X

CHECK results for groHMM on palomino3


To the developers/maintainers of the groHMM package:
- Please allow up to 24 hours (and sometimes 48 hours) for your latest push to git@git.bioconductor.org:packages/groHMM.git to
reflect on this report. See How and When does the builder pull? When will my changes propagate? for more information.
- Make sure to use the following settings in order to reproduce any error or warning you see on this page.

raw results

Package 850/2140HostnameOS / ArchINSTALLBUILDCHECKBUILD BIN
groHMM 1.30.1  (landing page)
Anusha Nagari , Tulip Nandu , W. Lee Kraus
Snapshot Date: 2022-06-23 13:55:15 -0400 (Thu, 23 Jun 2022)
git_url: https://git.bioconductor.org/packages/groHMM
git_branch: RELEASE_3_15
git_last_commit: efe650e
git_last_commit_date: 2022-05-11 18:52:12 -0400 (Wed, 11 May 2022)
nebbiolo1Linux (Ubuntu 20.04.4 LTS) / x86_64  OK    OK    OK  UNNEEDED, same version is already published
palomino3Windows Server 2022 Datacenter / x64  OK    OK    OK    OK  UNNEEDED, same version is already published
merida1macOS 10.14.6 Mojave / x86_64  OK    OK    OK    OK  UNNEEDED, same version is already published

Summary

Package: groHMM
Version: 1.30.1
Command: F:\biocbuild\bbs-3.15-bioc\R\bin\R.exe CMD check --no-multiarch --install=check:groHMM.install-out.txt --library=F:\biocbuild\bbs-3.15-bioc\R\library --no-vignettes --timings groHMM_1.30.1.tar.gz
StartedAt: 2022-06-24 01:36:36 -0400 (Fri, 24 Jun 2022)
EndedAt: 2022-06-24 01:39:39 -0400 (Fri, 24 Jun 2022)
EllapsedTime: 183.0 seconds
RetCode: 0
Status:   OK  
CheckDir: groHMM.Rcheck
Warnings: 0

Command output

##############################################################################
##############################################################################
###
### Running command:
###
###   F:\biocbuild\bbs-3.15-bioc\R\bin\R.exe CMD check --no-multiarch --install=check:groHMM.install-out.txt --library=F:\biocbuild\bbs-3.15-bioc\R\library --no-vignettes --timings groHMM_1.30.1.tar.gz
###
##############################################################################
##############################################################################


* using log directory 'F:/biocbuild/bbs-3.15-bioc/meat/groHMM.Rcheck'
* using R version 4.2.0 (2022-04-22 ucrt)
* using platform: x86_64-w64-mingw32 (64-bit)
* using session charset: UTF-8
* using option '--no-vignettes'
* checking for file 'groHMM/DESCRIPTION' ... OK
* this is package 'groHMM' version '1.30.1'
* checking package namespace information ... OK
* checking package dependencies ... NOTE
Depends: includes the non-default packages:
  'MASS', 'parallel', 'S4Vectors', 'IRanges', 'GenomeInfoDb',
  'GenomicRanges', 'GenomicAlignments', 'rtracklayer'
Adding so many packages to the search path is excessive and importing
selectively is preferable.
* checking if this is a source package ... OK
* checking if there is a namespace ... OK
* checking for hidden files and directories ... OK
* checking for portable file names ... OK
* checking whether package 'groHMM' can be installed ... OK
* checking installed package size ... OK
* checking package directory ... OK
* checking 'build' directory ... OK
* checking DESCRIPTION meta-information ... OK
* checking top-level files ... OK
* checking for left-over files ... OK
* checking index information ... OK
* checking package subdirectories ... OK
* checking R files for non-ASCII characters ... OK
* checking R files for syntax errors ... OK
* checking whether the package can be loaded ... OK
* checking whether the package can be loaded with stated dependencies ... OK
* checking whether the package can be unloaded cleanly ... OK
* checking whether the namespace can be loaded with stated dependencies ... OK
* checking whether the namespace can be unloaded cleanly ... OK
* checking dependencies in R code ... OK
* checking S3 generic/method consistency ... OK
* checking replacement functions ... OK
* checking foreign function calls ... OK
* checking R code for possible problems ... OK
* checking Rd files ... OK
* checking Rd metadata ... OK
* checking Rd cross-references ... OK
* checking for missing documentation entries ... OK
* checking for code/documentation mismatches ... OK
* checking Rd \usage sections ... OK
* checking Rd contents ... OK
* checking for unstated dependencies in examples ... OK
* checking line endings in C/C++/Fortran sources/headers ... OK
* checking compiled code ... NOTE
Note: information on .o files for x64 is not available
File 'F:/biocbuild/bbs-3.15-bioc/R/library/groHMM/libs/x64/groHMM.dll':
  Found 'abort', possibly from 'abort' (C), 'runtime' (Fortran)

Compiled code should not call entry points which might terminate R nor
write to stdout/stderr instead of to the console, nor use Fortran I/O
nor system RNGs. The detected symbols are linked into the code but
might come from libraries and not actually be called.

See 'Writing portable packages' in the 'Writing R Extensions' manual.
* checking sizes of PDF files under 'inst/doc' ... OK
* checking files in 'vignettes' ... OK
* checking examples ... OK
* checking for unstated dependencies in vignettes ... OK
* checking package vignettes in 'inst/doc' ... OK
* checking running R code from vignettes ... SKIPPED
* checking re-building of vignette outputs ... SKIPPED
* checking PDF version of manual ... OK
* DONE

Status: 2 NOTEs
See
  'F:/biocbuild/bbs-3.15-bioc/meat/groHMM.Rcheck/00check.log'
for details.



Installation output

groHMM.Rcheck/00install.out

##############################################################################
##############################################################################
###
### Running command:
###
###   F:\biocbuild\bbs-3.15-bioc\R\bin\R.exe CMD INSTALL groHMM
###
##############################################################################
##############################################################################


* installing to library 'F:/biocbuild/bbs-3.15-bioc/R/library'
* installing *source* package 'groHMM' ...
** using staged installation
** libs
gcc  -I"F:/biocbuild/bbs-3.15-bioc/R/include" -DNDEBUG     -I"C:/rtools42/x86_64-w64-mingw32.static.posix/include"     -O2 -Wall  -std=gnu99 -mfpmath=sse -msse2 -mstackrealign  -c AnnotateProbes.c -o AnnotateProbes.o
gcc  -I"F:/biocbuild/bbs-3.15-bioc/R/include" -DNDEBUG     -I"C:/rtools42/x86_64-w64-mingw32.static.posix/include"     -O2 -Wall  -std=gnu99 -mfpmath=sse -msse2 -mstackrealign  -c DecayAlgorithm.c -o DecayAlgorithm.o
gcc  -I"F:/biocbuild/bbs-3.15-bioc/R/include" -DNDEBUG     -I"C:/rtools42/x86_64-w64-mingw32.static.posix/include"     -O2 -Wall  -std=gnu99 -mfpmath=sse -msse2 -mstackrealign  -c MLEfit.c -o MLEfit.o
In file included from MLEfit.c:43:
hmmHeader.h:301:16: warning: 'expSum' defined but not used [-Wunused-function]
  301 | static  double expSum(double *logValues, int length) {
      |                ^~~~~~
hmmHeader.h:281:16: warning: 'MargainalizeSumLogProbOver' defined but not used [-Wunused-function]
  281 | static  double MargainalizeSumLogProbOver(int state, int position,
      |                ^~~~~~~~~~~~~~~~~~~~~~~~~~
gcc  -I"F:/biocbuild/bbs-3.15-bioc/R/include" -DNDEBUG     -I"C:/rtools42/x86_64-w64-mingw32.static.posix/include"     -O2 -Wall  -std=gnu99 -mfpmath=sse -msse2 -mstackrealign  -c RegisterRRoutines.c -o RegisterRRoutines.o
gcc  -I"F:/biocbuild/bbs-3.15-bioc/R/include" -DNDEBUG     -I"C:/rtools42/x86_64-w64-mingw32.static.posix/include"     -O2 -Wall  -std=gnu99 -mfpmath=sse -msse2 -mstackrealign  -c Windowing.c -o Windowing.o
Windowing.c: In function 'WindowAnalysis':
Windowing.c:146:6: warning: unused variable 'II' [-Wunused-variable]
  146 |  int II = 0;
      |      ^~
gcc  -I"F:/biocbuild/bbs-3.15-bioc/R/include" -DNDEBUG     -I"C:/rtools42/x86_64-w64-mingw32.static.posix/include"     -O2 -Wall  -std=gnu99 -mfpmath=sse -msse2 -mstackrealign  -c hmmEM.c -o hmmEM.o
In file included from hmmEM.c:50:
hmmHeader.h:301:16: warning: 'expSum' defined but not used [-Wunused-function]
  301 | static  double expSum(double *logValues, int length) {
      |                ^~~~~~
hmmHeader.h:281:16: warning: 'MargainalizeSumLogProbOver' defined but not used [-Wunused-function]
  281 | static  double MargainalizeSumLogProbOver(int state, int position,
      |                ^~~~~~~~~~~~~~~~~~~~~~~~~~
In file included from hmmHeader.h:36,
                 from hmmEM.c:50:
UsefulValues.h:39:15: warning: 'VERY_LARGE_DOUBLE_VALUE' defined but not used [-Wunused-variable]
   39 | static double VERY_LARGE_DOUBLE_VALUE = 1e20;
      |               ^~~~~~~~~~~~~~~~~~~~~~~
gcc  -I"F:/biocbuild/bbs-3.15-bioc/R/include" -DNDEBUG     -I"C:/rtools42/x86_64-w64-mingw32.static.posix/include"     -O2 -Wall  -std=gnu99 -mfpmath=sse -msse2 -mstackrealign  -c hmmFwBw.c -o hmmFwBw.o
hmmFwBw.c: In function 'forward':
hmmFwBw.c:142:7: warning: this 'for' clause does not guard... [-Wmisleading-indentation]
  142 |       for(k=1; k<n; k++)
      |       ^~~
hmmFwBw.c:145:9: note: ...this statement, but the latter is misleadingly indented as if it were guarded by the 'for'
  145 |         for (k = 0; k<n; k++) {
      |         ^~~
In file included from hmmFwBw.c:45:
At top level:
hmmHeader.h:301:16: warning: 'expSum' defined but not used [-Wunused-function]
  301 | static  double expSum(double *logValues, int length) {
      |                ^~~~~~
hmmHeader.h:281:16: warning: 'MargainalizeSumLogProbOver' defined but not used [-Wunused-function]
  281 | static  double MargainalizeSumLogProbOver(int state, int position,
      |                ^~~~~~~~~~~~~~~~~~~~~~~~~~
In file included from hmmHeader.h:36,
                 from hmmFwBw.c:45:
UsefulValues.h:39:15: warning: 'VERY_LARGE_DOUBLE_VALUE' defined but not used [-Wunused-variable]
   39 | static double VERY_LARGE_DOUBLE_VALUE = 1e20;
      |               ^~~~~~~~~~~~~~~~~~~~~~~
gcc  -I"F:/biocbuild/bbs-3.15-bioc/R/include" -DNDEBUG     -I"C:/rtools42/x86_64-w64-mingw32.static.posix/include"     -O2 -Wall  -std=gnu99 -mfpmath=sse -msse2 -mstackrealign  -c hmmMiscFunctions.c -o hmmMiscFunctions.o
hmmMiscFunctions.c: In function 'SStatsNormExp':
hmmMiscFunctions.c:384:10: warning: unused variable 'wi' [-Wunused-variable]
  384 |   double wi, *newEx;
      |          ^~
hmmMiscFunctions.c: In function 'UpdateNormExp':
hmmMiscFunctions.c:417:10: warning: unused variable 'epsilon' [-Wunused-variable]
  417 |   double epsilon=0.00001;
      |          ^~~~~~~
In file included from hmmHeader.h:36,
                 from hmmMiscFunctions.c:43:
At top level:
UsefulValues.h:39:15: warning: 'VERY_LARGE_DOUBLE_VALUE' defined but not used [-Wunused-variable]
   39 | static double VERY_LARGE_DOUBLE_VALUE = 1e20;
      |               ^~~~~~~~~~~~~~~~~~~~~~~
gcc  -I"F:/biocbuild/bbs-3.15-bioc/R/include" -DNDEBUG     -I"C:/rtools42/x86_64-w64-mingw32.static.posix/include"     -O2 -Wall  -std=gnu99 -mfpmath=sse -msse2 -mstackrealign  -c hmmViterbi.c -o hmmViterbi.o
In file included from hmmViterbi.c:48:
hmmHeader.h:301:16: warning: 'expSum' defined but not used [-Wunused-function]
  301 | static  double expSum(double *logValues, int length) {
      |                ^~~~~~
hmmHeader.h:281:16: warning: 'MargainalizeSumLogProbOver' defined but not used [-Wunused-function]
  281 | static  double MargainalizeSumLogProbOver(int state, int position,
      |                ^~~~~~~~~~~~~~~~~~~~~~~~~~
In file included from hmmHeader.h:36,
                 from hmmViterbi.c:48:
UsefulValues.h:39:15: warning: 'VERY_LARGE_DOUBLE_VALUE' defined but not used [-Wunused-variable]
   39 | static double VERY_LARGE_DOUBLE_VALUE = 1e20;
      |               ^~~~~~~~~~~~~~~~~~~~~~~
gcc -shared -s -static-libgcc -o groHMM.dll tmp.def AnnotateProbes.o DecayAlgorithm.o MLEfit.o RegisterRRoutines.o Windowing.o hmmEM.o hmmFwBw.o hmmMiscFunctions.o hmmViterbi.o -LC:/rtools42/x86_64-w64-mingw32.static.posix/lib/x64 -LC:/rtools42/x86_64-w64-mingw32.static.posix/lib -LF:/biocbuild/bbs-3.15-bioc/R/bin/x64 -lR
installing to F:/biocbuild/bbs-3.15-bioc/R/library/00LOCK-groHMM/00new/groHMM/libs/x64
** R
** inst
** byte-compile and prepare package for lazy loading
** help
*** installing help indices
** building package indices
** installing vignettes
** testing if installed package can be loaded from temporary location
** testing if installed package can be loaded from final location
** testing if installed package keeps a record of temporary installation path
* DONE (groHMM)

Tests output


Example timings

groHMM.Rcheck/groHMM-Ex.timings

nameusersystemelapsed
breakTranscriptsOnGenes0.520.000.52
combineTranscripts0.230.000.23
detectTranscripts0.270.000.83
evaluateHMMInAnnotations0.090.000.09
getCores000
getTxDensity0.020.000.02
limitToXkb0.060.000.06
makeConsensusAnnotations000
metaGene0.700.010.72
pausingIndex0.220.020.23
polymeraseWave0.550.031.66
runMetaGene0.030.000.03
windowAnalysis0.190.000.19
writeWiggle0.140.030.17