Back to Multiple platform build/check report for BioC 3.15 |
|
This page was generated on 2022-08-12 13:21:57 -0400 (Fri, 12 Aug 2022).
Hostname | OS | Arch (*) | R version | Installed pkgs |
---|---|---|---|---|
nebbiolo1 | Linux (Ubuntu 20.04.4 LTS) | x86_64 | 4.2.1 (2022-06-23) -- "Funny-Looking Kid" | 4364 |
palomino3 | Windows Server 2022 Datacenter | x64 | 4.2.1 (2022-06-23 ucrt) -- "Funny-Looking Kid" | 4117 |
merida1 | macOS 10.14.6 Mojave | x86_64 | 4.2.1 (2022-06-23) -- "Funny-Looking Kid" | 4182 |
Click on any hostname to see more info about the system (e.g. compilers) (*) as reported by 'uname -p', except on Windows and Mac OS X |
To the developers/maintainers of the PAST package: - Please allow up to 24 hours (and sometimes 48 hours) for your latest push to git@git.bioconductor.org:packages/PAST.git to reflect on this report. See How and When does the builder pull? When will my changes propagate? for more information. - Make sure to use the following settings in order to reproduce any error or warning you see on this page. |
Package 1411/2140 | Hostname | OS / Arch | INSTALL | BUILD | CHECK | BUILD BIN | ||||||||
PAST 1.12.0 (landing page) Thrash Adam
| nebbiolo1 | Linux (Ubuntu 20.04.4 LTS) / x86_64 | OK | OK | WARNINGS | ![]() | ||||||||
palomino3 | Windows Server 2022 Datacenter / x64 | OK | OK | WARNINGS | OK | ![]() | ||||||||
merida1 | macOS 10.14.6 Mojave / x86_64 | OK | OK | WARNINGS | OK | ![]() | ||||||||
Package: PAST |
Version: 1.12.0 |
Command: F:\biocbuild\bbs-3.15-bioc\R\bin\R.exe CMD INSTALL PAST |
StartedAt: 2022-08-11 16:36:21 -0400 (Thu, 11 Aug 2022) |
EndedAt: 2022-08-11 16:36:59 -0400 (Thu, 11 Aug 2022) |
EllapsedTime: 37.7 seconds |
RetCode: 0 |
Status: OK |
############################################################################## ############################################################################## ### ### Running command: ### ### F:\biocbuild\bbs-3.15-bioc\R\bin\R.exe CMD INSTALL PAST ### ############################################################################## ############################################################################## * installing to library 'F:/biocbuild/bbs-3.15-bioc/R/library' * installing *source* package 'PAST' ... ** using staged installation ** R ** inst ** byte-compile and prepare package for lazy loading Warning: replacing previous import 'S4Vectors::union' by 'dplyr::union' when loading 'PAST' Warning: replacing previous import 'S4Vectors::intersect' by 'dplyr::intersect' when loading 'PAST' Warning: replacing previous import 'S4Vectors::setdiff' by 'dplyr::setdiff' when loading 'PAST' Warning: replacing previous import 'S4Vectors::first' by 'dplyr::first' when loading 'PAST' Warning: replacing previous import 'S4Vectors::setequal' by 'dplyr::setequal' when loading 'PAST' Warning: replacing previous import 'S4Vectors::rename' by 'dplyr::rename' when loading 'PAST' Warning: replacing previous import 'S4Vectors::tail' by 'utils::tail' when loading 'PAST' Warning: replacing previous import 'S4Vectors::stack' by 'utils::stack' when loading 'PAST' Warning: replacing previous import 'S4Vectors::head' by 'utils::head' when loading 'PAST' Warning: replacing previous import 'S4Vectors::complete.cases' by 'stats::complete.cases' when loading 'PAST' Warning: replacing previous import 'S4Vectors::sd' by 'stats::sd' when loading 'PAST' ** help *** installing help indices ** building package indices ** installing vignettes ** testing if installed package can be loaded from temporary location Warning: replacing previous import 'S4Vectors::union' by 'dplyr::union' when loading 'PAST' Warning: replacing previous import 'S4Vectors::intersect' by 'dplyr::intersect' when loading 'PAST' Warning: replacing previous import 'S4Vectors::setdiff' by 'dplyr::setdiff' when loading 'PAST' Warning: replacing previous import 'S4Vectors::first' by 'dplyr::first' when loading 'PAST' Warning: replacing previous import 'S4Vectors::setequal' by 'dplyr::setequal' when loading 'PAST' Warning: replacing previous import 'S4Vectors::rename' by 'dplyr::rename' when loading 'PAST' Warning: replacing previous import 'S4Vectors::tail' by 'utils::tail' when loading 'PAST' Warning: replacing previous import 'S4Vectors::stack' by 'utils::stack' when loading 'PAST' Warning: replacing previous import 'S4Vectors::head' by 'utils::head' when loading 'PAST' Warning: replacing previous import 'S4Vectors::complete.cases' by 'stats::complete.cases' when loading 'PAST' Warning: replacing previous import 'S4Vectors::sd' by 'stats::sd' when loading 'PAST' ** testing if installed package can be loaded from final location Warning: replacing previous import 'S4Vectors::union' by 'dplyr::union' when loading 'PAST' Warning: replacing previous import 'S4Vectors::intersect' by 'dplyr::intersect' when loading 'PAST' Warning: replacing previous import 'S4Vectors::setdiff' by 'dplyr::setdiff' when loading 'PAST' Warning: replacing previous import 'S4Vectors::first' by 'dplyr::first' when loading 'PAST' Warning: replacing previous import 'S4Vectors::setequal' by 'dplyr::setequal' when loading 'PAST' Warning: replacing previous import 'S4Vectors::rename' by 'dplyr::rename' when loading 'PAST' Warning: replacing previous import 'S4Vectors::tail' by 'utils::tail' when loading 'PAST' Warning: replacing previous import 'S4Vectors::stack' by 'utils::stack' when loading 'PAST' Warning: replacing previous import 'S4Vectors::head' by 'utils::head' when loading 'PAST' Warning: replacing previous import 'S4Vectors::complete.cases' by 'stats::complete.cases' when loading 'PAST' Warning: replacing previous import 'S4Vectors::sd' by 'stats::sd' when loading 'PAST' ** testing if installed package keeps a record of temporary installation path * DONE (PAST)