Back to Multiple platform build/check report for BioC 3.15
ABCDEFGHIJKLMNOPQ[R]STUVWXYZ

This page was generated on 2022-06-24 12:06:42 -0400 (Fri, 24 Jun 2022).

HostnameOSArch (*)R versionInstalled pkgs
nebbiolo1Linux (Ubuntu 20.04.4 LTS)x86_644.2.0 (2022-04-22) -- "Vigorous Calisthenics" 4380
palomino3Windows Server 2022 Datacenterx644.2.0 (2022-04-22 ucrt) -- "Vigorous Calisthenics" 4156
merida1macOS 10.14.6 Mojavex86_644.2.0 (2022-04-22) -- "Vigorous Calisthenics" 4221
Click on any hostname to see more info about the system (e.g. compilers)      (*) as reported by 'uname -p', except on Windows and Mac OS X

BUILD results for rtracklayer on palomino3


To the developers/maintainers of the rtracklayer package:
- Please allow up to 24 hours (and sometimes 48 hours) for your latest push to git@git.bioconductor.org:packages/rtracklayer.git to
reflect on this report. See How and When does the builder pull? When will my changes propagate? for more information.
- Make sure to use the following settings in order to reproduce any error or warning you see on this page.

raw results

Package 1722/2140HostnameOS / ArchINSTALLBUILDCHECKBUILD BIN
rtracklayer 1.56.1  (landing page)
Michael Lawrence
Snapshot Date: 2022-06-23 13:55:15 -0400 (Thu, 23 Jun 2022)
git_url: https://git.bioconductor.org/packages/rtracklayer
git_branch: RELEASE_3_15
git_last_commit: 4c6d220
git_last_commit_date: 2022-06-22 15:10:46 -0400 (Wed, 22 Jun 2022)
nebbiolo1Linux (Ubuntu 20.04.4 LTS) / x86_64  OK    OK    WARNINGS  YES
palomino3Windows Server 2022 Datacenter / x64  OK    OK    WARNINGS    OK  YES
merida1macOS 10.14.6 Mojave / x86_64  OK    OK    WARNINGS    NA  

Summary

Package: rtracklayer
Version: 1.56.1
Command: chmod a+r rtracklayer -R && F:\biocbuild\bbs-3.15-bioc\R\bin\R.exe CMD build --keep-empty-dirs --no-resave-data rtracklayer
StartedAt: 2022-06-23 20:51:10 -0400 (Thu, 23 Jun 2022)
EndedAt: 2022-06-23 20:54:41 -0400 (Thu, 23 Jun 2022)
EllapsedTime: 211.3 seconds
RetCode: 0
Status:   OK  
PackageFile: rtracklayer_1.56.1.tar.gz
PackageFileSize: 3.835 MiB

Command output

##############################################################################
##############################################################################
###
### Running command:
###
###   chmod a+r rtracklayer -R && F:\biocbuild\bbs-3.15-bioc\R\bin\R.exe CMD build --keep-empty-dirs --no-resave-data rtracklayer
###
##############################################################################
##############################################################################


* checking for file 'rtracklayer/DESCRIPTION' ... OK
* preparing 'rtracklayer':
* checking DESCRIPTION meta-information ... OK
* cleaning src
* installing the package to build vignettes
* creating vignettes ... OK
* cleaning src
* checking for LF line-endings in source and make files and shell scripts
* checking for empty or unneeded directories
* looking to see if a 'data/datalist' file should be added
  NB: this package now depends on R (>= 3.5.0)
  WARNING: Added dependency on R >= 3.5.0 because serialized objects in
  serialize/load version 3 cannot be read in older versions of R.
  File(s) containing such objects:
    'rtracklayer/data/cpneTrack.rda'
* building 'rtracklayer_1.56.1.tar.gz'
Warning: file 'rtracklayer/configure' did not have execute permissions: corrected