Back to Multiple platform build/check report for BioC 3.15
ABCDEFGHIJKL[M]NOPQRSTUVWXYZ

This page was generated on 2022-06-24 12:07:44 -0400 (Fri, 24 Jun 2022).

HostnameOSArch (*)R versionInstalled pkgs
nebbiolo1Linux (Ubuntu 20.04.4 LTS)x86_644.2.0 (2022-04-22) -- "Vigorous Calisthenics" 4380
palomino3Windows Server 2022 Datacenterx644.2.0 (2022-04-22 ucrt) -- "Vigorous Calisthenics" 4156
merida1macOS 10.14.6 Mojavex86_644.2.0 (2022-04-22) -- "Vigorous Calisthenics" 4221
Click on any hostname to see more info about the system (e.g. compilers)      (*) as reported by 'uname -p', except on Windows and Mac OS X

BUILD BIN results for metaseqR2 on merida1


To the developers/maintainers of the metaseqR2 package:
- Please allow up to 24 hours (and sometimes 48 hours) for your latest push to git@git.bioconductor.org:packages/metaseqR2.git to
reflect on this report. See How and When does the builder pull? When will my changes propagate? for more information.
- Make sure to use the following settings in order to reproduce any error or warning you see on this page.

raw results

Package 1136/2140HostnameOS / ArchINSTALLBUILDCHECKBUILD BIN
metaseqR2 1.8.0  (landing page)
Panagiotis Moulos
Snapshot Date: 2022-06-23 13:55:15 -0400 (Thu, 23 Jun 2022)
git_url: https://git.bioconductor.org/packages/metaseqR2
git_branch: RELEASE_3_15
git_last_commit: 7d5938c
git_last_commit_date: 2022-04-26 12:05:14 -0400 (Tue, 26 Apr 2022)
nebbiolo1Linux (Ubuntu 20.04.4 LTS) / x86_64  OK    OK    WARNINGS  UNNEEDED, same version is already published
palomino3Windows Server 2022 Datacenter / x64  OK    OK    WARNINGS    OK  NO, package depends on 'DSS' which is not available
merida1macOS 10.14.6 Mojave / x86_64  OK    OK    WARNINGS    OK  UNNEEDED, same version is already published

Summary

Package: metaseqR2
Version: 1.8.0
Command: rm -rf metaseqR2.buildbin-libdir && mkdir metaseqR2.buildbin-libdir && /Users/biocbuild/BBS/utils/build-universal.sh metaseqR2_1.8.0.tar.gz /Library/Frameworks/R.framework/Resources/bin/R metaseqR2.buildbin-libdir
StartedAt: 2022-06-24 11:46:12 -0400 (Fri, 24 Jun 2022)
EndedAt: 2022-06-24 11:48:53 -0400 (Fri, 24 Jun 2022)
EllapsedTime: 160.6 seconds
RetCode: 0
Status:   OK  
PackageFile: metaseqR2_1.8.0.tgz
PackageFileSize: 4.502 MiB

Command output

##############################################################################
##############################################################################
###
### Running command:
###
###   rm -rf metaseqR2.buildbin-libdir && mkdir metaseqR2.buildbin-libdir && /Users/biocbuild/BBS/utils/build-universal.sh metaseqR2_1.8.0.tar.gz /Library/Frameworks/R.framework/Resources/bin/R metaseqR2.buildbin-libdir
###
##############################################################################
##############################################################################


>>>>>>> 
>>>>>>> INSTALLATION WITH 'R CMD INSTALL --preclean --no-multiarch --library=metaseqR2.buildbin-libdir metaseqR2_1.8.0.tar.gz'
>>>>>>> 

* installing *source* package ‘metaseqR2’ ...
** using staged installation
** libs
clang -mmacosx-version-min=10.13 -I"/Library/Frameworks/R.framework/Resources/include" -DNDEBUG   -I/usr/local/include   -fPIC  -Wall -g -O2  -c pval.c -o pval.o
pval.c:26:11: warning: unused variable 'esttotalperlength' [-Wunused-variable]
   double esttotalperlength = total/2;
          ^
1 warning generated.
clang -mmacosx-version-min=10.13 -dynamiclib -Wl,-headerpad_max_install_names -undefined dynamic_lookup -single_module -multiply_defined suppress -L/Library/Frameworks/R.framework/Resources/lib -L/usr/local/lib -o metaseqR2.so pval.o -F/Library/Frameworks/R.framework/.. -framework R -Wl,-framework -Wl,CoreFoundation
installing to /Users/biocbuild/bbs-3.15-bioc/meat/metaseqR2.buildbin-libdir/00LOCK-metaseqR2/00new/metaseqR2/libs
** R
** data
** inst
** byte-compile and prepare package for lazy loading
Warning: replacing previous import ‘GenomicRanges::subtract’ by ‘magrittr::subtract’ when loading ‘metaseqR2’
Warning: replacing previous import ‘matrixStats::rowMedians’ by ‘Biobase::rowMedians’ when loading ‘DSS’
Warning: replacing previous import ‘matrixStats::anyMissing’ by ‘Biobase::anyMissing’ when loading ‘DSS’
** help
*** installing help indices
** building package indices
** installing vignettes
** testing if installed package can be loaded from temporary location
Warning: replacing previous import ‘GenomicRanges::subtract’ by ‘magrittr::subtract’ when loading ‘metaseqR2’
Warning: replacing previous import ‘matrixStats::rowMedians’ by ‘Biobase::rowMedians’ when loading ‘DSS’
Warning: replacing previous import ‘matrixStats::anyMissing’ by ‘Biobase::anyMissing’ when loading ‘DSS’
** checking absolute paths in shared objects and dynamic libraries
** testing if installed package can be loaded from final location
Warning: replacing previous import ‘GenomicRanges::subtract’ by ‘magrittr::subtract’ when loading ‘metaseqR2’
Warning: replacing previous import ‘matrixStats::rowMedians’ by ‘Biobase::rowMedians’ when loading ‘DSS’
Warning: replacing previous import ‘matrixStats::anyMissing’ by ‘Biobase::anyMissing’ when loading ‘DSS’
** testing if installed package keeps a record of temporary installation path
* DONE (metaseqR2)


>>>>>>> 
>>>>>>> FIXING LINKS FOR metaseqR2.buildbin-libdir/metaseqR2/libs/metaseqR2.so
>>>>>>> 

install_name_tool -change "/usr/local/lib/libgcc_s.1.dylib" "/Library/Frameworks/R.framework/Versions/4.2/Resources/lib/libgcc_s.1.dylib" "metaseqR2.buildbin-libdir/metaseqR2/libs/metaseqR2.so"
install_name_tool -change "/usr/local/lib/libgfortran.5.dylib" "/Library/Frameworks/R.framework/Versions/4.2/Resources/lib/libgfortran.5.dylib" "metaseqR2.buildbin-libdir/metaseqR2/libs/metaseqR2.so"
install_name_tool -change "/usr/local/lib/libquadmath.0.dylib" "/Library/Frameworks/R.framework/Versions/4.2/Resources/lib/libquadmath.0.dylib" "metaseqR2.buildbin-libdir/metaseqR2/libs/metaseqR2.so"