Back to Multiple platform build/check report for BioC 3.15
ABCDEFGHIJKLMNOPQR[S]TUVWXYZ

This page was generated on 2022-08-15 13:20:50 -0400 (Mon, 15 Aug 2022).

HostnameOSArch (*)R versionInstalled pkgs
nebbiolo1Linux (Ubuntu 20.04.4 LTS)x86_644.2.1 (2022-06-23) -- "Funny-Looking Kid" 4365
palomino3Windows Server 2022 Datacenterx644.2.1 (2022-06-23 ucrt) -- "Funny-Looking Kid" 4118
merida1macOS 10.14.6 Mojavex86_644.2.1 (2022-06-23) -- "Funny-Looking Kid" 4183
Click on any hostname to see more info about the system (e.g. compilers)      (*) as reported by 'uname -p', except on Windows and Mac OS X

INSTALL results for sitadela on nebbiolo1


To the developers/maintainers of the sitadela package:
- Please allow up to 24 hours (and sometimes 48 hours) for your latest push to git@git.bioconductor.org:packages/sitadela.git to
reflect on this report. See How and When does the builder pull? When will my changes propagate? for more information.
- Make sure to use the following settings in order to reproduce any error or warning you see on this page.

raw results

Package 1861/2140HostnameOS / ArchINSTALLBUILDCHECKBUILD BIN
sitadela 1.4.0  (landing page)
Panagiotis Moulos
Snapshot Date: 2022-08-14 13:55:13 -0400 (Sun, 14 Aug 2022)
git_url: https://git.bioconductor.org/packages/sitadela
git_branch: RELEASE_3_15
git_last_commit: 4d09305
git_last_commit_date: 2022-04-26 12:13:48 -0400 (Tue, 26 Apr 2022)
nebbiolo1Linux (Ubuntu 20.04.4 LTS) / x86_64  OK    OK    OK  UNNEEDED, same version is already published
palomino3Windows Server 2022 Datacenter / x64  OK    OK    OK    OK  UNNEEDED, same version is already published
merida1macOS 10.14.6 Mojave / x86_64  OK    OK    OK    OK  UNNEEDED, same version is already published

Summary

Package: sitadela
Version: 1.4.0
Command: /home/biocbuild/bbs-3.15-bioc/R/bin/R CMD INSTALL sitadela
StartedAt: 2022-08-14 15:33:37 -0400 (Sun, 14 Aug 2022)
EndedAt: 2022-08-14 15:34:13 -0400 (Sun, 14 Aug 2022)
EllapsedTime: 36.2 seconds
RetCode: 0
Status:   OK  

Command output

##############################################################################
##############################################################################
###
### Running command:
###
###   /home/biocbuild/bbs-3.15-bioc/R/bin/R CMD INSTALL sitadela
###
##############################################################################
##############################################################################


* installing to library ‘/home/biocbuild/bbs-3.15-bioc/R/library’
* installing *source* package ‘sitadela’ ...
** using staged installation
** R
** inst
** byte-compile and prepare package for lazy loading
** help
*** installing help indices
** building package indices
** installing vignettes
** testing if installed package can be loaded from temporary location
sitadela database found at /home/biocbuild/.local/share/R/sitadela directory
** testing if installed package can be loaded from final location
sitadela database found at /home/biocbuild/.local/share/R/sitadela directory
** testing if installed package keeps a record of temporary installation path
* DONE (sitadela)