Back to Multiple platform build/check report for BioC 3.15
ABCDEFGHIJKLMNO[P]QRSTUVWXYZ

This page was generated on 2022-08-10 15:39:54 -0400 (Wed, 10 Aug 2022).

HostnameOSArch (*)R versionInstalled pkgs
nebbiolo1Linux (Ubuntu 20.04.4 LTS)x86_644.2.1 (2022-06-23) -- "Funny-Looking Kid" 4363
merida1macOS 10.14.6 Mojavex86_644.2.1 (2022-06-23) -- "Funny-Looking Kid" 4181
Click on any hostname to see more info about the system (e.g. compilers)      (*) as reported by 'uname -p', except on Windows and Mac OS X

CHECK results for panelcn.mops on nebbiolo1


To the developers/maintainers of the panelcn.mops package:
- Please allow up to 24 hours (and sometimes 48 hours) for your latest push to git@git.bioconductor.org:packages/panelcn.mops.git to
reflect on this report. See How and When does the builder pull? When will my changes propagate? for more information.
- Make sure to use the following settings in order to reproduce any error or warning you see on this page.

raw results

Package 1404/2140HostnameOS / ArchINSTALLBUILDCHECKBUILD BIN
panelcn.mops 1.18.0  (landing page)
Gundula Povysil
Snapshot Date: 2022-08-09 13:55:12 -0400 (Tue, 09 Aug 2022)
git_url: https://git.bioconductor.org/packages/panelcn.mops
git_branch: RELEASE_3_15
git_last_commit: 1312e4a
git_last_commit_date: 2022-04-26 11:43:31 -0400 (Tue, 26 Apr 2022)
nebbiolo1Linux (Ubuntu 20.04.4 LTS) / x86_64  OK    OK    OK  UNNEEDED, same version is already published
merida1macOS 10.14.6 Mojave / x86_64  OK    OK    OK    OK  UNNEEDED, same version is already published

Summary

Package: panelcn.mops
Version: 1.18.0
Command: /home/biocbuild/bbs-3.15-bioc/R/bin/R CMD check --install=check:panelcn.mops.install-out.txt --library=/home/biocbuild/bbs-3.15-bioc/R/library --no-vignettes --timings panelcn.mops_1.18.0.tar.gz
StartedAt: 2022-08-09 21:10:41 -0400 (Tue, 09 Aug 2022)
EndedAt: 2022-08-09 21:12:50 -0400 (Tue, 09 Aug 2022)
EllapsedTime: 129.1 seconds
RetCode: 0
Status:   OK  
CheckDir: panelcn.mops.Rcheck
Warnings: 0

Command output

##############################################################################
##############################################################################
###
### Running command:
###
###   /home/biocbuild/bbs-3.15-bioc/R/bin/R CMD check --install=check:panelcn.mops.install-out.txt --library=/home/biocbuild/bbs-3.15-bioc/R/library --no-vignettes --timings panelcn.mops_1.18.0.tar.gz
###
##############################################################################
##############################################################################


* using log directory ‘/home/biocbuild/bbs-3.15-bioc/meat/panelcn.mops.Rcheck’
* using R version 4.2.1 (2022-06-23)
* using platform: x86_64-pc-linux-gnu (64-bit)
* using session charset: UTF-8
* using option ‘--no-vignettes’
* checking for file ‘panelcn.mops/DESCRIPTION’ ... OK
* checking extension type ... Package
* this is package ‘panelcn.mops’ version ‘1.18.0’
* checking package namespace information ... OK
* checking package dependencies ... OK
* checking if this is a source package ... OK
* checking if there is a namespace ... OK
* checking for hidden files and directories ... OK
* checking for portable file names ... OK
* checking for sufficient/correct file permissions ... OK
* checking whether package ‘panelcn.mops’ can be installed ... OK
* checking installed package size ... OK
* checking package directory ... OK
* checking ‘build’ directory ... OK
* checking DESCRIPTION meta-information ... OK
* checking top-level files ... OK
* checking for left-over files ... OK
* checking index information ... OK
* checking package subdirectories ... OK
* checking R files for non-ASCII characters ... OK
* checking R files for syntax errors ... OK
* checking whether the package can be loaded ... OK
* checking whether the package can be loaded with stated dependencies ... OK
* checking whether the package can be unloaded cleanly ... OK
* checking whether the namespace can be loaded with stated dependencies ... OK
* checking whether the namespace can be unloaded cleanly ... OK
* checking dependencies in R code ... OK
* checking S3 generic/method consistency ... OK
* checking replacement functions ... OK
* checking foreign function calls ... OK
* checking R code for possible problems ... OK
* checking Rd files ... OK
* checking Rd metadata ... OK
* checking Rd cross-references ... OK
* checking for missing documentation entries ... OK
* checking for code/documentation mismatches ... OK
* checking Rd \usage sections ... OK
* checking Rd contents ... OK
* checking for unstated dependencies in examples ... OK
* checking contents of ‘data’ directory ... OK
* checking data for non-ASCII characters ... OK
* checking LazyData ... OK
* checking data for ASCII and uncompressed saves ... OK
* checking files in ‘vignettes’ ... OK
* checking examples ... OK
* checking for unstated dependencies in ‘tests’ ... OK
* checking tests ...
  Running ‘runTests.R’
 OK
* checking for unstated dependencies in vignettes ... OK
* checking package vignettes in ‘inst/doc’ ... OK
* checking running R code from vignettes ... SKIPPED
* checking re-building of vignette outputs ... SKIPPED
* checking PDF version of manual ... OK
* DONE

Status: OK


Installation output

panelcn.mops.Rcheck/00install.out

##############################################################################
##############################################################################
###
### Running command:
###
###   /home/biocbuild/bbs-3.15-bioc/R/bin/R CMD INSTALL panelcn.mops
###
##############################################################################
##############################################################################


* installing to library ‘/home/biocbuild/bbs-3.15-bioc/R/library’
* installing *source* package ‘panelcn.mops’ ...
** using staged installation
** R
** data
*** moving datasets to lazyload DB
** inst
** byte-compile and prepare package for lazy loading
** help
*** installing help indices
** building package indices
** installing vignettes
** testing if installed package can be loaded from temporary location
** testing if installed package can be loaded from final location
** testing if installed package keeps a record of temporary installation path
* DONE (panelcn.mops)

Tests output

panelcn.mops.Rcheck/tests/runTests.Rout


R version 4.2.1 (2022-06-23) -- "Funny-Looking Kid"
Copyright (C) 2022 The R Foundation for Statistical Computing
Platform: x86_64-pc-linux-gnu (64-bit)

R is free software and comes with ABSOLUTELY NO WARRANTY.
You are welcome to redistribute it under certain conditions.
Type 'license()' or 'licence()' for distribution details.

R is a collaborative project with many contributors.
Type 'contributors()' for more information and
'citation()' on how to cite R or R packages in publications.

Type 'demo()' for some demos, 'help()' for on-line help, or
'help.start()' for an HTML browser interface to help.
Type 'q()' to quit R.

> BiocGenerics:::testPackage("panelcn.mops")

Attaching package: 'BiocGenerics'

The following objects are masked from 'package:stats':

    IQR, mad, sd, var, xtabs

The following objects are masked from 'package:base':

    Filter, Find, Map, Position, Reduce, anyDuplicated, append,
    as.data.frame, basename, cbind, colnames, dirname, do.call,
    duplicated, eval, evalq, get, grep, grepl, intersect, is.unsorted,
    lapply, mapply, match, mget, order, paste, pmax, pmax.int, pmin,
    pmin.int, rank, rbind, rownames, sapply, setdiff, sort, table,
    tapply, union, unique, unsplit, which.max, which.min


Attaching package: 'S4Vectors'

The following objects are masked from 'package:base':

    I, expand.grid, unname


Attaching package: 'cn.mops'

The following object is masked from 'package:S4Vectors':

    params

Calculating results for sample(s) SAMPLE1.bam

SAMPLE1.bam 

Building table...
SAMPLE1.bam
Finished
naming without chr prefix chosen, but BED contains chr -> removing chr
Analyzing sample(s) SAMPLE1.bam

new sampleThresh 235.95
Cannot use exon PMS2.E2.chr7.6045492.6045693 
Cannot use exon CHEK2.E15.chr22.29083854.29084005 
Cannot use exon CHEK2.E14.chr22.29085092.29085234 
Cannot use exon CHEK2.E13.chr22.29089989.29090136 


Analyzing sample SAMPLE1.bam

"corrThresh" is set to 0.99
"maxControls" is set to 25
1
0.997060493255309
0.996941831461954
0.996599322273787
0.995380799421952
0.930827189241917

Low correlation.

Selected 5 out of 5 controls:

SAMPLE4.bam
SAMPLE3.bam
SAMPLE6.bam
SAMPLE2.bam
SAMPLE5.bam

Normalizing...
Removed bad control sample(s) SAMPLE5.bam 

Normalizing again...
Remaining samples: SAMPLE1.bam 
Remaining samples: SAMPLE4.bam 
Remaining samples: SAMPLE3.bam 
Remaining samples: SAMPLE6.bam 
Remaining samples: SAMPLE2.bam 

Low quality exon(s):
7_6012999_6013204
7_6017188_6017419
7_6018196_6018358
17_29422297_29422418

Computing results...
Creating CNVDetectionResult
Finished genepanelcn.mops


RUNIT TEST PROTOCOL -- Tue Aug  9 21:12:46 2022 
*********************************************** 
Number of test functions: 3 
Number of errors: 0 
Number of failures: 0 

 
1 Test Suite : 
panelcn.mops RUnit Tests - 3 test functions, 0 errors, 0 failures
Number of test functions: 3 
Number of errors: 0 
Number of failures: 0 
> 
> proc.time()
   user  system elapsed 
 11.720   0.387  19.326 

Example timings

panelcn.mops.Rcheck/panelcn.mops-Ex.timings

nameusersystemelapsed
control0.0980.0040.197
countBamListInGRanges0.0210.0040.058
countWindows0.0300.0160.106
createResultTable0.3840.0120.791
getWindows0.0050.0070.036
panelcn.mops1.1880.0192.551
plotBoxplot0.0770.0120.194
read.width0.0030.0000.003
resultlist0.0540.0080.126
runPanelcnMops1.2910.0122.683
splitROIs0.1720.0040.352
test0.0240.0040.044