Back to Multiple platform build/check report for BioC 3.15
ABCDEFGHIJKLMNOPQRSTUV[W]XYZ

This page was generated on 2022-08-12 13:21:01 -0400 (Fri, 12 Aug 2022).

HostnameOSArch (*)R versionInstalled pkgs
nebbiolo1Linux (Ubuntu 20.04.4 LTS)x86_644.2.1 (2022-06-23) -- "Funny-Looking Kid" 4364
palomino3Windows Server 2022 Datacenterx644.2.1 (2022-06-23 ucrt) -- "Funny-Looking Kid" 4117
merida1macOS 10.14.6 Mojavex86_644.2.1 (2022-06-23) -- "Funny-Looking Kid" 4182
Click on any hostname to see more info about the system (e.g. compilers)      (*) as reported by 'uname -p', except on Windows and Mac OS X

BUILD results for wiggleplotr on nebbiolo1


To the developers/maintainers of the wiggleplotr package:
- Please allow up to 24 hours (and sometimes 48 hours) for your latest push to git@git.bioconductor.org:packages/wiggleplotr.git to
reflect on this report. See How and When does the builder pull? When will my changes propagate? for more information.
- Make sure to use the following settings in order to reproduce any error or warning you see on this page.

raw results

Package 2121/2140HostnameOS / ArchINSTALLBUILDCHECKBUILD BIN
wiggleplotr 1.20.0  (landing page)
Kaur Alasoo
Snapshot Date: 2022-08-11 13:55:06 -0400 (Thu, 11 Aug 2022)
git_url: https://git.bioconductor.org/packages/wiggleplotr
git_branch: RELEASE_3_15
git_last_commit: 71367a0
git_last_commit_date: 2022-04-26 11:39:56 -0400 (Tue, 26 Apr 2022)
nebbiolo1Linux (Ubuntu 20.04.4 LTS) / x86_64  OK    OK    OK  UNNEEDED, same version is already published
palomino3Windows Server 2022 Datacenter / x64  OK    OK    OK    OK  UNNEEDED, same version is already published
merida1macOS 10.14.6 Mojave / x86_64  OK    OK    OK    OK  UNNEEDED, same version is already published

Summary

Package: wiggleplotr
Version: 1.20.0
Command: /home/biocbuild/bbs-3.15-bioc/R/bin/R CMD build --keep-empty-dirs --no-resave-data wiggleplotr
StartedAt: 2022-08-11 18:27:28 -0400 (Thu, 11 Aug 2022)
EndedAt: 2022-08-11 18:28:07 -0400 (Thu, 11 Aug 2022)
EllapsedTime: 38.6 seconds
RetCode: 0
Status:   OK  
PackageFile: wiggleplotr_1.20.0.tar.gz
PackageFileSize: 299.4 KiB

Command output

##############################################################################
##############################################################################
###
### Running command:
###
###   /home/biocbuild/bbs-3.15-bioc/R/bin/R CMD build --keep-empty-dirs --no-resave-data wiggleplotr
###
##############################################################################
##############################################################################


* checking for file ‘wiggleplotr/DESCRIPTION’ ... OK
* preparing ‘wiggleplotr’:
* checking DESCRIPTION meta-information ... OK
* installing the package to build vignettes
* creating vignettes ... OK
* checking for LF line-endings in source and make files and shell scripts
* checking for empty or unneeded directories
* building ‘wiggleplotr_1.20.0.tar.gz’