Back to Multiple platform build/check report for BioC 3.15
ABCDEFGHIJKLMNO[P]QRSTUVWXYZ

This page was generated on 2022-06-24 12:04:12 -0400 (Fri, 24 Jun 2022).

HostnameOSArch (*)R versionInstalled pkgs
nebbiolo1Linux (Ubuntu 20.04.4 LTS)x86_644.2.0 (2022-04-22) -- "Vigorous Calisthenics" 4380
palomino3Windows Server 2022 Datacenterx644.2.0 (2022-04-22 ucrt) -- "Vigorous Calisthenics" 4156
merida1macOS 10.14.6 Mojavex86_644.2.0 (2022-04-22) -- "Vigorous Calisthenics" 4221
Click on any hostname to see more info about the system (e.g. compilers)      (*) as reported by 'uname -p', except on Windows and Mac OS X

All results for package plyranges


To the developers/maintainers of the plyranges package:
- Please allow up to 24 hours (and sometimes 48 hours) for your latest push to git@git.bioconductor.org:packages/plyranges.git to
reflect on this report. See How and When does the builder pull? When will my changes propagate? for more information.
- Make sure to use the following settings in order to reproduce any error or warning you see on this page.

raw results

Package 1471/2140HostnameOS / ArchINSTALLBUILDCHECKBUILD BIN
plyranges 1.16.0  (landing page)
Stuart Lee
Snapshot Date: 2022-06-23 13:55:15 -0400 (Thu, 23 Jun 2022)
git_url: https://git.bioconductor.org/packages/plyranges
git_branch: RELEASE_3_15
git_last_commit: 6d76588
git_last_commit_date: 2022-04-26 11:48:19 -0400 (Tue, 26 Apr 2022)
nebbiolo1Linux (Ubuntu 20.04.4 LTS) / x86_64  OK    OK    WARNINGS  UNNEEDED, same version is already published
palomino3Windows Server 2022 Datacenter / x64  OK    OK    WARNINGS    OK  UNNEEDED, same version is already published
merida1macOS 10.14.6 Mojave / x86_64  OK    OK    WARNINGS    NA  

Results for Bioconductor software packages that depend directly on package plyranges

QUICK STATSOS / ArchINSTALLBUILDCHECKBUILD BIN
nebbiolo1Linux (Ubuntu 20.04.4 LTS) / x86_64
0010
0010
00010
palomino3Windows Server 2022 Datacenter / x64
0010
0010
00010
0010
merida1macOS 10.14.6 Mojave / x86_64
0010
0010
00010
009
Package 1/10HostnameOS / ArchINSTALLBUILDCHECKBUILD BIN
BOBaFIT 1.0.0  (landing page)
Gaia Mazzocchetti
git_last_commit: c60e503
git_last_commit_date: 2022-04-26 12:20:34 -0400
nebbiolo1Linux (Ubuntu 20.04.4 LTS) / x86_64  OK    OK    OK  UNNEEDED, same version is already published
palomino3Windows Server 2022 Datacenter / x64  OK    OK    OK    OK  UNNEEDED, same version is already published
merida1macOS 10.14.6 Mojave / x86_64  OK    OK    OK    OK  UNNEEDED, same version is already published
Package 2/10HostnameOS / ArchINSTALLBUILDCHECKBUILD BIN
BUSpaRse 1.10.0  (landing page)
Lambda Moses
git_last_commit: ad2ccde
git_last_commit_date: 2022-04-26 11:58:37 -0400
nebbiolo1Linux (Ubuntu 20.04.4 LTS) / x86_64  OK    OK    OK  UNNEEDED, same version is already published
palomino3Windows Server 2022 Datacenter / x64  OK    OK    OK    OK  UNNEEDED, same version is already published
merida1macOS 10.14.6 Mojave / x86_64  OK    OK    OK    OK  UNNEEDED, same version is already published
Package 3/10HostnameOS / ArchINSTALLBUILDCHECKBUILD BIN
dasper 1.6.0  (landing page)
David Zhang
git_last_commit: 06e29e2
git_last_commit_date: 2022-04-26 12:10:37 -0400
nebbiolo1Linux (Ubuntu 20.04.4 LTS) / x86_64  OK    OK    OK  UNNEEDED, same version is already published
palomino3Windows Server 2022 Datacenter / x64  OK    OK    OK    OK  UNNEEDED, same version is already published
merida1macOS 10.14.6 Mojave / x86_64  OK    OK    OK    OK  UNNEEDED, same version is already published
Package 4/10HostnameOS / ArchINSTALLBUILDCHECKBUILD BIN
EpiCompare 1.0.0  (landing page)
Sera Choi
git_last_commit: fba3043
git_last_commit_date: 2022-04-27 15:48:02 -0400
nebbiolo1Linux (Ubuntu 20.04.4 LTS) / x86_64  OK    OK    OK  UNNEEDED, same version is already published
palomino3Windows Server 2022 Datacenter / x64  OK    OK    OK    OK  UNNEEDED, same version is already published
merida1macOS 10.14.6 Mojave / x86_64  OK    OK    OK    OK  UNNEEDED, same version is already published
Package 5/10HostnameOS / ArchINSTALLBUILDCHECKBUILD BIN
InPAS 2.4.0  (landing page)
Jianhong Ou
git_last_commit: 2de589d
git_last_commit_date: 2022-04-26 11:24:21 -0400
nebbiolo1Linux (Ubuntu 20.04.4 LTS) / x86_64  OK    OK    OK  UNNEEDED, same version is already published
palomino3Windows Server 2022 Datacenter / x64  OK    OK    OK    OK  UNNEEDED, same version is already published
merida1macOS 10.14.6 Mojave / x86_64  OK    OK    OK    OK  UNNEEDED, same version is already published
Package 6/10HostnameOS / ArchINSTALLBUILDCHECKBUILD BIN
methylCC 1.10.0  (landing page)
Stephanie C. Hicks
git_last_commit: cf69213
git_last_commit_date: 2022-04-26 11:59:50 -0400
nebbiolo1Linux (Ubuntu 20.04.4 LTS) / x86_64  OK    OK    OK  UNNEEDED, same version is already published
palomino3Windows Server 2022 Datacenter / x64  OK    OK    OK    OK  UNNEEDED, same version is already published
merida1macOS 10.14.6 Mojave / x86_64  OK    OK    OK    OK  UNNEEDED, same version is already published
Package 7/10HostnameOS / ArchINSTALLBUILDCHECKBUILD BIN
multicrispr 1.6.0  (landing page)
Aditya Bhagwat
git_last_commit: 0f3e6be
git_last_commit_date: 2022-04-26 12:05:55 -0400
nebbiolo1Linux (Ubuntu 20.04.4 LTS) / x86_64  OK    OK    OK  UNNEEDED, same version is already published
palomino3Windows Server 2022 Datacenter / x64  OK    OK    OK    OK  UNNEEDED, same version is already published
merida1macOS 10.14.6 Mojave / x86_64  OK    OK    OK    OK  UNNEEDED, same version is already published
Package 8/10HostnameOS / ArchINSTALLBUILDCHECKBUILD BIN
nearBynding 1.6.0  (landing page)
Veronica Busa
git_last_commit: 951bb7c
git_last_commit_date: 2022-04-26 12:08:28 -0400
nebbiolo1Linux (Ubuntu 20.04.4 LTS) / x86_64  OK    OK    OK  UNNEEDED, same version is already published
palomino3Windows Server 2022 Datacenter / x64  OK    OK    OK    OK  UNNEEDED, same version is already published
merida1macOS 10.14.6 Mojave / x86_64  OK    OK    OK    OK  UNNEEDED, same version is already published
Package 9/10HostnameOS / ArchINSTALLBUILDCHECKBUILD BIN
nullranges 1.2.0  (landing page)
Michael Love
git_last_commit: c465f9f
git_last_commit_date: 2022-04-26 12:19:01 -0400
nebbiolo1Linux (Ubuntu 20.04.4 LTS) / x86_64  OK    OK    OK  UNNEEDED, same version is already published
palomino3Windows Server 2022 Datacenter / x64  OK    OK    OK    OK  UNNEEDED, same version is already published
merida1macOS 10.14.6 Mojave / x86_64  OK    OK    OK    OK  UNNEEDED, same version is already published
Package 10/10HostnameOS / ArchINSTALLBUILDCHECKBUILD BIN
plotgardener 1.2.6  (landing page)
Nicole Kramer
git_last_commit: 73f19a3
git_last_commit_date: 2022-06-20 12:49:32 -0400
nebbiolo1Linux (Ubuntu 20.04.4 LTS) / x86_64  OK    OK    OK  UNNEEDED, same version is already published
palomino3Windows Server 2022 Datacenter / x64  OK    OK    OK    OK  UNNEEDED, same version is already published
merida1macOS 10.14.6 Mojave / x86_64  OK    OK    OK    NA