Back to Build/check report for BioC 3.15
ABCDEFG[H]IJKLMNOPQRSTUVWXYZ

This page was generated on 2022-06-27 11:09:57 -0400 (Mon, 27 Jun 2022).

HostnameOSArch (*)R versionInstalled pkgs
nebbiolo1Linux (Ubuntu 20.04.4 LTS)x86_644.2.0 (2022-04-22) -- "Vigorous Calisthenics" 4380
Click on any hostname to see more info about the system (e.g. compilers)      (*) as reported by 'uname -p', except on Windows and Mac OS X

BUILD results for HelloRanges on nebbiolo1


To the developers/maintainers of the HelloRanges package:
- Please allow up to 24 hours (and sometimes 48 hours) for your latest push to git@git.bioconductor.org:packages/HelloRanges.git to
reflect on this report. See How and When does the builder pull? When will my changes propagate? for more information.
- Make sure to use the following settings in order to reproduce any error or warning you see on this page.

raw results

Package 883/2140HostnameOS / ArchINSTALLBUILDCHECKBUILD BIN
HelloRanges 1.22.0  (landing page)
Michael Lawrence
Snapshot Date: 2022-06-26 13:55:11 -0400 (Sun, 26 Jun 2022)
git_url: https://git.bioconductor.org/packages/HelloRanges
git_branch: RELEASE_3_15
git_last_commit: 7a1e113
git_last_commit_date: 2022-04-26 11:36:49 -0400 (Tue, 26 Apr 2022)
nebbiolo1Linux (Ubuntu 20.04.4 LTS) / x86_64  OK    OK    OK  UNNEEDED, same version is already published

Summary

Package: HelloRanges
Version: 1.22.0
Command: /home/biocbuild/bbs-3.15-bioc/R/bin/R CMD build --keep-empty-dirs --no-resave-data HelloRanges
StartedAt: 2022-06-26 16:39:06 -0400 (Sun, 26 Jun 2022)
EndedAt: 2022-06-26 16:42:38 -0400 (Sun, 26 Jun 2022)
EllapsedTime: 212.2 seconds
RetCode: 0
Status:   OK  
PackageFile: HelloRanges_1.22.0.tar.gz
PackageFileSize: 943 KiB

Command output

##############################################################################
##############################################################################
###
### Running command:
###
###   /home/biocbuild/bbs-3.15-bioc/R/bin/R CMD build --keep-empty-dirs --no-resave-data HelloRanges
###
##############################################################################
##############################################################################


* checking for file ‘HelloRanges/DESCRIPTION’ ... OK
* preparing ‘HelloRanges’:
* checking DESCRIPTION meta-information ... OK
* installing the package to build vignettes
* creating vignettes ... OK
* checking for LF line-endings in source and make files and shell scripts
* checking for empty or unneeded directories
* building ‘HelloRanges_1.22.0.tar.gz’