Back to Multiple platform build/check report for BioC 3.15
ABCDEFGH[I]JKLMNOPQRSTUVWXYZ

This page was generated on 2022-08-12 13:21:37 -0400 (Fri, 12 Aug 2022).

HostnameOSArch (*)R versionInstalled pkgs
nebbiolo1Linux (Ubuntu 20.04.4 LTS)x86_644.2.1 (2022-06-23) -- "Funny-Looking Kid" 4364
palomino3Windows Server 2022 Datacenterx644.2.1 (2022-06-23 ucrt) -- "Funny-Looking Kid" 4117
merida1macOS 10.14.6 Mojavex86_644.2.1 (2022-06-23) -- "Funny-Looking Kid" 4182
Click on any hostname to see more info about the system (e.g. compilers)      (*) as reported by 'uname -p', except on Windows and Mac OS X

BUILD results for IdeoViz on palomino3


To the developers/maintainers of the IdeoViz package:
- Please allow up to 24 hours (and sometimes 48 hours) for your latest push to git@git.bioconductor.org:packages/IdeoViz.git to
reflect on this report. See How and When does the builder pull? When will my changes propagate? for more information.
- Make sure to use the following settings in order to reproduce any error or warning you see on this page.

raw results

Package 936/2140HostnameOS / ArchINSTALLBUILDCHECKBUILD BIN
IdeoViz 1.32.0  (landing page)
Shraddha Pai
Snapshot Date: 2022-08-11 13:55:06 -0400 (Thu, 11 Aug 2022)
git_url: https://git.bioconductor.org/packages/IdeoViz
git_branch: RELEASE_3_15
git_last_commit: 4d9ebcd
git_last_commit_date: 2022-04-26 11:21:58 -0400 (Tue, 26 Apr 2022)
nebbiolo1Linux (Ubuntu 20.04.4 LTS) / x86_64  OK    OK    WARNINGS  UNNEEDED, same version is already published
palomino3Windows Server 2022 Datacenter / x64  OK    OK    WARNINGS    OK  UNNEEDED, same version is already published
merida1macOS 10.14.6 Mojave / x86_64  OK    OK    WARNINGS    OK  UNNEEDED, same version is already published

Summary

Package: IdeoViz
Version: 1.32.0
Command: chmod a+r IdeoViz -R && F:\biocbuild\bbs-3.15-bioc\R\bin\R.exe CMD build --keep-empty-dirs --no-resave-data IdeoViz
StartedAt: 2022-08-11 18:59:43 -0400 (Thu, 11 Aug 2022)
EndedAt: 2022-08-11 19:01:03 -0400 (Thu, 11 Aug 2022)
EllapsedTime: 80.3 seconds
RetCode: 0
Status:   OK  
PackageFile: IdeoViz_1.32.0.tar.gz
PackageFileSize: 925.8 KiB

Command output

##############################################################################
##############################################################################
###
### Running command:
###
###   chmod a+r IdeoViz -R && F:\biocbuild\bbs-3.15-bioc\R\bin\R.exe CMD build --keep-empty-dirs --no-resave-data IdeoViz
###
##############################################################################
##############################################################################


* checking for file 'IdeoViz/DESCRIPTION' ... OK
* preparing 'IdeoViz':
* checking DESCRIPTION meta-information ... OK
* installing the package to build vignettes
* creating vignettes ... OK
* checking for LF line-endings in source and make files and shell scripts
* checking for empty or unneeded directories
* looking to see if a 'data/datalist' file should be added
  NB: this package now depends on R (>= 3.5.0)
  WARNING: Added dependency on R >= 3.5.0 because serialized objects in
  serialize/load version 3 cannot be read in older versions of R.
  File(s) containing such objects:
    'IdeoViz/data/binned_fullGenome.rda'
    'IdeoViz/data/binned_multiSeries.rda'
    'IdeoViz/data/binned_singleSeries.rda' 'IdeoViz/data/examples.rda'
    'IdeoViz/data/wins.rda' 'IdeoViz/data/wins_discrete.rda'
    'IdeoViz/data/wins_entiregenome.rda'
* building 'IdeoViz_1.32.0.tar.gz'