Back to Multiple platform build/check report for BioC 3.15
AB[C]DEFGHIJKLMNOPQRSTUVWXYZ

This page was generated on 2022-05-23 12:06:14 -0400 (Mon, 23 May 2022).

HostnameOSArch (*)R versionInstalled pkgs
nebbiolo1Linux (Ubuntu 20.04.4 LTS)x86_644.2.0 (2022-04-22) -- "Vigorous Calisthenics" 4380
palomino3Windows Server 2022 Datacenterx644.2.0 (2022-04-22 ucrt) -- "Vigorous Calisthenics" 4155
merida1macOS 10.14.6 Mojavex86_644.2.0 (2022-04-22) -- "Vigorous Calisthenics" 4221
Click on any hostname to see more info about the system (e.g. compilers)      (*) as reported by 'uname -p', except on Windows and Mac OS X

CHECK results for compartmap on palomino3


To the developers/maintainers of the compartmap package:
- Please allow up to 24 hours (and sometimes 48 hours) for your latest push to git@git.bioconductor.org:packages/compartmap.git to
reflect on this report. See How and When does the builder pull? When will my changes propagate? for more information.
- Make sure to use the following settings in order to reproduce any error or warning you see on this page.

raw results

Package 388/2140HostnameOS / ArchINSTALLBUILDCHECKBUILD BIN
compartmap 1.14.0  (landing page)
Benjamin Johnson
Snapshot Date: 2022-05-22 13:55:15 -0400 (Sun, 22 May 2022)
git_url: https://git.bioconductor.org/packages/compartmap
git_branch: RELEASE_3_15
git_last_commit: e33c33b
git_last_commit_date: 2022-04-26 11:52:08 -0400 (Tue, 26 Apr 2022)
nebbiolo1Linux (Ubuntu 20.04.4 LTS) / x86_64  OK    OK    OK  UNNEEDED, same version is already published
palomino3Windows Server 2022 Datacenter / x64  OK    OK    OK    OK  UNNEEDED, same version is already published
merida1macOS 10.14.6 Mojave / x86_64  OK    OK    OK    OK  UNNEEDED, same version is already published

Summary

Package: compartmap
Version: 1.14.0
Command: F:\biocbuild\bbs-3.15-bioc\R\bin\R.exe CMD check --no-multiarch --install=check:compartmap.install-out.txt --library=F:\biocbuild\bbs-3.15-bioc\R\library --no-vignettes --timings compartmap_1.14.0.tar.gz
StartedAt: 2022-05-22 22:40:49 -0400 (Sun, 22 May 2022)
EndedAt: 2022-05-22 22:46:17 -0400 (Sun, 22 May 2022)
EllapsedTime: 328.0 seconds
RetCode: 0
Status:   OK  
CheckDir: compartmap.Rcheck
Warnings: 0

Command output

##############################################################################
##############################################################################
###
### Running command:
###
###   F:\biocbuild\bbs-3.15-bioc\R\bin\R.exe CMD check --no-multiarch --install=check:compartmap.install-out.txt --library=F:\biocbuild\bbs-3.15-bioc\R\library --no-vignettes --timings compartmap_1.14.0.tar.gz
###
##############################################################################
##############################################################################


* using log directory 'F:/biocbuild/bbs-3.15-bioc/meat/compartmap.Rcheck'
* using R version 4.2.0 (2022-04-22 ucrt)
* using platform: x86_64-w64-mingw32 (64-bit)
* using session charset: UTF-8
* using option '--no-vignettes'
* checking for file 'compartmap/DESCRIPTION' ... OK
* checking extension type ... Package
* this is package 'compartmap' version '1.14.0'
* package encoding: UTF-8
* checking package namespace information ... OK
* checking package dependencies ...Warning: unable to access index for repository https://CRAN.R-project.org/src/contrib:
  cannot open URL 'https://CRAN.R-project.org/src/contrib/PACKAGES'
 OK
* checking if this is a source package ... OK
* checking if there is a namespace ... OK
* checking for hidden files and directories ... OK
* checking for portable file names ... OK
* checking whether package 'compartmap' can be installed ... OK
* checking installed package size ... OK
* checking package directory ... OK
* checking 'build' directory ... OK
* checking DESCRIPTION meta-information ... OK
* checking top-level files ... OK
* checking for left-over files ... OK
* checking index information ... OK
* checking package subdirectories ... OK
* checking R files for non-ASCII characters ... OK
* checking R files for syntax errors ... OK
* checking whether the package can be loaded ... OK
* checking whether the package can be loaded with stated dependencies ... OK
* checking whether the package can be unloaded cleanly ... OK
* checking whether the namespace can be loaded with stated dependencies ... OK
* checking whether the namespace can be unloaded cleanly ... OK
* checking dependencies in R code ... NOTE
package 'methods' is used but not declared
* checking S3 generic/method consistency ... OK
* checking replacement functions ... OK
* checking foreign function calls ... OK
* checking R code for possible problems ... NOTE
.ebayes: no visible global function definition for 'sd'
.jse: no visible global function definition for 'sd'
.unitarize: no visible global function definition for 'median'
.window.mean: no visible global function definition for 'weighted.mean'
.window.mean.rcpp: no visible global function definition for
  'weighted.mean'
.window.mean.rcpp: no visible binding for global variable 'x'
checkAssayType: no visible global function definition for 'is'
condenseRE: no visible global function definition for 'is'
condenseSE: no visible global function definition for 'is'
estRMT: no visible global function definition for 'cov'
estRMT : <anonymous>: no visible global function definition for 'optim'
extractOpenClosed: no visible global function definition for 'is'
filterCompartments: no visible global function definition for 'is'
fixCompartments: no visible global function definition for 'is'
getATACABsignal : atacCompartments: no visible global function
  definition for 'keepSeqlevels'
getATACABsignal : atacCompartments: no visible global function
  definition for 'as'
getATACABsignal : <anonymous>: no visible global function definition
  for 'as'
getATACABsignal: no visible global function definition for 'as'
getBinMatrix: no visible global function definition for 'IRanges'
getCorMatrix: no visible global function definition for 'cor'
getDenoisedCorMatrix: no visible global function definition for
  'keepSeqlevels'
getDomainInflections: no visible global function definition for 'is'
getDomainInflections: no visible global function definition for 'data'
getDomainInflections: no visible global function definition for
  'seqlengths'
getDomainInflections: no visible global function definition for
  'queryHits'
getDomainInflections: no visible global function definition for
  'subjectHits'
getDomainInflections : .getInflections: no visible global function
  definition for 'IRanges'
getDomainInflections: no visible global function definition for 'as'
getRNAABsignal : atacCompartments: no visible global function
  definition for 'keepSeqlevels'
getRNAABsignal : atacCompartments: no visible global function
  definition for 'as'
getRNAABsignal : <anonymous>: no visible global function definition for
  'as'
getRNAABsignal: no visible global function definition for 'as'
getSVD: no visible global function definition for 'cor'
getSeqLengths: no visible global function definition for 'data'
getSeqLengths: no visible global function definition for 'seqlevels'
getSeqLengths: no visible global function definition for 'seqlengths'
hdf5TFIDF: no visible global function definition for 'is'
hdf5TFIDF: no visible global function definition for 'as'
importBigWig: no visible global function definition for
  'seqlevelsStyle<-'
importBigWig: no visible global function definition for 'seqlengths'
importBigWig: no visible global function definition for
  'keepStandardChromosomes'
importBigWig: no visible global function definition for 'keepSeqlevels'
importBigWig: no visible global function definition for 'seqlevels'
importBigWig: no visible global function definition for 'SimpleList'
meanSmoother: no visible global function definition for 'median'
plotAB: no visible global function definition for 'is'
plotAB: no visible global function definition for 'keepSeqlevels'
plotAB: no visible global function definition for 'as'
plotAB: no visible global function definition for 'par'
plotAB: no visible global function definition for 'barplot'
plotAB: no visible global function definition for 'abline'
plotAB: no visible global function definition for 'median'
plotCorMatrix: no visible binding for global variable 'Var2'
plotCorMatrix: no visible binding for global variable 'Var1'
plotCorMatrix: no visible binding for global variable 'value'
precomputeBootstrapMeans : <anonymous>: no visible global function
  definition for 'SimpleList'
sparseToDenseMatrix: no visible global function definition for 'as'
sparseToDenseMatrix : <anonymous>: no visible global function
  definition for 'as'
summarizeBootstraps : <anonymous>: no visible global function
  definition for 'subjectHits'
summarizeBootstraps : <anonymous>: no visible global function
  definition for 'queryHits'
transformTFIDF: no visible global function definition for 'is'
as.matrix,GRanges: no visible global function definition for 'as'
coerce,GRanges-matrix: no visible global function definition for 'as'
coerce,matrix-GRanges: no visible global function definition for 'as'
granges,matrix: no visible global function definition for 'as'
Undefined global functions or variables:
  IRanges SimpleList Var1 Var2 abline as barplot cor cov data is
  keepSeqlevels keepStandardChromosomes median optim par queryHits sd
  seqlengths seqlevels seqlevelsStyle<- subjectHits value weighted.mean
  x
Consider adding
  importFrom("graphics", "abline", "barplot", "par")
  importFrom("methods", "as", "is")
  importFrom("stats", "cor", "cov", "median", "optim", "sd",
             "weighted.mean")
  importFrom("utils", "data")
to your NAMESPACE file (and ensure that your DESCRIPTION Imports field
contains 'methods').
* checking Rd files ... NOTE
prepare_Rd: filterCompartments.Rd:22-24: Dropping empty section \examples
prepare_Rd: fixCompartments.Rd:24-26: Dropping empty section \examples
prepare_Rd: summarizeBootstraps.Rd:24-26: Dropping empty section \examples
* checking Rd metadata ... OK
* checking Rd cross-references ... OK
* checking for missing documentation entries ... OK
* checking for code/documentation mismatches ... OK
* checking Rd \usage sections ... OK
* checking Rd contents ... OK
* checking for unstated dependencies in examples ... OK
* checking contents of 'data' directory ... OK
* checking data for non-ASCII characters ... OK
* checking data for ASCII and uncompressed saves ... OK
* checking files in 'vignettes' ... OK
* checking examples ... OK
Examples with CPU (user + system) or elapsed time > 5s
                   user system elapsed
scCompartments    92.97   2.35   95.31
getDenoisedMatrix  6.89   0.13    7.01
* checking for unstated dependencies in vignettes ... OK
* checking package vignettes in 'inst/doc' ... OK
* checking running R code from vignettes ... SKIPPED
* checking re-building of vignette outputs ... SKIPPED
* checking PDF version of manual ... OK
* DONE

Status: 3 NOTEs
See
  'F:/biocbuild/bbs-3.15-bioc/meat/compartmap.Rcheck/00check.log'
for details.



Installation output

compartmap.Rcheck/00install.out

##############################################################################
##############################################################################
###
### Running command:
###
###   F:\biocbuild\bbs-3.15-bioc\R\bin\R.exe CMD INSTALL compartmap
###
##############################################################################
##############################################################################


* installing to library 'F:/biocbuild/bbs-3.15-bioc/R/library'
* installing *source* package 'compartmap' ...
** using staged installation
** R
** data
** inst
** byte-compile and prepare package for lazy loading
** help
*** installing help indices
*** copying figures
** building package indices
** installing vignettes
** testing if installed package can be loaded from temporary location
** testing if installed package can be loaded from final location
** testing if installed package keeps a record of temporary installation path
* DONE (compartmap)

Tests output


Example timings

compartmap.Rcheck/compartmap-Ex.timings

nameusersystemelapsed
agrestiCoullCI000
bootstrapCompartments000
checkAssayType0.810.010.83
condenseRE0.470.000.47
condenseSE0.530.020.54
estRMT0.220.000.22
extractOpenClosed0.030.000.03
fexpit000
fisherZ000
flogit0.000.010.02
getABSignal0.340.080.42
getATACABsignal2.830.062.89
getAssayNames0.120.020.14
getBinMatrix0.150.090.24
getChrs0.070.020.09
getCorMatrix0.180.060.24
getDenoisedMatrix6.890.137.01
getDomainInflections1.140.171.31
getGlobalMeans0.230.000.24
getMatrixBlocks0.020.000.01
getSVD0.010.000.02
getSeqLengths000
getShrinkageTargets000
hdf5TFIDF0.310.000.41
ifisherZ000
meanSmoother1.580.061.64
plotAB0.330.080.41
plotCorMatrix0.040.000.05
precomputeBootstrapMeans0.490.040.53
scCompartments92.97 2.3595.31
shrinkBins1.860.051.91
sparseToDenseMatrix0.050.000.05
transformTFIDF0.030.000.03