Back to Multiple platform build/check report for BioC 3.15
ABCDEFGHIJKLMNOPQ[R]STUVWXYZ

This page was generated on 2022-08-15 13:20:42 -0400 (Mon, 15 Aug 2022).

HostnameOSArch (*)R versionInstalled pkgs
nebbiolo1Linux (Ubuntu 20.04.4 LTS)x86_644.2.1 (2022-06-23) -- "Funny-Looking Kid" 4365
palomino3Windows Server 2022 Datacenterx644.2.1 (2022-06-23 ucrt) -- "Funny-Looking Kid" 4118
merida1macOS 10.14.6 Mojavex86_644.2.1 (2022-06-23) -- "Funny-Looking Kid" 4183
Click on any hostname to see more info about the system (e.g. compilers)      (*) as reported by 'uname -p', except on Windows and Mac OS X

CHECK results for REMP on nebbiolo1


To the developers/maintainers of the REMP package:
- Please allow up to 24 hours (and sometimes 48 hours) for your latest push to git@git.bioconductor.org:packages/REMP.git to
reflect on this report. See How and When does the builder pull? When will my changes propagate? for more information.
- Make sure to use the following settings in order to reproduce any error or warning you see on this page.

raw results

Package 1621/2140HostnameOS / ArchINSTALLBUILDCHECKBUILD BIN
REMP 1.20.1  (landing page)
Yinan Zheng
Snapshot Date: 2022-08-14 13:55:13 -0400 (Sun, 14 Aug 2022)
git_url: https://git.bioconductor.org/packages/REMP
git_branch: RELEASE_3_15
git_last_commit: 58547b6
git_last_commit_date: 2022-05-13 05:55:06 -0400 (Fri, 13 May 2022)
nebbiolo1Linux (Ubuntu 20.04.4 LTS) / x86_64  OK    OK    OK  UNNEEDED, same version is already published
palomino3Windows Server 2022 Datacenter / x64  OK    OK    OK    OK  UNNEEDED, same version is already published
merida1macOS 10.14.6 Mojave / x86_64  OK    OK    OK    OK  UNNEEDED, same version is already published

Summary

Package: REMP
Version: 1.20.1
Command: /home/biocbuild/bbs-3.15-bioc/R/bin/R CMD check --install=check:REMP.install-out.txt --library=/home/biocbuild/bbs-3.15-bioc/R/library --no-vignettes --timings REMP_1.20.1.tar.gz
StartedAt: 2022-08-14 21:33:45 -0400 (Sun, 14 Aug 2022)
EndedAt: 2022-08-14 21:40:45 -0400 (Sun, 14 Aug 2022)
EllapsedTime: 420.0 seconds
RetCode: 0
Status:   OK  
CheckDir: REMP.Rcheck
Warnings: 0

Command output

##############################################################################
##############################################################################
###
### Running command:
###
###   /home/biocbuild/bbs-3.15-bioc/R/bin/R CMD check --install=check:REMP.install-out.txt --library=/home/biocbuild/bbs-3.15-bioc/R/library --no-vignettes --timings REMP_1.20.1.tar.gz
###
##############################################################################
##############################################################################


* using log directory ‘/home/biocbuild/bbs-3.15-bioc/meat/REMP.Rcheck’
* using R version 4.2.1 (2022-06-23)
* using platform: x86_64-pc-linux-gnu (64-bit)
* using session charset: UTF-8
* using option ‘--no-vignettes’
* checking for file ‘REMP/DESCRIPTION’ ... OK
* checking extension type ... Package
* this is package ‘REMP’ version ‘1.20.1’
* package encoding: UTF-8
* checking package namespace information ... OK
* checking package dependencies ... OK
* checking if this is a source package ... OK
* checking if there is a namespace ... OK
* checking for hidden files and directories ... OK
* checking for portable file names ... OK
* checking for sufficient/correct file permissions ... OK
* checking whether package ‘REMP’ can be installed ... OK
* checking installed package size ... OK
* checking package directory ... OK
* checking ‘build’ directory ... OK
* checking DESCRIPTION meta-information ... OK
* checking top-level files ... OK
* checking for left-over files ... OK
* checking index information ... OK
* checking package subdirectories ... OK
* checking R files for non-ASCII characters ... OK
* checking R files for syntax errors ... OK
* checking whether the package can be loaded ... OK
* checking whether the package can be loaded with stated dependencies ... OK
* checking whether the package can be unloaded cleanly ... OK
* checking whether the namespace can be loaded with stated dependencies ... OK
* checking whether the namespace can be unloaded cleanly ... OK
* checking dependencies in R code ... NOTE
'library' or 'require' calls in package code:
  ‘IlluminaHumanMethylation450kanno.ilmn12.hg19’
  ‘IlluminaHumanMethylationEPICanno.ilm10b2.hg19’
  Please use :: or requireNamespace() instead.
  See section 'Suggested packages' in the 'Writing R Extensions' manual.
* checking S3 generic/method consistency ... OK
* checking replacement functions ... OK
* checking foreign function calls ... OK
* checking R code for possible problems ... NOTE
initREMP: no visible binding for global variable
  ‘IlluminaHumanMethylation450kanno.ilmn12.hg19’
initREMP: no visible binding for global variable
  ‘IlluminaHumanMethylationEPICanno.ilm10b2.hg19’
remprofile: no visible binding for global variable
  ‘IlluminaHumanMethylation450kanno.ilmn12.hg19’
remprofile: no visible binding for global variable
  ‘IlluminaHumanMethylationEPICanno.ilm10b2.hg19’
Undefined global functions or variables:
  IlluminaHumanMethylation450kanno.ilmn12.hg19
  IlluminaHumanMethylationEPICanno.ilm10b2.hg19
* checking Rd files ... OK
* checking Rd metadata ... OK
* checking Rd cross-references ... OK
* checking for missing documentation entries ... OK
* checking for code/documentation mismatches ... OK
* checking Rd \usage sections ... OK
* checking Rd contents ... OK
* checking for unstated dependencies in examples ... OK
* checking contents of ‘data’ directory ... OK
* checking data for non-ASCII characters ... OK
* checking LazyData ... OK
* checking data for ASCII and uncompressed saves ... OK
* checking files in ‘vignettes’ ... OK
* checking examples ... OK
Examples with CPU (user + system) or elapsed time > 5s
                  user system elapsed
fetchRMSK       13.560  2.407  18.285
remp            13.490  1.791  14.580
rempTemplate    10.091  1.874  11.973
GRannot          8.822  1.675  10.977
remprofile       8.921  1.479  10.341
initREMP         7.096  1.118   8.647
fetchRefSeqGene  5.826  1.049   7.289
grooMethy        1.960  0.365   9.105
* checking for unstated dependencies in vignettes ... OK
* checking package vignettes in ‘inst/doc’ ... OK
* checking running R code from vignettes ... SKIPPED
* checking re-building of vignette outputs ... SKIPPED
* checking PDF version of manual ... OK
* DONE

Status: 2 NOTEs
See
  ‘/home/biocbuild/bbs-3.15-bioc/meat/REMP.Rcheck/00check.log’
for details.



Installation output

REMP.Rcheck/00install.out

##############################################################################
##############################################################################
###
### Running command:
###
###   /home/biocbuild/bbs-3.15-bioc/R/bin/R CMD INSTALL REMP
###
##############################################################################
##############################################################################


* installing to library ‘/home/biocbuild/bbs-3.15-bioc/R/library’
* installing *source* package ‘REMP’ ...
** using staged installation
** R
** data
*** moving datasets to lazyload DB
** inst
** byte-compile and prepare package for lazy loading
** help
*** installing help indices
** building package indices
** installing vignettes
** testing if installed package can be loaded from temporary location
** testing if installed package can be loaded from final location
** testing if installed package keeps a record of temporary installation path
* DONE (REMP)

Tests output


Example timings

REMP.Rcheck/REMP-Ex.timings

nameusersystemelapsed
GRannot 8.822 1.67510.977
REMParcel-class0.0010.0000.001
REMProduct-class0.0020.0000.001
fetchRMSK13.560 2.40718.285
fetchRefSeqGene5.8261.0497.289
findRECpG0.9590.2011.157
getBackend2.4170.3582.785
getGM128781.8880.2202.120
grooMethy1.9600.3659.105
initREMP7.0961.1188.647
options0.0030.0010.002
remp13.490 1.79114.580
rempTemplate10.091 1.87411.973
remprofile 8.921 1.47910.341