Back to Multiple platform build/check report for BioC 3.15
ABCD[E]FGHIJKLMNOPQRSTUVWXYZ

This page was generated on 2022-05-20 12:07:57 -0400 (Fri, 20 May 2022).

HostnameOSArch (*)R versionInstalled pkgs
nebbiolo1Linux (Ubuntu 20.04.4 LTS)x86_644.2.0 (2022-04-22) -- "Vigorous Calisthenics" 4380
palomino3Windows Server 2022 Datacenterx644.2.0 (2022-04-22 ucrt) -- "Vigorous Calisthenics" 4155
merida1macOS 10.14.6 Mojavex86_644.2.0 (2022-04-22) -- "Vigorous Calisthenics" 4221
Click on any hostname to see more info about the system (e.g. compilers)      (*) as reported by 'uname -p', except on Windows and Mac OS X

BUILD BIN results for EnrichedHeatmap on merida1


To the developers/maintainers of the EnrichedHeatmap package:
- Please allow up to 24 hours (and sometimes 48 hours) for your latest push to git@git.bioconductor.org:packages/EnrichedHeatmap.git to
reflect on this report. See How and When does the builder pull? When will my changes propagate? for more information.
- Make sure to use the following settings in order to reproduce any error or warning you see on this page.

raw results

Package 599/2140HostnameOS / ArchINSTALLBUILDCHECKBUILD BIN
EnrichedHeatmap 1.26.0  (landing page)
Zuguang Gu
Snapshot Date: 2022-05-19 13:55:15 -0400 (Thu, 19 May 2022)
git_url: https://git.bioconductor.org/packages/EnrichedHeatmap
git_branch: RELEASE_3_15
git_last_commit: a4b3125
git_last_commit_date: 2022-04-26 11:27:23 -0400 (Tue, 26 Apr 2022)
nebbiolo1Linux (Ubuntu 20.04.4 LTS) / x86_64  OK    OK    OK  UNNEEDED, same version is already published
palomino3Windows Server 2022 Datacenter / x64  OK    OK    OK    OK  UNNEEDED, same version is already published
merida1macOS 10.14.6 Mojave / x86_64  OK    OK    OK    OK  UNNEEDED, same version is already published

Summary

Package: EnrichedHeatmap
Version: 1.26.0
Command: rm -rf EnrichedHeatmap.buildbin-libdir && mkdir EnrichedHeatmap.buildbin-libdir && /Users/biocbuild/BBS/utils/build-universal.sh EnrichedHeatmap_1.26.0.tar.gz /Library/Frameworks/R.framework/Resources/bin/R EnrichedHeatmap.buildbin-libdir
StartedAt: 2022-05-20 10:16:43 -0400 (Fri, 20 May 2022)
EndedAt: 2022-05-20 10:17:29 -0400 (Fri, 20 May 2022)
EllapsedTime: 46.5 seconds
RetCode: 0
Status:   OK  
PackageFile: EnrichedHeatmap_1.26.0.tgz
PackageFileSize: 6.15 MiB

Command output

##############################################################################
##############################################################################
###
### Running command:
###
###   rm -rf EnrichedHeatmap.buildbin-libdir && mkdir EnrichedHeatmap.buildbin-libdir && /Users/biocbuild/BBS/utils/build-universal.sh EnrichedHeatmap_1.26.0.tar.gz /Library/Frameworks/R.framework/Resources/bin/R EnrichedHeatmap.buildbin-libdir
###
##############################################################################
##############################################################################


>>>>>>> 
>>>>>>> INSTALLATION WITH 'R CMD INSTALL --preclean --no-multiarch --library=EnrichedHeatmap.buildbin-libdir EnrichedHeatmap_1.26.0.tar.gz'
>>>>>>> 

* installing *source* package ‘EnrichedHeatmap’ ...
** using staged installation
** libs
clang++ -mmacosx-version-min=10.13 -std=gnu++14 -I"/Library/Frameworks/R.framework/Resources/include" -DNDEBUG  -I'/Library/Frameworks/R.framework/Versions/4.2/Resources/library/Rcpp/include' -I/usr/local/include   -fPIC  -Wall -g -O2  -c RcppExports.cpp -o RcppExports.o
clang++ -mmacosx-version-min=10.13 -std=gnu++14 -I"/Library/Frameworks/R.framework/Resources/include" -DNDEBUG  -I'/Library/Frameworks/R.framework/Versions/4.2/Resources/library/Rcpp/include' -I/usr/local/include   -fPIC  -Wall -g -O2  -c dist_by_closeness.cpp -o dist_by_closeness.o
clang++ -mmacosx-version-min=10.13 -std=gnu++14 -dynamiclib -Wl,-headerpad_max_install_names -undefined dynamic_lookup -single_module -multiply_defined suppress -L/Library/Frameworks/R.framework/Resources/lib -L/usr/local/lib -o EnrichedHeatmap.so RcppExports.o dist_by_closeness.o -F/Library/Frameworks/R.framework/.. -framework R -Wl,-framework -Wl,CoreFoundation
installing to /Users/biocbuild/bbs-3.15-bioc/meat/EnrichedHeatmap.buildbin-libdir/00LOCK-EnrichedHeatmap/00new/EnrichedHeatmap/libs
** R
** inst
** byte-compile and prepare package for lazy loading
** help
*** installing help indices
** building package indices
** installing vignettes
** testing if installed package can be loaded from temporary location
** checking absolute paths in shared objects and dynamic libraries
** testing if installed package can be loaded from final location
** testing if installed package keeps a record of temporary installation path
* DONE (EnrichedHeatmap)


>>>>>>> 
>>>>>>> FIXING LINKS FOR EnrichedHeatmap.buildbin-libdir/EnrichedHeatmap/libs/EnrichedHeatmap.so
>>>>>>> 

install_name_tool -change "/usr/local/lib/libgcc_s.1.dylib" "/Library/Frameworks/R.framework/Versions/4.2/Resources/lib/libgcc_s.1.dylib" "EnrichedHeatmap.buildbin-libdir/EnrichedHeatmap/libs/EnrichedHeatmap.so"
install_name_tool -change "/usr/local/lib/libgfortran.5.dylib" "/Library/Frameworks/R.framework/Versions/4.2/Resources/lib/libgfortran.5.dylib" "EnrichedHeatmap.buildbin-libdir/EnrichedHeatmap/libs/EnrichedHeatmap.so"
install_name_tool -change "/usr/local/lib/libquadmath.0.dylib" "/Library/Frameworks/R.framework/Versions/4.2/Resources/lib/libquadmath.0.dylib" "EnrichedHeatmap.buildbin-libdir/EnrichedHeatmap/libs/EnrichedHeatmap.so"