Back to Multiple platform build/check report for BioC 3.15
ABCDEFGH[I]JKLMNOPQRSTUVWXYZ

This page was generated on 2022-05-13 12:48:10 -0400 (Fri, 13 May 2022).

HostnameOSArch (*)R versionInstalled pkgs
nebbiolo1Linux (Ubuntu 20.04.4 LTS)x86_644.2.0 (2022-04-22) -- "Vigorous Calisthenics" 4344
palomino3Windows Server 2022 Datacenterx644.2.0 (2022-04-22 ucrt) -- "Vigorous Calisthenics" 4151
merida1macOS 10.14.6 Mojavex86_644.2.0 (2022-04-22) -- "Vigorous Calisthenics" 4183
Click on any hostname to see more info about the system (e.g. compilers)      (*) as reported by 'uname -p', except on Windows and Mac OS X

CHECK results for IsoformSwitchAnalyzeR on merida1


To the developers/maintainers of the IsoformSwitchAnalyzeR package:
- Please allow up to 24 hours (and sometimes 48 hours) for your latest push to git@git.bioconductor.org:packages/IsoformSwitchAnalyzeR.git to
reflect on this report. See How and When does the builder pull? When will my changes propagate? for more information.
- Make sure to use the following settings in order to reproduce any error or warning you see on this page.

raw results

Package 988/2140HostnameOS / ArchINSTALLBUILDCHECKBUILD BIN
IsoformSwitchAnalyzeR 1.18.0  (landing page)
Kristoffer Vitting-Seerup
Snapshot Date: 2022-05-12 13:55:13 -0400 (Thu, 12 May 2022)
git_url: https://git.bioconductor.org/packages/IsoformSwitchAnalyzeR
git_branch: RELEASE_3_15
git_last_commit: b0f581c
git_last_commit_date: 2022-04-26 11:41:17 -0400 (Tue, 26 Apr 2022)
nebbiolo1Linux (Ubuntu 20.04.4 LTS) / x86_64  OK    OK    OK  UNNEEDED, same version is already published
palomino3Windows Server 2022 Datacenter / x64  OK    OK    OK    OK  UNNEEDED, same version is already published
merida1macOS 10.14.6 Mojave / x86_64  OK    OK    OK    OK  UNNEEDED, same version is already published

Summary

Package: IsoformSwitchAnalyzeR
Version: 1.18.0
Command: /Library/Frameworks/R.framework/Resources/bin/R CMD check --install=check:IsoformSwitchAnalyzeR.install-out.txt --library=/Library/Frameworks/R.framework/Resources/library --no-vignettes --timings IsoformSwitchAnalyzeR_1.18.0.tar.gz
StartedAt: 2022-05-13 03:43:34 -0400 (Fri, 13 May 2022)
EndedAt: 2022-05-13 04:00:38 -0400 (Fri, 13 May 2022)
EllapsedTime: 1023.7 seconds
RetCode: 0
Status:   OK  
CheckDir: IsoformSwitchAnalyzeR.Rcheck
Warnings: 0

Command output

##############################################################################
##############################################################################
###
### Running command:
###
###   /Library/Frameworks/R.framework/Resources/bin/R CMD check --install=check:IsoformSwitchAnalyzeR.install-out.txt --library=/Library/Frameworks/R.framework/Resources/library --no-vignettes --timings IsoformSwitchAnalyzeR_1.18.0.tar.gz
###
##############################################################################
##############################################################################


* using log directory ‘/Users/biocbuild/bbs-3.15-bioc/meat/IsoformSwitchAnalyzeR.Rcheck’
* using R version 4.2.0 (2022-04-22)
* using platform: x86_64-apple-darwin17.0 (64-bit)
* using session charset: UTF-8
* using option ‘--no-vignettes’
* checking for file ‘IsoformSwitchAnalyzeR/DESCRIPTION’ ... OK
* checking extension type ... Package
* this is package ‘IsoformSwitchAnalyzeR’ version ‘1.18.0’
* checking package namespace information ... OK
* checking package dependencies ... OK
* checking if this is a source package ... OK
* checking if there is a namespace ... OK
* checking for hidden files and directories ... OK
* checking for portable file names ... OK
* checking for sufficient/correct file permissions ... OK
* checking whether package ‘IsoformSwitchAnalyzeR’ can be installed ... OK
* checking installed package size ... NOTE
  installed size is  6.3Mb
  sub-directories of 1Mb or more:
    extdata   4.2Mb
* checking package directory ... OK
* checking ‘build’ directory ... OK
* checking DESCRIPTION meta-information ... NOTE
Malformed Title field: should not end in a period.
* checking top-level files ... OK
* checking for left-over files ... OK
* checking index information ... OK
* checking package subdirectories ... OK
* checking R files for non-ASCII characters ... OK
* checking R files for syntax errors ... OK
* checking whether the package can be loaded ... OK
* checking whether the package can be loaded with stated dependencies ... OK
* checking whether the package can be unloaded cleanly ... OK
* checking whether the namespace can be loaded with stated dependencies ... OK
* checking whether the namespace can be unloaded cleanly ... OK
* checking dependencies in R code ... OK
* checking S3 generic/method consistency ... OK
* checking replacement functions ... OK
* checking foreign function calls ... OK
* checking R code for possible problems ... NOTE
analyzeIUPred2A: no visible global function definition for 'queryHits'
analyzeIUPred2A: no visible global function definition for
  'subjectHits'
analyzeNovelIsoformORF: no visible binding for global variable
  'orf_origin'
analyzeNovelIsoformORF: no visible binding for global variable
  'orfStartGenomic'
analyzeNovelIsoformORF: no visible binding for global variable
  'isoform_id'
analyzeNovelIsoformORF: no visible binding for global variable
  'orfEndGenomic'
compareAnnotationOfTwoIsoforms: no visible global function definition
  for 'queryHits'
compareAnnotationOfTwoIsoforms: no visible global function definition
  for 'subjectHits'
expressionAnalysisPlot: no visible binding for global variable
  'Condition'
expressionAnalysisPlot: no visible binding for global variable
  'gene_expression'
expressionAnalysisPlot: no visible binding for global variable 'CI_up'
expressionAnalysisPlot: no visible binding for global variable
  'CI_down'
expressionAnalysisPlot: no visible binding for global variable
  'sigLevelPos'
expressionAnalysisPlot: no visible binding for global variable
  'sigLevel'
expressionAnalysisPlot: no visible binding for global variable 'CI_hi'
expressionAnalysisPlot: no visible binding for global variable 'CI_low'
expressionAnalysisPlot: no visible binding for global variable 'ymax'
expressionAnalysisPlot: no visible binding for global variable
  'sigEval'
expressionAnalysisPlot: no visible binding for global variable 'idNr'
expressionAnalysisPlot: no visible binding for global variable 'IF'
extractConsequenceEnrichment: no visible binding for global variable
  'feature2'
extractConsequenceEnrichment: no visible binding for global variable
  'propOfRelevantEvents'
extractConsequenceEnrichment: no visible binding for global variable
  'Significant'
extractConsequenceEnrichment: no visible binding for global variable
  'propCiLo'
extractConsequenceEnrichment: no visible binding for global variable
  'propCiHi'
extractConsequenceEnrichment: no visible binding for global variable
  'nTot'
extractConsequenceEnrichmentComparison: no visible binding for global
  variable 'Comparison'
extractConsequenceEnrichmentComparison: no visible binding for global
  variable 'propOfRelevantEvents'
extractConsequenceEnrichmentComparison: no visible binding for global
  variable 'Significant'
extractConsequenceEnrichmentComparison: no visible binding for global
  variable 'nTot'
extractConsequenceEnrichmentComparison: no visible binding for global
  variable 'propCiHi'
extractConsequenceEnrichmentComparison: no visible binding for global
  variable 'propCiLo'
extractConsequenceGenomeWide: no visible binding for global variable
  'isoform_feature'
extractConsequenceGenomeWide: no visible binding for global variable
  'value'
extractConsequenceGenomeWide: no visible binding for global variable
  'variable'
extractConsequenceGenomeWide: no visible binding for global variable
  'ymax'
extractConsequenceGenomeWide: no visible binding for global variable
  'significance'
extractConsequenceGenomeWide: no visible binding for global variable
  'idNr'
extractConsequenceSummary: no visible binding for global variable
  'switchConsequence'
extractConsequenceSummary: no visible binding for global variable
  'geneFraction'
extractConsequenceSummary: no visible binding for global variable
  'nrGenesWithConsequences'
extractConsequenceSummary: no visible binding for global variable
  'isoFraction'
extractConsequenceSummary: no visible binding for global variable
  'nrIsoWithConsequences'
extractSplicingEnrichment: no visible binding for global variable
  'AStype'
extractSplicingEnrichment: no visible binding for global variable
  'propUp'
extractSplicingEnrichment: no visible binding for global variable
  'Significant'
extractSplicingEnrichment: no visible binding for global variable
  'nTot'
extractSplicingEnrichment: no visible binding for global variable
  'propUpCiHi'
extractSplicingEnrichment: no visible binding for global variable
  'propUpCiLo'
extractSplicingEnrichmentComparison: no visible binding for global
  variable 'Comparison'
extractSplicingEnrichmentComparison: no visible binding for global
  variable 'propUp'
extractSplicingEnrichmentComparison: no visible binding for global
  variable 'Significant'
extractSplicingEnrichmentComparison: no visible binding for global
  variable 'nTot'
extractSplicingEnrichmentComparison: no visible binding for global
  variable 'propUpCiHi'
extractSplicingEnrichmentComparison: no visible binding for global
  variable 'propUpCiLo'
extractSplicingGenomeWide: no visible binding for global variable
  'isoform_feature'
extractSplicingGenomeWide: no visible binding for global variable
  'value'
extractSplicingGenomeWide: no visible binding for global variable
  'variable'
extractSplicingGenomeWide: no visible binding for global variable
  'ymax'
extractSplicingGenomeWide: no visible binding for global variable
  'significance'
extractSplicingGenomeWide: no visible binding for global variable
  'idNr'
extractSplicingSummary: no visible binding for global variable
  'splicingResult'
extractSplicingSummary: no visible binding for global variable
  'geneFraction'
extractSplicingSummary: no visible binding for global variable
  'nrGenesWithConsequences'
extractSplicingSummary: no visible binding for global variable
  'isoFraction'
extractSplicingSummary: no visible binding for global variable
  'nrIsoWithConsequences'
grangesFracOverlap: no visible global function definition for
  'queryHits'
grangesFracOverlap: no visible global function definition for
  'subjectHits'
importGTF: no visible binding for global variable 'gene_id'
importGTF: no visible binding for global variable 'gene_name'
importRdata: no visible binding for global variable 'isoform_id'
importRdata: no visible binding for global variable 'gene_id'
importRdata: no visible binding for global variable 'ref_gene_id'
importRdata: no visible binding for global variable 'n_ref_gene_ids'
importRdata: no visible binding for global variable 'n_iso_na'
importRdata: no visible global function definition for 'queryHits'
importRdata: no visible global function definition for 'subjectHits'
importRdata: no visible binding for global variable 'novel_iso'
importRdata: no visible binding for global variable 'known_ref_gene_id'
importRdata: no visible binding for global variable 'nt_overlap'
importRdata: no visible binding for global variable 'frac_overlap'
importRdata: no visible binding for global variable
  'log2_overlap_ratio'
importRdata: no visible binding for global variable 'has_ref_gene_id'
importRdata: no visible binding for global variable 'has_novel_iso'
importRdata: no visible binding for global variable 'gene_name'
importRdata: no visible binding for global variable 'n_ref'
importSalmonData: no visible global function definition for 'metadata'
importSalmonData: no visible global function definition for 'assay'
isoformToGeneExp: no visible binding for global variable 'gene_id'
isoformToGeneExp: no visible binding for global variable 'gene_name'
preFilter: no visible global function definition for 'setdff'
switchPlotTranscript: no visible global function definition for
  'queryHits'
switchPlotTranscript: no visible binding for global variable 'y'
switchPlotTranscript: no visible binding for global variable 'yend'
switchPlotTranscript: no visible binding for global variable 'x'
switchPlotTranscript: no visible binding for global variable 'ymin'
switchPlotTranscript: no visible binding for global variable 'xmin'
switchPlotTranscript: no visible binding for global variable 'ymax'
switchPlotTranscript: no visible binding for global variable 'xmax'
switchPlotTranscript: no visible binding for global variable 'Domain'
Undefined global functions or variables:
  AStype CI_down CI_hi CI_low CI_up Comparison Condition Domain IF
  Significant assay feature2 frac_overlap geneFraction gene_expression
  gene_id gene_name has_novel_iso has_ref_gene_id idNr isoFraction
  isoform_feature isoform_id known_ref_gene_id log2_overlap_ratio
  metadata nTot n_iso_na n_ref n_ref_gene_ids novel_iso
  nrGenesWithConsequences nrIsoWithConsequences nt_overlap
  orfEndGenomic orfStartGenomic orf_origin propCiHi propCiLo
  propOfRelevantEvents propUp propUpCiHi propUpCiLo queryHits
  ref_gene_id setdff sigEval sigLevel sigLevelPos significance
  splicingResult subjectHits switchConsequence value variable x xmax
  xmin y yend ymax ymin
* checking Rd files ... OK
* checking Rd metadata ... OK
* checking Rd cross-references ... OK
* checking for missing documentation entries ... OK
* checking for code/documentation mismatches ... OK
* checking Rd \usage sections ... OK
* checking Rd contents ... OK
* checking for unstated dependencies in examples ... OK
* checking contents of ‘data’ directory ... OK
* checking data for non-ASCII characters ... OK
* checking data for ASCII and uncompressed saves ... OK
* checking line endings in C/C++/Fortran sources/headers ... OK
* checking compiled code ... NOTE
Note: information on .o files is not available
* checking files in ‘vignettes’ ... OK
* checking examples ... OK
Examples with CPU (user + system) or elapsed time > 5s
                                user system elapsed
IsoformSwitchTestDEXSeq       74.008  0.624  74.745
isoformSwitchAnalysisCombined 64.108  2.645  67.047
importSalmonData              48.404  1.422  65.153
extractSequence               20.901  0.052  20.986
analyzeORF                    20.829  0.057  20.941
extractTopSwitches            19.250  0.054  19.368
prepareSalmonFilesDataFrame   18.880  0.301  31.543
extractSwitchSummary          18.786  0.058  18.922
isoformSwitchAnalysisPart1    17.631  0.083  17.763
analyzeAlternativSplicing     15.582  0.039  15.645
IsoformSwitchTestDRIMSeq      11.183  0.100  11.269
isoformSwitchAnalysisPart2     6.052  0.067   6.138
switchPlot                     6.050  0.023   6.090
extractGenomeWideAnalysis      5.101  0.064   5.173
analyzeIUPred2A                5.105  0.048   5.164
* checking for unstated dependencies in vignettes ... OK
* checking package vignettes in ‘inst/doc’ ... OK
* checking running R code from vignettes ... SKIPPED
* checking re-building of vignette outputs ... SKIPPED
* checking PDF version of manual ... OK
* DONE

Status: 4 NOTEs
See
  ‘/Users/biocbuild/bbs-3.15-bioc/meat/IsoformSwitchAnalyzeR.Rcheck/00check.log’
for details.



Installation output

IsoformSwitchAnalyzeR.Rcheck/00install.out

##############################################################################
##############################################################################
###
### Running command:
###
###   /Library/Frameworks/R.framework/Resources/bin/R CMD INSTALL IsoformSwitchAnalyzeR
###
##############################################################################
##############################################################################


* installing to library ‘/Library/Frameworks/R.framework/Versions/4.2/Resources/library’
* installing *source* package ‘IsoformSwitchAnalyzeR’ ...
** using staged installation
** libs
clang -mmacosx-version-min=10.13 -I"/Library/Frameworks/R.framework/Resources/include" -DNDEBUG   -I/usr/local/include   -fPIC  -Wall -g -O2  -c utils.c -o utils.o
clang -mmacosx-version-min=10.13 -dynamiclib -Wl,-headerpad_max_install_names -undefined dynamic_lookup -single_module -multiply_defined suppress -L/Library/Frameworks/R.framework/Resources/lib -L/usr/local/lib -o IsoformSwitchAnalyzeR.so utils.o -F/Library/Frameworks/R.framework/.. -framework R -Wl,-framework -Wl,CoreFoundation
installing to /Library/Frameworks/R.framework/Versions/4.2/Resources/library/00LOCK-IsoformSwitchAnalyzeR/00new/IsoformSwitchAnalyzeR/libs
** R
** data
** inst
** byte-compile and prepare package for lazy loading
** help
*** installing help indices
** building package indices
** installing vignettes
** testing if installed package can be loaded from temporary location
** checking absolute paths in shared objects and dynamic libraries
** testing if installed package can be loaded from final location
** testing if installed package keeps a record of temporary installation path
* DONE (IsoformSwitchAnalyzeR)

Tests output


Example timings

IsoformSwitchAnalyzeR.Rcheck/IsoformSwitchAnalyzeR-Ex.timings

nameusersystemelapsed
IsoformSwitchTestDEXSeq74.008 0.62474.745
IsoformSwitchTestDRIMSeq11.183 0.10011.269
addORFfromGTF1.4580.0121.472
analyzeAlternativSplicing15.582 0.03915.645
analyzeCPAT0.0980.0060.104
analyzeCPC20.0890.0040.095
analyzeIUPred2A5.1050.0485.164
analyzeNovelIsoformORF1.4180.0081.433
analyzeORF20.829 0.05720.941
analyzePFAM1.0280.0081.038
analyzeSignalP0.2590.0120.274
analyzeSwitchConsequences1.8860.0191.911
expressionAnalysisPlots1.9110.0331.952
extractConsequenceEnrichment1.0880.0101.108
extractConsequenceEnrichmentComparison1.7070.0151.823
extractConsequenceSummary1.5850.0081.601
extractGeneExpression0.0910.0050.096
extractGenomeWideAnalysis5.1010.0645.173
extractGenomeWideSplicingAnalysis4.8260.0604.899
extractSequence20.901 0.05220.986
extractSplicingEnrichment2.3790.0122.396
extractSplicingEnrichmentComparison2.8170.0392.861
extractSplicingSummary2.1050.0142.123
extractSwitchOverlap0.8310.0160.850
extractSwitchSummary18.786 0.05818.922
extractTopSwitches19.250 0.05419.368
getCDS000
importCufflinksGalaxyData0.0010.0000.000
importGTF1.5260.0061.537
importIsoformExpression1.3750.1101.455
importRdata2.9390.0753.002
importSalmonData48.404 1.42265.153
isoformSwitchAnalysisCombined64.108 2.64567.047
isoformSwitchAnalysisPart117.631 0.08317.763
isoformSwitchAnalysisPart26.0520.0676.138
isoformToGeneExp4.0730.1854.247
isoformToIsoformFraction0.4450.0600.480
preFilter0.0450.0030.049
prepareSalmonFilesDataFrame18.880 0.30131.543
subsetSwitchAnalyzeRlist0.0520.0030.055
switchAnalyzeRlist2.9760.0693.027
switchPlot6.0500.0236.090
switchPlotTranscript3.6760.0103.697
testData0.0300.0040.033